Workbook

Sheet Elenco attività ACI
A1: PSS | B1: SEDI ACI - PIANO DI SORVEGLIANZA SANITARIA (PSS) | F1: OFFERTA
A2: Codice | B2: Attività M.C. e M.C.C. | D2: Valore | E2: Unità di misura | F2: Valore | G2: Unità di misura
A3: PSSUF | B3: Gestione del PSS (fino a 20 lav.) | C3: Forfait base (fino a 20 lavoratori) addetti ad attività d'ufficio | D3: 250.22 | E3: Euro/sede/anno | F3: 0 | G3: Euro/sede/anno
C4: n. sedi: 88 | D4: =SUM(D3)*88 -> 22019.36 | E4: Euro/totale/anno | F4: =SUM(F3)*79 -> 0 | G4: Euro/totale/anno
A5: PSSU1 | B5: Gestione del PSS (da 21 a 50 lav.) | C5: Forfait base (da 21 fino a 50 lavoratori) addetti ad attività d'ufficio | D5: =SUM(D3) -> 250.22 | E5: Euro/sede/anno | F5: =SUM($F$3) -> 0 | G5: Euro/sede/anno
C6: n. sedi ACI: 13 | D6: =SUM(D5)*13 -> 3252.86 | E6: Euro/totale/anno | F6: =SUM($F$5)*24 -> 0 | G6: Euro/totale/anno
C7: Maggiorazione per ogni unità da 21 a 50 lavoratori addetti ad attività d'ufficio | D7: 8.47 | E7: Euro/sede/anno | F7: 0 | G7: Euro/sede/anno
C8: 237 | D8: =SUM(D7)*C8 -> 2007.39 | E8: Euro/totale/anno | F8: =SUM($F$7*1)*2 -> 0 | G8: Euro/totale/semestre
C9: Sub totale | D9: =SUM(D8+D6) -> 5260.25 | E9: Euro/totale/anno | F9: =SUM(F8:F8)+F6 -> 0 | G9: Euro/totale/anno
A10: PSSU2 | B10: Gestione del PSS (da 51 fino a 700 lav.) | C10: Forfait base (da 51 a 200 lavoratori) addetti ad attività d'ufficio | D10: 291.76 | E10: Euro/sede/anno | F10: 0 | G10: Euro/sede/anno
C11: n. sedi: 5 | D11: =SUM(D10)*5 -> 1458.8 | E11: Euro/totale/anno | F11: =SUM(F10)*5 -> 0 | G11: Euro/totale/anno
C12: Maggiorazione per ogni unità da 51 a 200 lavoratori addetti ad attività d'ufficio | D12: 9.88 | E12: Euro/lavoratore/anno | F12: 0 | G12: Euro/lavoratore/anno
C13: 234 | D13: =SUM(D12)*C13 -> 2311.92 | E13: Euro/totale/anno | F13: =SUM($F$12*30)*2 -> 0 | G13: Euro/totale/anno
C14: Maggiorazione per ogni unità da 201 a 700 lavoratori addetti ad attività d'ufficio | D14: 6.92 | E14: Euro/lavoratore/anno | F14: 0 | G14: Euro/lavoratore/anno
C15: 360 | D15: =SUM(C15)*D14 -> 2491.2 | E15: Euro/totale/anno | F15: =SUM($F$14*20)*2 -> 0 | G15: Euro/totale/anno
C16: TotalePSSU2 | D16: =SUM(D11+D13+D15) -> 6261.92 | E16: Euro/totale/anno | F16: =SUM(F11+F13+F15) -> 0 | G16: Euro/totale/anno
A17: TOTALE PSS | D17: =SUM(D4+D9+D16) -> 33541.53 | E17: Euro/totale/anno | F17: =SUM(F4+F9+F16) -> 0 | G17: Euro/totale/anno
A18: FCUF | B18: Funzione di coordinamento | C18: Forfait base (fino a 20 lavoratori) addetti ad attività d'ufficio | D18: 125.11 | E18: Euro/anno | F18: 0 | G18: Euro/anno
C19: n. sedi: 88 | D19: =SUM(D18)*88 -> 11009.68 | E19: Euro/totale/annuo | F19: =SUM(F18)*77 -> 0 | G19: Euro/totale/annuo
A20: FCU1 | B20: Funzione di coordinamento (da 21 a 50 lav.) | C20: Forfait base (da 21 fino a 50 lavoratori) addetti ad attività d'ufficio | D20: =SUM(D18) -> 125.11 | E20: Euro/anno | F20: 0 | G20: Euro/anno
C21: n. sedi: 13 | D21: =SUM(D20)*13 -> 1626.43 | E21: Euro/totale/anno | F21: =SUM(F20)*24 -> 0 | G21: Euro/totale/anno
C22: Maggiorazione per ogni unità da 21 a 50 lavoratori addetti ad attività d'ufficio | D22: 5.11 | E22: Euro/lavoratore/anno | F22: 0 | G22: Euro/lavoratore/anno
C23: 237 | D23: =SUM(C23)*D22 -> 1211.07 | E23: Euro/totale/anno | F23: =SUM($F$22*1)*2 -> 0 | G23: Euro/totale/anno
C24: Sub totale | D24: =SUM(D23:D23)+D21 -> 2837.5 | E24: Euro/totale/anno | F24: =SUM(F23:F23)+F19 -> 0 | G24: Euro/totale/anno
A25: FCU2 | B25: Funzione di coordinamento (da 51 a 700 lav.) | C25: Forfait base (da 51 a 200 lavoratori) addetti ad attività d'ufficio | D25: =SUM(D18) -> 125.11 | E25: Euro/anno | F25: =SUM(F18) -> 0 | G25: Euro/anno
C26: n. sedi: 5 | D26: =SUM(D25)*5 -> 625.55 | E26: Euro/totale/anno | F26: =SUM(F25)*5 -> 0 | G26: Euro/totale/anno
C27: Maggiorazione per ogni unità da 51 a 200 lavoratori addetti ad attività d'ufficio | D27: =SUM(D22) -> 5.11 | E27: Euro/lavoratore/anno | F27: 0 | G27: Euro/lavoratore/anno
C28: 234 | D28: =SUM(C28)*D27 -> 1195.74 | E28: Euro/totale/anno | F28: =SUM($F$27*30) -> 0 | G28: Euro/totale/anno
C29: Maggiorazione per ogni unità da 201 a 700 lavoratori addetti ad attività d'ufficio | D29: 3.8 | E29: Euro/lavoratore/anno | F29: 0 | G29: Euro/lavoratore/anno
C30: 360 | D30: =SUM(C30)*D29 -> 1368 | E30: Euro/totale/anno | F30: =SUM($F$29*20)*2 -> 0 | G30: Euro/totale/anno
C31: Totale FCU2 | D31: =SUM(D26+D28+D30) -> 3189.29 | E31: Euro/totale/anno | F31: =SUM(F26+F28+F30) -> 0 | G31: Euro/totale/anno
A32: TOTALE FC | D32: =SUM(D19+D24+D31) -> 17036.47 | E32: Euro/totale/anno | F32: =SUM(F19+F24+F31) -> 0 | G32: Euro/totale/anno
A33: TOTALE GENERALE PSS + FC | D33: =SUM(D17+D32) -> 50578 | E33: Euro/totale/anno | F33: =SUM(F17+F32) -> 0 | G33: Euro/totale/anno
H35: OFFERTA
A36: Codice | B36: Visite ed esami | D36: Valore | E36: Unità di misura | F36: Numero medio presunto di prestazioni richieste nell'anno | G36: Importo complessivo | H36: Valore | I36: Unità di misura | J36: Importo complessivo
A37: VM01 | B37: Visite mediche con giudizio di idoneità e cartella sanitaria | C37: Visita medica (periodica, su richiesta del lavoratore, in occasione di cambio di mansione, in occasione di cessazione del rapporto di lavoro, preventiva in fase preassuntiva, precedente alla ripresa del lavoro) | D37: 52.47 | E37: Euro/visita | F37: =SUM(('[1]determ. costi visite'!V2249)+('[1]determ. costi visite'!W2249))/2 -> 1056 | G37: =SUM(F37)*D37 -> 55408.32 | H37: 0 | I37: Euro/visita | J37: =SUM($F$37)*H37 -> 0
A38: ES01 | B38: Esami specialistici | C38: Visita ergoftalmologica (ergovision) | D38: 17.55 | E38: Euro/visita | F38: =SUM(('[1]determ. costi visite'!V2249)+('[1]determ. costi visite'!W2249))/2 -> 1056 | G38: =SUM(F38)*D38 -> 18532.8 | H38: 0 | I38: Euro/visita | J38: =SUM($F$38)*H38 -> 0
A39: Sub totale | G39: =SUM(G37:G38) -> 73941.12 | J39: =SUM(J37:J38) -> 0
A40: Oneri della sicurezza non previsti trattandosi di prestazione assimilabile all'intellettuale | G40: 0 | J40: =SUM($K$40) -> 0
A41: TOTALE VISITE | G41: =SUM(G39+G40) -> 73941.12 | J41: =SUM(J39+J40) -> 0 | K41: =SUM(D33)+G41 -> 124519.12 | L41: totale annuo presunto
...

Sheet Costi servizio ACI
A1: N. | C1: Area geograf. | D1: Area/Direzione | E1: Regione | F1: Città | G1: N. lav. PRA | H1: Dir. A.C. | I1: N. lav. totali | J1: PRA fino a 20 lav. | K1: da 21 a 50 lav. | L1: da 51 a 700 lav. | M1: Costo base PSSUF fino a 20 lav. | N1: Delta da 21 a 50 | O1: Magg.ne costo un. base PSSU1 da 21 a 50 lav. | P1: Totale Magg.ne da 21 a 50 | Q1: Delta da 51 a 200 lav. | R1: Magg.ne costo un. base PSSU2 da 51 a 200 lav. | S1: Totale Magg.ne da 51 a 200 | T1: Delta da 200 a 700 lav. | U1: Magg.ne costo un. base PSSU2 da 201 a 700 lav. | V1: Totale Magg.ne da 201 a 700 lav. | W1: Totale PSS annuo | X1: Costo base FCUF fino a 20 lav. | Y1: Magg.ne costo un. base FCU1 da 21 a 50 lav. | Z1: Totale Magg.ne da 21 a 50 | AA1: Magg.ne costo un. base FCU2 da 51 a 200 lav. | AB1: Totale Magg.ne da 51 a 200 | AC1: Magg.ne costo un. base FCU2 da 201 a 700 lav. | AD1: Totale Magg.ne da 201 a 700 lav. | AE1: Totale FC annuo | AF1: Totale PSS + FC annuo | AG1: Totale PSS + FC biennio | AH1: N. visite prev. biennio | AI1: Totale VMG e VMS biennio | AJ1: Totale VE biennio | AK1: Totale VMG+VMS+VE biennio | AL1: Totale biennio | AM1: 2 | AN1: =SUM('[1]Elenco attività ACI'!D37) -> 52.47 | AO1: =SUM('[1]Elenco attività ACI'!D38) -> 17.55 | AP1: =SUM(AN1:AO1) -> 70.02
A2: 1 | B2: 1 | C2: Nord | D2: Brescia Uff. PRA Dir. T. | E2: Lombardia | F2: Bergamo | G2: =SUM('[1]determ. costi visite'!AB128:AB146) -> 19 | H2: =SUM('[1]determ. costi visite'!V851) -> 1 | I2: =SUM(G2+H2) -> 20 | J2: 1 | K2: NO | M2: =SUM('Elenco attività ACI'!D3) -> 250.22 | O2: =SUM('Elenco attività ACI'!D7) -> 8.47 | P2: =SUM(N2*O2) -> 0 | R2: =SUM('Elenco attività ACI'!D12) -> 9.88 | S2: =SUM(Q2*R2) -> 0 | U2: =SUM('Elenco attività ACI'!D14) -> 6.92 | V2: =SUM(T2)*U2 -> 0 | W2: =SUM(M2+P2+S2+V2) -> 250.22 | X2: =SUM('Elenco attività ACI'!D18) -> 125.11 | Y2: =SUM('Elenco attività ACI'!D22) -> 5.11 | Z2: =SUM(N2*Y2) -> 0 | AA2: =SUM('Elenco attività ACI'!D27) -> 5.11 | AB2: =SUM(Q2*AA2) -> 0 | AC2: =SUM('Elenco attività ACI'!D29) -> 3.8 | AD2: =SUM(T2)*AC2 -> 0 | AE2: =SUM(X2+Z2+AB2+AD2) -> 125.11 | AF2: =SUM(W2+AE2) -> 375.33 | AG2: =SUM(AF2)*$AM$1 -> 750.66 | AH2: =SUM('[1]Costi misura'!Q2:Q3) -> 20 | AI2: =SUM(AH2)*$AN$1 -> 1049.4 | AJ2: =SUM(AH2)*$AO$1 -> 351 | AK2: =SUM(AI2+AJ2) -> 1400.4 | AL2: =SUM(AG2+AK2) -> 2151.06
A3: =SUM(A2+1) -> 2 | B3: 1 | C3: Nord | D3: Brescia Uff. PRA Dir. T. | E3: Lombardia | F3: Brescia (D.T.) | G3: =SUM('[1]determ. costi visite'!AB216:AB245) -> 30 | H3: =SUM('[1]determ. costi visite'!T857) -> 1 | I3: =SUM(G3+H3) -> 31 | J3: NO | K3: 1 | M3: =SUM('Elenco attività ACI'!$D$3) -> 250.22 | N3: 11 | O3: =SUM('Elenco attività ACI'!$D$7) -> 8.47 | P3: =SUM(N3*O3) -> 93.17 | R3: =SUM('Elenco attività ACI'!$D$12) -> 9.88 | S3: =SUM(Q3*R3) -> 0 | U3: =SUM('Elenco attività ACI'!$D$14) -> 6.92 | V3: =SUM(T3)*U3 -> 0 | W3: =SUM(M3+P3+S3+V3) -> 343.39 | X3: =SUM('Elenco attività ACI'!$D$18) -> 125.11 | Y3: =SUM('Elenco attività ACI'!$D$22) -> 5.11 | Z3: =SUM(N3*Y3) -> 56.21 | AA3: =SUM('Elenco attività ACI'!$D$27) -> 5.11 | AB3: =SUM(Q3*AA3) -> 0 | AC3: =SUM('Elenco attività ACI'!$D$29) -> 3.8 | AD3: =SUM(T3)*AC3 -> 0 | AE3: =SUM(X3+Z3+AB3+AD2) -> 181.32 | AF3: =SUM(W3+AE3) -> 524.71 | AG3: =SUM(AF3)*$AM$1 -> 1049.42 | AH3: =SUM('[1]Costi misura'!Q4:Q5) -> 31 | AI3: =SUM(AH3)*$AN$1 -> 1626.57 | AJ3: =SUM(AH3)*$AO$1 -> 544.05 | AK3: =SUM(AI3+AJ3) -> 2170.62 | AL3: =SUM(AG3+AK3) -> 3220.04
A4: =SUM(A3)+1 -> 3 | B4: 1 | C4: Nord | D4: Brescia Uff. PRA Dir. T. | E4: Lombardia | F4: Cremona | G4: =SUM('[1]determ. costi visite'!AB357:AB366) -> 10 | H4: =SUM('[1]determ. costi visite'!T866) -> 1 | I4: =SUM(G4+H4) -> 11 | J4: 1 | K4: NO | M4: =SUM('Elenco attività ACI'!$D$3) -> 250.22 | O4: =SUM('Elenco attività ACI'!$D$7) -> 8.47 | P4: =SUM(N4*O4) -> 0 | R4: =SUM('Elenco attività ACI'!$D$12) -> 9.88 | S4: =SUM(Q4*R4) -> 0 | U4: =SUM('Elenco attività ACI'!$D$14) -> 6.92 | V4: =SUM(T4)*U4 -> 0 | W4: =SUM(M4+P4+S4+V4) -> 250.22 | X4: =SUM('Elenco attività ACI'!$D$18) -> 125.11 | Y4: =SUM('Elenco attività ACI'!$D$22) -> 5.11 | Z4: =SUM(N4*Y4) -> 0 | AA4: =SUM('Elenco attività ACI'!$D$27) -> 5.11 | AB4: =SUM(Q4*AA4) -> 0 | AC4: =SUM('Elenco attività ACI'!$D$29) -> 3.8 | AD4: =SUM(T4)*AC4 -> 0 | AE4: =SUM(X4+Z4+AB4+AD3) -> 125.11 | AF4: =SUM(W4+AE4) -> 375.33 | AG4: =SUM(AF4)*$AM$1 -> 750.66 | AH4: =SUM('[1]Costi misura'!Q6:Q7) -> 11 | AI4: =SUM(AH4)*$AN$1 -> 577.17 | AJ4: =SUM(AH4)*$AO$1 -> 193.05 | AK4: =SUM(AI4+AJ4) -> 770.22 | AL4: =SUM(AG4+AK4) -> 1520.88
A5: =SUM(A4)+1 -> 4 | B5: 1 | C5: Nord | D5: Brescia Uff. PRA Dir. T. | E5: Lombardia | F5: Mantova | G5: =SUM('[1]determ. costi visite'!AB747:AB757) -> 11 | H5: =SUM('[1]determ. costi visite'!T887) -> 1 | I5: =SUM(G5+H5) -> 12 | J5: 1 | K5: NO | M5: =SUM('Elenco attività ACI'!$D$3) -> 250.22 | O5: =SUM('Elenco attività ACI'!$D$7) -> 8.47 | P5: =SUM(N5*O5) -> 0 | R5: =SUM('Elenco attività ACI'!$D$12) -> 9.88 | S5: =SUM(Q5*R5) -> 0 | U5: =SUM('Elenco attività ACI'!$D$14) -> 6.92 | V5: =SUM(T5)*U5 -> 0 | W5: =SUM(M5+P5+S5+V5) -> 250.22 | X5: =SUM('Elenco attività ACI'!$D$18) -> 125.11 | Y5: =SUM('Elenco attività ACI'!$D$22) -> 5.11 | Z5: =SUM(N5*Y5) -> 0 | AA5: =SUM('Elenco attività ACI'!$D$27) -> 5.11 | AB5: =SUM(Q5*AA5) -> 0 | AC5: =SUM('Elenco attività ACI'!$D$29) -> 3.8 | AD5: =SUM(T5)*AC5 -> 0 | AE5: =SUM(X5+Z5+AB5+AD4) -> 125.11 | AF5: =SUM(W5+AE5) -> 375.33 | AG5: =SUM(AF5)*$AM$1 -> 750.66 | AH5: =SUM('[1]Costi misura'!Q8:Q9) -> 12 | AI5: =SUM(AH5)*$AN$1 -> 629.64 | AJ5: =SUM(AH5)*$AO$1 -> 210.6 | AK5: =SUM(AI5+AJ5) -> 840.24 | AL5: =SUM(AG5+AK5) -> 1590.9
A6: =SUM(A5)+1 -> 5 | B6: 1 | C6: Nord | D6: Genova Uff. PRA Dir. T. | E6: Liguria | F6: Genova (D.T.) | G6: =SUM('[1]determ. costi visite'!AB509:AB529) -> 21 | H6: =SUM('[1]determ. costi visite'!T876) -> 1 | I6: =SUM(G6+H6) -> 22 | J6: NO | K6: 1 | M6: =SUM('Elenco attività ACI'!$D$3) -> 250.22 | N6: 2 | O6: =SUM('Elenco attività ACI'!$D$7) -> 8.47 | P6: =SUM(N6*O6) -> 16.94 | R6: =SUM('Elenco attività ACI'!$D$12) -> 9.88 | S6: =SUM(Q6*R6) -> 0 | U6: =SUM('Elenco attività ACI'!$D$14) -> 6.92 | V6: =SUM(T6)*U6 -> 0 | W6: =SUM(M6+P6+S6+V6) -> 267.16 | X6: =SUM('Elenco attività ACI'!$D$18) -> 125.11 | Y6: =SUM('Elenco attività ACI'!$D$22) -> 5.11 | Z6: =SUM(N6*Y6) -> 10.22 | AA6: =SUM('Elenco attività ACI'!$D$27) -> 5.11 | AB6: =SUM(Q6*AA6) -> 0 | AC6: =SUM('Elenco attività ACI'!$D$29) -> 3.8 | AD6: =SUM(T6)*AC6 -> 0 | AE6: =SUM(X6+Z6+AB6+AD5) -> 135.33 | AF6: =SUM(W6+AE6) -> 402.49 | AG6: =SUM(AF6)*$AM$1 -> 804.98 | AH6: =SUM('[1]Costi misura'!Q10:Q11) -> 21 | AI6: =SUM(AH6)*$AN$1 -> 1101.87 | AJ6: =SUM(AH6)*$AO$1 -> 368.55 | AK6: =SUM(AI6+AJ6) -> 1470.42 | AL6: =SUM(AG6+AK6) -> 2275.4
A7: =SUM(A6)+1 -> 6 | B7: 1 | C7: Nord | D7: Genova Uff. PRA Dir. T. | E7: Liguria | F7: Imperia | G7: =SUM('[1]determ. costi visite'!AB544:AB553) -> 10 | H7: =SUM('[1]determ. costi visite'!T903) -> 1 | I7: =SUM(G7+H7) -> 11 | J7: 1 | K7: NO | M7: =SUM('Elenco attività ACI'!$D$3) -> 250.22 | O7: =SUM('Elenco attività ACI'!$D$7) -> 8.47 | P7: =SUM(N7*O7) -> 0 | R7: =SUM('Elenco attività ACI'!$D$12) -> 9.88 | S7: =SUM(Q7*R7) -> 0 | U7: =SUM('Elenco attività ACI'!$D$14) -> 6.92 | V7: =SUM(T7)*U7 -> 0 | W7: =SUM(M7+P7+S7+V7) -> 250.22 | X7: =SUM('Elenco attività ACI'!$D$18) -> 125.11 | Y7: =SUM('Elenco attività ACI'!$D$22) -> 5.11 | Z7: =SUM(N7*Y7) -> 0 | AA7: =SUM('Elenco attività ACI'!$D$27) -> 5.11 | AB7: =SUM(Q7*AA7) -> 0 | AC7: =SUM('Elenco attività ACI'!$D$29) -> 3.8 | AD7: =SUM(T7)*AC7 -> 0 | AE7: =SUM(X7+Z7+AB7+AD6) -> 125.11 | AF7: =SUM(W7+AE7) -> 375.33 | AG7: =SUM(AF7)*$AM$1 -> 750.66 | AH7: =SUM('[1]Costi misura'!Q12:Q13) -> 11 | AI7: =SUM(AH7)*$AN$1 -> 577.17 | AJ7: =SUM(AH7)*$AO$1 -> 193.05 | AK7: =SUM(AI7+AJ7) -> 770.22 | AL7: =SUM(AG7+AK7) -> 1520.88
A8: =SUM(A7)+1 -> 7 | B8: 1 | C8: Nord | D8: Genova Uff. PRA Dir. T. | E8: Liguria | F8: La Spezia | G8: =SUM('[1]determ. costi visite'!AB1948:AB1954) -> 7 | H8: =SUM('[1]determ. costi visite'!T919) -> 1 | I8: =SUM(G8+H8) -> 8 | J8: 1 | K8: NO | M8: =SUM('Elenco attività ACI'!$D$3) -> 250.22 | O8: =SUM('Elenco attività ACI'!$D$7) -> 8.47 | P8: =SUM(N8*O8) -> 0 | R8: =SUM('Elenco attività ACI'!$D$12) -> 9.88 | S8: =SUM(Q8*R8) -> 0 | U8: =SUM('Elenco attività ACI'!$D$14) -> 6.92 | V8: =SUM(T8)*U8 -> 0 | W8: =SUM(M8+P8+S8+V8) -> 250.22 | X8: =SUM('Elenco attività ACI'!$D$18) -> 125.11 | Y8: =SUM('Elenco attività ACI'!$D$22) -> 5.11 | Z8: =SUM(N8*Y8) -> 0 | AA8: =SUM('Elenco attività ACI'!$D$27) -> 5.11 | AB8: =SUM(Q8*AA8) -> 0 | AC8: =SUM('Elenco attività ACI'!$D$29) -> 3.8 | AD8: =SUM(T8)*AC8 -> 0 | AE8: =SUM(X8+Z8+AB8+AD7) -> 125.11 | AF8: =SUM(W8+AE8) -> 375.33 | AG8: =SUM(AF8)*$AM$1 -> 750.66 | AH8: =SUM('[1]Costi misura'!Q14:Q15) -> 6 | AI8: =SUM(AH8)*$AN$1 -> 314.82 | AJ8: =SUM(AH8)*$AO$1 -> 105.3 | AK8: =SUM(AI8+AJ8) -> 420.12 | AL8: =SUM(AG8+AK8) -> 1170.78
A9: =SUM(A8)+1 -> 8 | B9: 1 | C9: Nord | D9: Genova Uff. PRA Dir. T. | E9: Liguria | F9: Savona | G9: =SUM('[1]determ. costi visite'!AB1978:AB1984) -> 7 | I9: =SUM(G9+H9) -> 7 | J9: 1 | K9: NO | M9: =SUM('Elenco attività ACI'!$D$3) -> 250.22 | O9: =SUM('Elenco attività ACI'!$D$7) -> 8.47 | P9: =SUM(N9*O9) -> 0 | R9: =SUM('Elenco attività ACI'!$D$12) -> 9.88 | S9: =SUM(Q9*R9) -> 0 | U9: =SUM('Elenco attività ACI'!$D$14) -> 6.92 | V9: =SUM(T9)*U9 -> 0 | W9: =SUM(M9+P9+S9+V9) -> 250.22 | X9: =SUM('Elenco attività ACI'!$D$18) -> 125.11 | Y9: =SUM('Elenco attività ACI'!$D$22) -> 5.11 | Z9: =SUM(N9*Y9) -> 0 | AA9: =SUM('Elenco attività ACI'!$D$27) -> 5.11 | AB9: =SUM(Q9*AA9) -> 0 | AC9: =SUM('Elenco attività ACI'!$D$29) -> 3.8 | AD9: =SUM(T9)*AC9 -> 0 | AE9: =SUM(X9+Z9+AB9+AD8) -> 125.11 | AF9: =SUM(W9+AE9) -> 375.33 | AG9: =SUM(AF9)*$AM$1 -> 750.66 | AH9: =SUM('[1]Costi misura'!Q16) -> 6 | AI9: =SUM(AH9)*$AN$1 -> 314.82 | AJ9: =SUM(AH9)*$AO$1 -> 105.3 | AK9: =SUM(AI9+AJ9) -> 420.12 | AL9: =SUM(AG9+AK9) -> 1170.78
A10: =SUM(A9)+1 -> 9 | B10: 1 | C10: Nord | D10: Milano Uff. PRA Area M. | E10: Lombardia | F10: Lodi | G10: =SUM('[1]determ. costi visite'!AB608:AB617) -> 10 | I10: =SUM(G10:H10) -> 10 | J10: 1 | K10: NO | M10: =SUM('Elenco attività ACI'!$D$3) -> 250.22 | O10: =SUM('Elenco attività ACI'!$D$7) -> 8.47 | P10: =SUM(N10*O10) -> 0 | R10: =SUM('Elenco attività ACI'!$D$12) -> 9.88 | S10: =SUM(Q10*R10) -> 0 | U10: =SUM('Elenco attività ACI'!$D$14) -> 6.92 | V10: =SUM(T10)*U10 -> 0 | W10: =SUM(M10+P10+S10+V10) -> 250.22 | X10: =SUM('Elenco attività ACI'!$D$18) -> 125.11 | Y10: =SUM('Elenco attività ACI'!$D$22) -> 5.11 | Z10: =SUM(N10*Y10) -> 0 | AA10: =SUM('Elenco attività ACI'!$D$27) -> 5.11 | AB10: =SUM(Q10*AA10) -> 0 | AC10: =SUM('Elenco attività ACI'!$D$29) -> 3.8 | AD10: =SUM(T10)*AC10 -> 0 | AE10: =SUM(X10+Z10+AB10+AD9) -> 125.11 | AF10: =SUM(W10+AE10) -> 375.33 | AG10: =SUM(AF10)*$AM$1 -> 750.66 | AH10: =SUM('[1]Costi misura'!Q17) -> 8 | AI10: =SUM(AH10)*$AN$1 -> 419.76 | AJ10: =SUM(AH10)*$AO$1 -> 140.4 | AK10: =SUM(AI10+AJ10) -> 560.16 | AL10: =SUM(AG10+AK10) -> 1310.82
A11: =SUM(A10+1) -> 10 | B11: 1 | C11: Nord | D11: Milano Uff. PRA Area M. | E11: Lombardia | F11: Milano (A.M.) | G11: =SUM('[1]determ. costi visite'!AB654:AB732) -> 79 | H11: 1 | I11: =SUM(G11:H11) -> 80 | J11: NO | K11: NO | L11: 1 | M11: =SUM('Elenco attività ACI'!$D$3) -> 250.22 | N11: 30 | O11: =SUM('Elenco attività ACI'!$D$7) -> 8.47 | P11: =SUM(N11*O11) -> 254.1 | Q11: 30 | R11: =SUM('Elenco attività ACI'!$D$12) -> 9.88 | S11: =SUM(Q11*R11) -> 296.4 | U11: =SUM('Elenco attività ACI'!$D$14) -> 6.92 | V11: =SUM(T11)*U11 -> 0 | W11: =SUM(M11+P11+S11+V11) -> 800.72 | X11: =SUM('Elenco attività ACI'!$D$18) -> 125.11 | Y11: =SUM('Elenco attività ACI'!$D$22) -> 5.11 | Z11: =SUM(N11*Y11) -> 153.3 | AA11: =SUM('Elenco attività ACI'!$D$27) -> 5.11 | AB11: =SUM(Q11*AA11) -> 153.3 | AC11: =SUM('Elenco attività ACI'!$D$29) -> 3.8 | AD11: =SUM(T11)*AC11 -> 0 | AE11: =SUM(X11+Z11+AB11+AD10) -> 431.71 | AF11: =SUM(W11+AE11) -> 1232.43 | AG11: =SUM(AF11)*$AM$1 -> 2464.86 | AH11: =SUM('[1]Costi misura'!Q18:Q19) -> 79 | AI11: =SUM(AH11)*$AN$1 -> 4145.13 | AJ11: =SUM(AH11)*$AO$1 -> 1386.45 | AK11: =SUM(AI11+AJ11) -> 5531.58 | AL11: =SUM(AG11+AK11) -> 7996.44
A12: =SUM(A11+1) -> 11 | B12: 1 | C12: Nord | D12: Milano Uff. PRA Area M. | E12: Lombardia | F12: Pavia | G12: =SUM('[1]determ. costi visite'!AB1147:AB1163) -> 17 | H12: =SUM('[1]determ. costi visite'!T907) -> 1 | I12: =SUM(G12:H12) -> 18 | J12: 1 | K12: NO | M12: =SUM('Elenco attività ACI'!D10) -> 291.76 | O12: =SUM('Elenco attività ACI'!$D$7) -> 8.47 | P12: =SUM(N12*O12) -> 0 | R12: =SUM('Elenco attività ACI'!$D$12) -> 9.88 | S12: =SUM(Q12*R12) -> 0 | U12: =SUM('Elenco attività ACI'!$D$14) -> 6.92 | V12: =SUM(T12)*U12 -> 0 | W12: =SUM(M12+P12+S12+V12) -> 291.76 | X12: =SUM('Elenco attività ACI'!$D$18) -> 125.11 | Y12: =SUM('Elenco attività ACI'!$D$22) -> 5.11 | Z12: =SUM(N12*Y12) -> 0 | AA12: =SUM('Elenco attività ACI'!$D$27) -> 5.11 | AB12: =SUM(Q12*AA12) -> 0 | AC12: =SUM('Elenco attività ACI'!$D$29) -> 3.8 | AD12: =SUM(T12)*AC12 -> 0 | AE12: =SUM(X12+Z12+AB12+AD11) -> 125.11 | AF12: =SUM(W12+AE12) -> 416.87 | AG12: =SUM(AF12)*$AM$1 -> 833.74 | AH12: =SUM('[1]Costi misura'!Q20:Q21) -> 17 | AI12: =SUM(AH12)*$AN$1 -> 891.99 | AJ12: =SUM(AH12)*$AO$1 -> 298.35 | AK12: =SUM(AI12+AJ12) -> 1190.34 | AL12: =SUM(AG12+AK12) -> 2024.08
A13: =SUM(A12)+1 -> 12 | B13: 1 | C13: Nord | D13: Torino Uff. PRA Area M. | E13: Piemonte | F13: Alessandria | G13: =SUM('[1]determ. costi visite'!AB12:AB22) -> 11 | H13: =SUM('[1]determ. costi visite'!T843) -> 1 | I13: =SUM(G13:H13) -> 12 | J13: 1 | K13: NO | M13: =SUM('Elenco attività ACI'!$D$3) -> 250.22 | O13: =SUM('Elenco attività ACI'!$D$7) -> 8.47 | P13: =SUM(N13*O13) -> 0 | R13: =SUM('Elenco attività ACI'!$D$12) -> 9.88 | S13: =SUM(Q13*R13) -> 0 | U13: =SUM('Elenco attività ACI'!$D$14) -> 6.92 | V13: =SUM(T13)*U13 -> 0 | W13: =SUM(M13+P13+S13+V13) -> 250.22 | X13: =SUM('Elenco attività ACI'!$D$18) -> 125.11 | Y13: =SUM('Elenco attività ACI'!$D$22) -> 5.11 | Z13: =SUM(N13*Y13) -> 0 | AA13: =SUM('Elenco attività ACI'!$D$27) -> 5.11 | AB13: =SUM(Q13*AA13) -> 0 | AC13: =SUM('Elenco attività ACI'!$D$29) -> 3.8 | AD13: =SUM(T13)*AC13 -> 0 | AE13: =SUM(X13+Z13+AB13+AD12) -> 125.11 | AF13: =SUM(W13+AE13) -> 375.33 | AG13: =SUM(AF13)*$AM$1 -> 750.66 | AH13: =SUM('[1]Costi misura'!Q22:Q23) -> 12 | AI13: =SUM(AH13)*$AN$1 -> 629.64 | AJ13: =SUM(AH13)*$AO$1 -> 210.6 | AK13: =SUM(AI13+AJ13) -> 840.24 | AL13: =SUM(AG13+AK13) -> 1590.9
A14: =SUM(A13)+1 -> 13 | B14: 1 | C14: Nord | D14: Torino Uff. PRA Area M. | E14: Piemonte | F14: Asti | G14: =SUM('[1]determ. costi visite'!AB68:AB75) -> 8 | I14: =SUM(G14:H14) -> 8 | J14: 1 | K14: NO | M14: =SUM('Elenco attività ACI'!$D$3) -> 250.22 | O14: =SUM('Elenco attività ACI'!$D$7) -> 8.47 | P14: =SUM(N14*O14) -> 0 | R14: =SUM('Elenco attività ACI'!$D$12) -> 9.88 | S14: =SUM(Q14*R14) -> 0 | U14: =SUM('Elenco attività ACI'!$D$14) -> 6.92 | V14: =SUM(T14)*U14 -> 0 | W14: =SUM(M14+P14+S14+V14) -> 250.22 | X14: =SUM('Elenco attività ACI'!$D$18) -> 125.11 | Y14: =SUM('Elenco attività ACI'!$D$22) -> 5.11 | Z14: =SUM(N14*Y14) -> 0 | AA14: =SUM('Elenco attività ACI'!$D$27) -> 5.11 | AB14: =SUM(Q14*AA14) -> 0 | AC14: =SUM('Elenco attività ACI'!$D$29) -> 3.8 | AD14: =SUM(T14)*AC14 -> 0 | AE14: =SUM(X14+Z14+AB14+AD13) -> 125.11 | AF14: =SUM(W14+AE14) -> 375.33 | AG14: =SUM(AF14)*$AM$1 -> 750.66 | AH14: =SUM('[1]Costi misura'!Q24) -> 7 | AI14: =SUM(AH14)*$AN$1 -> 367.29 | AJ14: =SUM(AH14)*$AO$1 -> 122.85 | AK14: =SUM(AI14+AJ14) -> 490.14 | AL14: =SUM(AG14+AK14) -> 1240.8
A15: =SUM(A14)+1 -> 14 | B15: 1 | C15: Nord | D15: Torino Uff. PRA Area M. | E15: Piemonte | F15: Biella | G15: =SUM('[1]determ. costi visite'!AB147:AB154) -> 8 | I15: =SUM(G15:H15) -> 8 | J15: 1 | K15: NO | M15: =SUM('Elenco attività ACI'!$D$3) -> 250.22 | O15: =SUM('Elenco attività ACI'!$D$7) -> 8.47 | P15: =SUM(N15*O15) -> 0 | R15: =SUM('Elenco attività ACI'!$D$12) -> 9.88 | S15: =SUM(Q15*R15) -> 0 | U15: =SUM('Elenco attività ACI'!$D$14) -> 6.92 | V15: =SUM(T15)*U15 -> 0 | W15: =SUM(M15+P15+S15+V15) -> 250.22 | X15: =SUM('Elenco attività ACI'!$D$18) -> 125.11 | Y15: =SUM('Elenco attività ACI'!$D$22) -> 5.11 | Z15: =SUM(N15*Y15) -> 0 | AA15: =SUM('Elenco attività ACI'!$D$27) -> 5.11 | AB15: =SUM(Q15*AA15) -> 0 | AC15: =SUM('Elenco attività ACI'!$D$29) -> 3.8 | AD15: =SUM(T15)*AC15 -> 0 | AE15: =SUM(X15+Z15+AB15+AD14) -> 125.11 | AF15: =SUM(W15+AE15) -> 375.33 | AG15: =SUM(AF15)*$AM$1 -> 750.66 | AH15: =SUM('[1]Costi misura'!Q25:Q26) -> 8 | AI15: =SUM(AH15)*$AN$1 -> 419.76 | AJ15: =SUM(AH15)*$AO$1 -> 140.4 | AK15: =SUM(AI15+AJ15) -> 560.16 | AL15: =SUM(AG15+AK15) -> 1310.82
A16: =SUM(A15)+1 -> 15 | B16: 1 | C16: Nord | D16: Torino Uff. PRA Area M. | E16: Piemonte | F16: Cuneo | G16: =SUM('[1]determ. costi visite'!AB330:AB344) -> 15 | H16: =SUM('[1]determ. costi visite'!T864) -> 1 | I16: =SUM(G16:H16) -> 16 | J16: 1 | K16: NO | M16: =SUM('Elenco attività ACI'!$D$3) -> 250.22 | O16: =SUM('Elenco attività ACI'!$D$7) -> 8.47 | P16: =SUM(N16*O16) -> 0 | R16: =SUM('Elenco attività ACI'!$D$12) -> 9.88 | S16: =SUM(Q16*R16) -> 0 | U16: =SUM('Elenco attività ACI'!$D$14) -> 6.92 | V16: =SUM(T16)*U16 -> 0 | W16: =SUM(M16+P16+S16+V16) -> 250.22 | X16: =SUM('Elenco attività ACI'!$D$18) -> 125.11 | Y16: =SUM('Elenco attività ACI'!$D$22) -> 5.11 | Z16: =SUM(N16*Y16) -> 0 | AA16: =SUM('Elenco attività ACI'!$D$27) -> 5.11 | AB16: =SUM(Q16*AA16) -> 0 | AC16: =SUM('Elenco attività ACI'!$D$29) -> 3.8 | AD16: =SUM(T16)*AC16 -> 0 | AE16: =SUM(X16+Z16+AB16+AD15) -> 125.11 | AF16: =SUM(W16+AE16) -> 375.33 | AG16: =SUM(AF16)*$AM$1 -> 750.66 | AH16: =SUM('[1]Costi misura'!Q27:Q28) -> 15 | AI16: =SUM(AH16)*$AN$1 -> 787.05 | AJ16: =SUM(AH16)*$AO$1 -> 263.25 | AK16: =SUM(AI16+AJ16) -> 1050.3 | AL16: =SUM(AG16+AK16) -> 1800.96
A17: =SUM(A16)+1 -> 16 | B17: 1 | C17: Nord | D17: Torino Uff. PRA Area M. | E17: Piemonte | F17: Novara | G17: =SUM('[1]determ. costi visite'!AB939:AB949) -> 11 | H17: =SUM('[1]determ. costi visite'!T892) -> 1 | I17: =SUM(G17:H17) -> 12 | J17: 1 | K17: NO | M17: =SUM('Elenco attività ACI'!$D$3) -> 250.22 | O17: =SUM('Elenco attività ACI'!$D$7) -> 8.47 | P17: =SUM(N17*O17) -> 0 | R17: =SUM('Elenco attività ACI'!$D$12) -> 9.88 | S17: =SUM(Q17*R17) -> 0 | U17: =SUM('Elenco attività ACI'!$D$14) -> 6.92 | V17: =SUM(T17)*U17 -> 0 | W17: =SUM(M17+P17+S17+V17) -> 250.22 | X17: =SUM('Elenco attività ACI'!$D$18) -> 125.11 | Y17: =SUM('Elenco attività ACI'!$D$22) -> 5.11 | Z17: =SUM(N17*Y17) -> 0 | AA17: =SUM('Elenco attività ACI'!$D$27) -> 5.11 | AB17: =SUM(Q17*AA17) -> 0 | AC17: =SUM('Elenco attività ACI'!$D$29) -> 3.8 | AD17: =SUM(T17)*AC17 -> 0 | AE17: =SUM(X17+Z17+AB17+AD16) -> 125.11 | AF17: =SUM(W17+AE17) -> 375.33 | AG17: =SUM(AF17)*$AM$1 -> 750.66 | AH17: =SUM('[1]Costi misura'!Q29:Q30) -> 12 | AI17: =SUM(AH17)*$AN$1 -> 629.64 | AJ17: =SUM(AH17)*$AO$1 -> 210.6 | AK17: =SUM(AI17+AJ17) -> 840.24 | AL17: =SUM(AG17+AK17) -> 1590.9
A18: =SUM(A17)+1 -> 17 | B18: 1 | C18: Nord | D18: Torino Uff. PRA Area M. | E18: Piemonte | F18: Torino (A.M.) | G18: =SUM('[1]determ. costi visite'!AB2017:AB2073) -> 57 | H18: =SUM('[1]determ. costi visite'!T925) -> 1 | I18: =SUM(G18:H18) -> 58 | J18: NO | K18: NO | L18: 1 | M18: =SUM('Elenco attività ACI'!$D$3) -> 250.22 | N18: 30 | O18: =SUM('Elenco attività ACI'!$D$7) -> 8.47 | P18: =SUM(N18*O18) -> 254.1 | Q18: 8 | R18: =SUM('Elenco attività ACI'!$D$12) -> 9.88 | S18: =SUM(Q18*R18) -> 79.04 | U18: =SUM('Elenco attività ACI'!$D$14) -> 6.92 | V18: =SUM(T18)*U18 -> 0 | W18: =SUM(M18+P18+S18+V18) -> 583.36 | X18: =SUM('Elenco attività ACI'!$D$18) -> 125.11 | Y18: =SUM('Elenco attività ACI'!$D$22) -> 5.11 | Z18: =SUM(N18*Y18) -> 153.3 | AA18: =SUM('Elenco attività ACI'!$D$27) -> 5.11 | AB18: =SUM(Q18*AA18) -> 40.88 | AC18: =SUM('Elenco attività ACI'!$D$29) -> 3.8 | AD18: =SUM(T18)*AC18 -> 0 | AE18: =SUM(X18+Z18+AB18+AD17) -> 319.29 | AF18: =SUM(W18+AE18) -> 902.65 | AG18: =SUM(AF18)*$AM$1 -> 1805.3 | AH18: =SUM('[1]Costi misura'!Q31:Q32) -> 58 | AI18: =SUM(AH18)*$AN$1 -> 3043.26 | AJ18: =SUM(AH18)*$AO$1 -> 1017.9 | AK18: =SUM(AI18+AJ18) -> 4061.16 | AL18: =SUM(AG18+AK18) -> 5866.46
A19: =SUM(A18)+1 -> 18 | B19: 1 | C19: Nord | D19: Torino Uff. PRA Area M. | E19: Piemonte | F19: Verbania | G19: =SUM('[1]determ. costi visite'!AB2156:AB2161) -> 6 | I19: =SUM(G19:H19) -> 6 | J19: 1 | K19: NO | M19: =SUM('Elenco attività ACI'!D10) -> 291.76 | O19: =SUM('Elenco attività ACI'!$D$7) -> 8.47 | P19: =SUM(N19*O19) -> 0 | R19: =SUM('Elenco attività ACI'!$D$12) -> 9.88 | S19: =SUM(Q19*R19) -> 0 | U19: =SUM('Elenco attività ACI'!$D$14) -> 6.92 | V19: =SUM(T19)*U19 -> 0 | W19: =SUM(M19+P19+S19+V19) -> 291.76 | X19: =SUM('Elenco attività ACI'!$D$18) -> 125.11 | Y19: =SUM('Elenco attività ACI'!$D$22) -> 5.11 | Z19: =SUM(N19*Y19) -> 0 | AA19: =SUM('Elenco attività ACI'!$D$27) -> 5.11 | AB19: =SUM(Q19*AA19) -> 0 | AC19: =SUM('Elenco attività ACI'!$D$29) -> 3.8 | AD19: =SUM(T19)*AC19 -> 0 | AE19: =SUM(X19+Z19+AB19+AD18) -> 125.11 | AF19: =SUM(W19+AE19) -> 416.87 | AG19: =SUM(AF19)*$AM$1 -> 833.74 | AH19: =SUM('[1]Costi misura'!Q33:Q34) -> 6 | AI19: =SUM(AH19)*$AN$1 -> 314.82 | AJ19: =SUM(AH19)*$AO$1 -> 105.3 | AK19: =SUM(AI19+AJ19) -> 420.12 | AL19: =SUM(AG19+AK19) -> 1253.86
A20: =SUM(A19)+1 -> 19 | B20: 1 | C20: Nord | D20: Torino Uff. PRA Area M. | E20: Piemonte | F20: Vercelli | G20: =SUM('[1]determ. costi visite'!AB2162:AB2169) -> 8 | H20: =SUM('[1]determ. costi visite'!T933) -> 1 | I20: =SUM(G20+H20) -> 9 | J20: 1 | K20: NO | M20: =SUM('Elenco attività ACI'!$D$3) -> 250.22 | O20: =SUM('Elenco attività ACI'!$D$7) -> 8.47 | P20: =SUM(N20*O20) -> 0 | R20: =SUM('Elenco attività ACI'!$D$12) -> 9.88 | S20: =SUM(Q20*R20) -> 0 | U20: =SUM('Elenco attività ACI'!$D$14) -> 6.92 | V20: =SUM(T20)*U20 -> 0 | W20: =SUM(M20+P20+S20+V20) -> 250.22 | X20: =SUM('Elenco attività ACI'!$D$18) -> 125.11 | Y20: =SUM('Elenco attività ACI'!$D$22) -> 5.11 | Z20: =SUM(N20*Y20) -> 0 | AA20: =SUM('Elenco attività ACI'!$D$27) -> 5.11 | AB20: =SUM(Q20*AA20) -> 0 | AC20: =SUM('Elenco attività ACI'!$D$29) -> 3.8 | AD20: =SUM(T20)*AC20 -> 0 | AE20: =SUM(X20+Z20+AB20+AD19) -> 125.11 | AF20: =SUM(W20+AE20) -> 375.33 | AG20: =SUM(AF20)*$AM$1 -> 750.66 | AH20: =SUM('[1]Costi misura'!Q35:Q36) -> 8 | AI20: =SUM(AH20)*$AN$1 -> 419.76 | AJ20: =SUM(AH20)*$AO$1 -> 140.4 | AK20: =SUM(AI20+AJ20) -> 560.16 | AL20: =SUM(AG20+AK20) -> 1310.82
A21: =SUM(A20)+1 -> 20 | B21: 1 | C21: Nord | D21: Torino Uff. PRA Area M. | E21: Valle d'Aosta | F21: Aosta | G21: =SUM('[1]determ. costi visite'!AB33:AB39) -> 7 | I21: =SUM(G21+H21) -> 7 | J21: 1 | K21: NO | M21: =SUM('Elenco attività ACI'!$D$3) -> 250.22 | O21: =SUM('Elenco attività ACI'!$D$7) -> 8.47 | P21: =SUM(N21*O21) -> 0 | R21: =SUM('Elenco attività ACI'!$D$12) -> 9.88 | S21: =SUM(Q21*R21) -> 0 | U21: =SUM('Elenco attività ACI'!$D$14) -> 6.92 | V21: =SUM(T21)*U21 -> 0 | W21: =SUM(M21+P21+S21+V21) -> 250.22 | X21: =SUM('Elenco attività ACI'!$D$18) -> 125.11 | Y21: =SUM('Elenco attività ACI'!$D$22) -> 5.11 | Z21: =SUM(N21*Y21) -> 0 | AA21: =SUM('Elenco attività ACI'!$D$27) -> 5.11 | AB21: =SUM(Q21*AA21) -> 0 | AC21: =SUM('Elenco attività ACI'!$D$29) -> 3.8 | AD21: =SUM(T21)*AC21 -> 0 | AE21: =SUM(X21+Z21+AB21+AD20) -> 125.11 | AF21: =SUM(W21+AE21) -> 375.33 | AG21: =SUM(AF21)*$AM$1 -> 750.66 | AH21: =SUM('[1]Costi misura'!Q37:Q38) -> 7 | AI21: =SUM(AH21)*$AN$1 -> 367.29 | AJ21: =SUM(AH21)*$AO$1 -> 122.85 | AK21: =SUM(AI21+AJ21) -> 490.14 | AL21: =SUM(AG21+AK21) -> 1240.8
A22: =SUM(A21)+1 -> 21 | B22: 1 | C22: Nord | D22: Treviso Uff. PRA Dir. T. | E22: Friuli V. G. | F22: Gorizia | G22: =SUM('[1]determ. costi visite'!AB530:AB536) -> 7 | I22: =SUM(G22+H22) -> 7 | J22: 1 | K22: NO | M22: =SUM('Elenco attività ACI'!$D$3) -> 250.22 | O22: =SUM('Elenco attività ACI'!$D$7) -> 8.47 | P22: =SUM(N22*O22) -> 0 | R22: =SUM('Elenco attività ACI'!$D$12) -> 9.88 | S22: =SUM(Q22*R22) -> 0 | U22: =SUM('Elenco attività ACI'!$D$14) -> 6.92 | V22: =SUM(T22)*U22 -> 0 | W22: =SUM(M22+P22+S22+V22) -> 250.22 | X22: =SUM('Elenco attività ACI'!$D$18) -> 125.11 | Y22: =SUM('Elenco attività ACI'!$D$22) -> 5.11 | Z22: =SUM(N22*Y22) -> 0 | AA22: =SUM('Elenco attività ACI'!$D$27) -> 5.11 | AB22: =SUM(Q22*AA22) -> 0 | AC22: =SUM('Elenco attività ACI'!$D$29) -> 3.8 | AD22: =SUM(T22)*AC22 -> 0 | AE22: =SUM(X22+Z22+AB22+AD21) -> 125.11 | AF22: =SUM(W22+AE22) -> 375.33 | AG22: =SUM(AF22)*$AM$1 -> 750.66 | AH22: =SUM('[1]Costi misura'!Q39:Q40) -> 7 | AI22: =SUM(AH22)*$AN$1 -> 367.29 | AJ22: =SUM(AH22)*$AO$1 -> 122.85 | AK22: =SUM(AI22+AJ22) -> 490.14 | AL22: =SUM(AG22+AK22) -> 1240.8
A23: =SUM(A22)+1 -> 22 | B23: 1 | C23: Nord | D23: Treviso Uff. PRA Dir. T. | E23: Friuli V. G. | F23: Pordenone | G23: =SUM('[1]determ. costi visite'!AB1087:AB1097) -> 11 | H23: =SUM('[1]determ. costi visite'!T901) -> 1 | I23: =SUM(G23+H23) -> 12 | J23: 1 | K23: NO | M23: =SUM('Elenco attività ACI'!$D$3) -> 250.22 | O23: =SUM('Elenco attività ACI'!$D$7) -> 8.47 | P23: =SUM(N23*O23) -> 0 | R23: =SUM('Elenco attività ACI'!$D$12) -> 9.88 | S23: =SUM(Q23*R23) -> 0 | U23: =SUM('Elenco attività ACI'!$D$14) -> 6.92 | V23: =SUM(T23)*U23 -> 0 | W23: =SUM(M23+P23+S23+V23) -> 250.22 | X23: =SUM('Elenco attività ACI'!$D$18) -> 125.11 | Y23: =SUM('Elenco attività ACI'!$D$22) -> 5.11 | Z23: =SUM(N23*Y23) -> 0 | AA23: =SUM('Elenco attività ACI'!$D$27) -> 5.11 | AB23: =SUM(Q23*AA23) -> 0 | AC23: =SUM('Elenco attività ACI'!$D$29) -> 3.8 | AD23: =SUM(T23)*AC23 -> 0 | AE23: =SUM(X23+Z23+AB23+AD22) -> 125.11 | AF23: =SUM(W23+AE23) -> 375.33 | AG23: =SUM(AF23)*$AM$1 -> 750.66 | AH23: =SUM('[1]Costi misura'!Q41:Q42) -> 12 | AI23: =SUM(AH23)*$AN$1 -> 629.64 | AJ23: =SUM(AH23)*$AO$1 -> 210.6 | AK23: =SUM(AI23+AJ23) -> 840.24 | AL23: =SUM(AG23+AK23) -> 1590.9
A24: =SUM(A23)+1 -> 23 | B24: 1 | C24: Nord | D24: Treviso Uff. PRA Dir. T. | E24: Friuli V. G. | F24: Trieste | G24: =SUM('[1]determ. costi visite'!AB2082:AB2091) -> 10 | I24: =SUM(G24+H24) -> 10 | J24: 1 | K24: NO | M24: =SUM('Elenco attività ACI'!$D$3) -> 250.22 | O24: =SUM('Elenco attività ACI'!$D$7) -> 8.47 | P24: =SUM(N24*O24) -> 0 | R24: =SUM('Elenco attività ACI'!$D$12) -> 9.88 | S24: =SUM(Q24*R24) -> 0 | U24: =SUM('Elenco attività ACI'!$D$14) -> 6.92 | V24: =SUM(T24)*U24 -> 0 | W24: =SUM(M24+P24+S24+V24) -> 250.22 | X24: =SUM('Elenco attività ACI'!$D$18) -> 125.11 | Y24: =SUM('Elenco attività ACI'!$D$22) -> 5.11 | Z24: =SUM(N24*Y24) -> 0 | AA24: =SUM('Elenco attività ACI'!$D$27) -> 5.11 | AB24: =SUM(Q24*AA24) -> 0 | AC24: =SUM('Elenco attività ACI'!$D$29) -> 3.8 | AD24: =SUM(T24)*AC24 -> 0 | AE24: =SUM(X24+Z24+AB24+AD23) -> 125.11 | AF24: =SUM(W24+AE24) -> 375.33 | AG24: =SUM(AF24)*$AM$1 -> 750.66 | AH24: =SUM('[1]Costi misura'!Q43:Q44) -> 10 | AI24: =SUM(AH24)*$AN$1 -> 524.7 | AJ24: =SUM(AH24)*$AO$1 -> 175.5 | AK24: =SUM(AI24+AJ24) -> 700.2 | AL24: =SUM(AG24+AK24) -> 1450.86
A25: =SUM(A24)+1 -> 24 | B25: 1 | C25: Nord | D25: Treviso Uff. PRA Dir. T. | E25: Friuli V. G. | F25: Udine | G25: =SUM('[1]determ. costi visite'!AB2123:AB2134) -> 12 | H25: =SUM('[1]determ. costi visite'!T930) -> 1 | I25: =SUM(G25+H25) -> 13 | J25: 1 | K25: NO | M25: =SUM('Elenco attività ACI'!$D$3) -> 250.22 | O25: =SUM('Elenco attività ACI'!$D$7) -> 8.47 | P25: =SUM(N25*O25) -> 0 | R25: =SUM('Elenco attività ACI'!$D$12) -> 9.88 | S25: =SUM(Q25*R25) -> 0 | U25: =SUM('Elenco attività ACI'!$D$14) -> 6.92 | V25: =SUM(T25)*U25 -> 0 | W25: =SUM(M25+P25+S25+V25) -> 250.22 | X25: =SUM('Elenco attività ACI'!$D$18) -> 125.11 | Y25: =SUM('Elenco attività ACI'!$D$22) -> 5.11 | Z25: =SUM(N25*Y25) -> 0 | AA25: =SUM('Elenco attività ACI'!$D$27) -> 5.11 | AB25: =SUM(Q25*AA25) -> 0 | AC25: =SUM('Elenco attività ACI'!$D$29) -> 3.8 | AD25: =SUM(T25)*AC25 -> 0 | AE25: =SUM(X25+Z25+AB25+AD24) -> 125.11 | AF25: =SUM(W25+AE25) -> 375.33 | AG25: =SUM(AF25)*$AM$1 -> 750.66 | AH25: =SUM('[1]Costi misura'!Q45:Q46) -> 13 | AI25: =SUM(AH25)*$AN$1 -> 682.11 | AJ25: =SUM(AH25)*$AO$1 -> 228.15 | AK25: =SUM(AI25+AJ25) -> 910.26 | AL25: =SUM(AG25+AK25) -> 1660.92
A26: =SUM(A25)+1 -> 25 | B26: 1 | C26: Nord | D26: Treviso Uff. PRA Dir. T. | E26: Veneto | F26: Belluno | G26: =SUM('[1]determ. costi visite'!AB155:AB159) -> 5 | I26: =SUM(G26+H26) -> 5 | J26: 1 | K26: NO | M26: =SUM('Elenco attività ACI'!$D$3) -> 250.22 | O26: =SUM('Elenco attività ACI'!$D$7) -> 8.47 | P26: =SUM(N26*O26) -> 0 | R26: =SUM('Elenco attività ACI'!$D$12) -> 9.88 | S26: =SUM(Q26*R26) -> 0 | U26: =SUM('Elenco attività ACI'!$D$14) -> 6.92 | V26: =SUM(T26)*U26 -> 0 | W26: =SUM(M26+P26+S26+V26) -> 250.22 | X26: =SUM('Elenco attività ACI'!$D$18) -> 125.11 | Y26: =SUM('Elenco attività ACI'!$D$22) -> 5.11 | Z26: =SUM(N26*Y26) -> 0 | AA26: =SUM('Elenco attività ACI'!$D$27) -> 5.11 | AB26: =SUM(Q26*AA26) -> 0 | AC26: =SUM('Elenco attività ACI'!$D$29) -> 3.8 | AD26: =SUM(T26)*AC26 -> 0 | AE26: =SUM(X26+Z26+AB26+AD25) -> 125.11 | AF26: =SUM(W26+AE26) -> 375.33 | AG26: =SUM(AF26)*$AM$1 -> 750.66 | AH26: =SUM('[1]Costi misura'!Q47:Q48) -> 5 | AI26: =SUM(AH26)*$AN$1 -> 262.35 | AJ26: =SUM(AH26)*$AO$1 -> 87.75 | AK26: =SUM(AI26+AJ26) -> 350.1 | AL26: =SUM(AG26+AK26) -> 1100.76
A27: =SUM(A26+1) -> 26 | B27: 1 | C27: Nord | D27: Treviso Uff. PRA Dir. T. | E27: Veneto | F27: Treviso (D.T.) | G27: =SUM('[1]determ. costi visite'!AB2092:AB2112) -> 21 | H27: =SUM('[1]determ. costi visite'!T929) -> 1 | I27: =SUM(G27+H27) -> 22 | J27: NO | K27: 1 | M27: =SUM('Elenco attività ACI'!$D$3) -> 250.22 | N27: 2 | O27: =SUM('Elenco attività ACI'!$D$7) -> 8.47 | P27: =SUM(N27*O27) -> 16.94 | R27: =SUM('Elenco attività ACI'!$D$12) -> 9.88 | S27: =SUM(Q27*R27) -> 0 | U27: =SUM('Elenco attività ACI'!$D$14) -> 6.92 | V27: =SUM(T27)*U27 -> 0 | W27: =SUM(M27+P27+S27+V27) -> 267.16 | X27: =SUM('Elenco attività ACI'!$D$18) -> 125.11 | Y27: =SUM('Elenco attività ACI'!$D$22) -> 5.11 | Z27: =SUM(N27*Y27) -> 10.22 | AA27: =SUM('Elenco attività ACI'!$D$27) -> 5.11 | AB27: =SUM(Q27*AA27) -> 0 | AC27: =SUM('Elenco attività ACI'!$D$29) -> 3.8 | AD27: =SUM(T27)*AC27 -> 0 | AE27: =SUM(X27+Z27+AB27+AD26) -> 135.33 | AF27: =SUM(W27+AE27) -> 402.49 | AG27: =SUM(AF27)*$AM$1 -> 804.98 | AH27: =SUM('[1]Costi misura'!Q49:Q50) -> 22 | AI27: =SUM(AH27)*$AN$1 -> 1154.34 | AJ27: =SUM(AH27)*$AO$1 -> 386.1 | AK27: =SUM(AI27+AJ27) -> 1540.44 | AL27: =SUM(AG27+AK27) -> 2345.42
A28: =SUM(A27+1) -> 27 | B28: 1 | C28: Nord | D28: Treviso Uff. PRA Dir. T. | E28: Veneto | F28: Venezia (Mestre) | G28: =SUM('[1]determ. costi visite'!AB2170:AB2184) -> 15 | H28: =SUM('[1]determ. costi visite'!U934) -> 1 | I28: =SUM(G28+H28) -> 16 | J28: 1 | K28: NO | M28: =SUM('Elenco attività ACI'!$D$3) -> 250.22 | O28: =SUM('Elenco attività ACI'!$D$7) -> 8.47 | P28: =SUM(N28*O28) -> 0 | R28: =SUM('Elenco attività ACI'!$D$12) -> 9.88 | S28: =SUM(Q28*R28) -> 0 | U28: =SUM('Elenco attività ACI'!$D$14) -> 6.92 | V28: =SUM(T28)*U28 -> 0 | W28: =SUM(M28+P28+S28+V28) -> 250.22 | X28: =SUM('Elenco attività ACI'!$D$18) -> 125.11 | Y28: =SUM('Elenco attività ACI'!$D$22) -> 5.11 | Z28: =SUM(N28*Y28) -> 0 | AA28: =SUM('Elenco attività ACI'!$D$27) -> 5.11 | AB28: =SUM(Q28*AA28) -> 0 | AC28: =SUM('Elenco attività ACI'!$D$29) -> 3.8 | AD28: =SUM(T28)*AC28 -> 0 | AE28: =SUM(X28+Z28+AB28+AD27) -> 125.11 | AF28: =SUM(W28+AE28) -> 375.33 | AG28: =SUM(AF28)*$AM$1 -> 750.66 | AH28: =SUM('[1]Costi misura'!Q51:Q52) -> 16 | AI28: =SUM(AH28)*$AN$1 -> 839.52 | AJ28: =SUM(AH28)*$AO$1 -> 280.8 | AK28: =SUM(AI28+AJ28) -> 1120.32 | AL28: =SUM(AG28+AK28) -> 1870.98
A29: =SUM(A28)+1 -> 28 | B29: 1 | C29: Nord | D29: Varese Uff. PRA Dir. T. | E29: Lombardia | F29: Como | G29: =SUM('[1]determ. costi visite'!AB345:AB356) -> 12 | H29: =SUM('[1]determ. costi visite'!T865) -> 1 | I29: =SUM(G29+H29) -> 13 | J29: 1 | K29: NO | M29: =SUM('Elenco attività ACI'!$D$3) -> 250.22 | O29: =SUM('Elenco attività ACI'!$D$7) -> 8.47 | P29: =SUM(N29*O29) -> 0 | R29: =SUM('Elenco attività ACI'!$D$12) -> 9.88 | S29: =SUM(Q29*R29) -> 0 | U29: =SUM('Elenco attività ACI'!$D$14) -> 6.92 | V29: =SUM(T29)*U29 -> 0 | W29: =SUM(M29+P29+S29+V29) -> 250.22 | X29: =SUM('Elenco attività ACI'!$D$18) -> 125.11 | Y29: =SUM('Elenco attività ACI'!$D$22) -> 5.11 | Z29: =SUM(N29*Y29) -> 0 | AA29: =SUM('Elenco attività ACI'!$D$27) -> 5.11 | AB29: =SUM(Q29*AA29) -> 0 | AC29: =SUM('Elenco attività ACI'!$D$29) -> 3.8 | AD29: =SUM(T29)*AC29 -> 0 | AE29: =SUM(X29+Z29+AB29+AD28) -> 125.11 | AF29: =SUM(W29+AE29) -> 375.33 | AG29: =SUM(AF29)*$AM$1 -> 750.66 | AH29: =SUM('[1]Costi misura'!Q53:Q54) -> 13 | AI29: =SUM(AH29)*$AN$1 -> 682.11 | AJ29: =SUM(AH29)*$AO$1 -> 228.15 | AK29: =SUM(AI29+AJ29) -> 910.26 | AL29: =SUM(AG29+AK29) -> 1660.92
A30: =SUM(A29)+1 -> 29 | B30: 1 | C30: Nord | D30: Varese Uff. PRA Dir. T. | E30: Lombardia | F30: Lecco | G30: =SUM('[1]determ. costi visite'!AB569:AB579) -> 11 | I30: =SUM(G30+H30) -> 11 | J30: 1 | K30: NO | M30: =SUM('Elenco attività ACI'!$D$3) -> 250.22 | O30: =SUM('Elenco attività ACI'!$D$7) -> 8.47 | P30: =SUM(N30*O30) -> 0 | R30: =SUM('Elenco attività ACI'!$D$12) -> 9.88 | S30: =SUM(Q30*R30) -> 0 | U30: =SUM('Elenco attività ACI'!$D$14) -> 6.92 | V30: =SUM(T30)*U30 -> 0 | W30: =SUM(M30+P30+S30+V30) -> 250.22 | X30: =SUM('Elenco attività ACI'!$D$18) -> 125.11 | Y30: =SUM('Elenco attività ACI'!$D$22) -> 5.11 | Z30: =SUM(N30*Y30) -> 0 | AA30: =SUM('Elenco attività ACI'!$D$27) -> 5.11 | AB30: =SUM(Q30*AA30) -> 0 | AC30: =SUM('Elenco attività ACI'!$D$29) -> 3.8 | AD30: =SUM(T30)*AC30 -> 0 | AE30: =SUM(X30+Z30+AB30+AD29) -> 125.11 | AF30: =SUM(W30+AE30) -> 375.33 | AG30: =SUM(AF30)*$AM$1 -> 750.66 | AH30: =SUM('[1]Costi misura'!Q55:Q56) -> 11 | AI30: =SUM(AH30)*$AN$1 -> 577.17 | AJ30: =SUM(AH30)*$AO$1 -> 193.05 | AK30: =SUM(AI30+AJ30) -> 770.22 | AL30: =SUM(AG30+AK30) -> 1520.88
A31: =SUM(A30)+1 -> 30 | B31: 1 | C31: Nord | D31: Varese Uff. PRA Dir. T. | E31: Lombardia | F31: Sondrio | G31: =SUM('[1]determ. costi visite'!AB1938:AB1947) -> 10 | I31: =SUM(G31+H31) -> 10 | J31: 1 | K31: NO | M31: =SUM('Elenco attività ACI'!$D$3) -> 250.22 | O31: =SUM('Elenco attività ACI'!$D$7) -> 8.47 | P31: =SUM(N31*O31) -> 0 | R31: =SUM('Elenco attività ACI'!$D$12) -> 9.88 | S31: =SUM(Q31*R31) -> 0 | U31: =SUM('Elenco attività ACI'!$D$14) -> 6.92 | V31: =SUM(T31)*U31 -> 0 | W31: =SUM(M31+P31+S31+V31) -> 250.22 | X31: =SUM('Elenco attività ACI'!$D$18) -> 125.11 | Y31: =SUM('Elenco attività ACI'!$D$22) -> 5.11 | Z31: =SUM(N31*Y31) -> 0 | AA31: =SUM('Elenco attività ACI'!$D$27) -> 5.11 | AB31: =SUM(Q31*AA31) -> 0 | AC31: =SUM('Elenco attività ACI'!$D$29) -> 3.8 | AD31: =SUM(T31)*AC31 -> 0 | AE31: =SUM(X31+Z31+AB31+AD30) -> 125.11 | AF31: =SUM(W31+AE31) -> 375.33 | AG31: =SUM(AF31)*$AM$1 -> 750.66 | AH31: =SUM('[1]Costi misura'!Q57:Q58) -> 10 | AI31: =SUM(AH31)*$AN$1 -> 524.7 | AJ31: =SUM(AH31)*$AO$1 -> 175.5 | AK31: =SUM(AI31+AJ31) -> 700.2 | AL31: =SUM(AG31+AK31) -> 1450.86
A32: =SUM(A31)+1 -> 31 | B32: 1 | C32: Nord | D32: Varese Uff. PRA Dir. T. | E32: Lombardia | F32: Varese (D.T.) | G32: =SUM('[1]determ. costi visite'!AB2135:AB2155) -> 21 | I32: =SUM(G32+H32) -> 21 | J32: NO | K32: 1 | M32: =SUM('Elenco attività ACI'!$D$3) -> 250.22 | N32: 1 | O32: =SUM('Elenco attività ACI'!$D$7) -> 8.47 | P32: =SUM(N32*O32) -> 8.47 | R32: =SUM('Elenco attività ACI'!$D$12) -> 9.88 | S32: =SUM(Q32*R32) -> 0 | U32: =SUM('Elenco attività ACI'!$D$14) -> 6.92 | V32: =SUM(T32)*U32 -> 0 | W32: =SUM(M32+P32+S32+V32) -> 258.69 | X32: =SUM('Elenco attività ACI'!$D$18) -> 125.11 | Y32: =SUM('Elenco attività ACI'!$D$22) -> 5.11 | Z32: =SUM(N32*Y32) -> 5.11 | AA32: =SUM('Elenco attività ACI'!$D$27) -> 5.11 | AB32: =SUM(Q32*AA32) -> 0 | AC32: =SUM('Elenco attività ACI'!$D$29) -> 3.8 | AD32: =SUM(T32)*AC32 -> 0 | AE32: =SUM(X32+Z32+AB32+AD31) -> 130.22 | AF32: =SUM(W32+AE32) -> 388.91 | AG32: =SUM(AF32)*$AM$1 -> 777.82 | AH32: =SUM('[1]Costi misura'!Q59:Q60) -> 20 | AI32: =SUM(AH32)*$AN$1 -> 1049.4 | AJ32: =SUM(AH32)*$AO$1 -> 351 | AK32: =SUM(AI32+AJ32) -> 1400.4 | AL32: =SUM(AG32+AK32) -> 2178.22
A33: =SUM(A32)+1 -> 32 | B33: 1 | C33: Nord | D33: Verona Uff. PRA Dir. T. | E33: Trentino A.A. | F33: Bolzano | G33: =SUM('[1]determ. costi visite'!AB246:AB255) -> 10 | H33: =SUM('[1]determ. costi visite'!T858) -> 1 | I33: =SUM(G33+H33) -> 11 | J33: 1 | K33: NO | M33: =SUM('Elenco attività ACI'!$D$3) -> 250.22 | O33: =SUM('Elenco attività ACI'!$D$7) -> 8.47 | P33: =SUM(N33*O33) -> 0 | R33: =SUM('Elenco attività ACI'!$D$12) -> 9.88 | S33: =SUM(Q33*R33) -> 0 | U33: =SUM('Elenco attività ACI'!$D$14) -> 6.92 | V33: =SUM(T33)*U33 -> 0 | W33: =SUM(M33+P33+S33+V33) -> 250.22 | X33: =SUM('Elenco attività ACI'!$D$18) -> 125.11 | Y33: =SUM('Elenco attività ACI'!$D$22) -> 5.11 | Z33: =SUM(N33*Y33) -> 0 | AA33: =SUM('Elenco attività ACI'!$D$27) -> 5.11 | AB33: =SUM(Q33*AA33) -> 0 | AC33: =SUM('Elenco attività ACI'!$D$29) -> 3.8 | AD33: =SUM(T33)*AC33 -> 0 | AE33: =SUM(X33+Z33+AB33+AD32) -> 125.11 | AF33: =SUM(W33+AE33) -> 375.33 | AG33: =SUM(AF33)*$AM$1 -> 750.66 | AH33: =SUM('[1]Costi misura'!Q61:Q62) -> 11 | AI33: =SUM(AH33)*$AN$1 -> 577.17 | AJ33: =SUM(AH33)*$AO$1 -> 193.05 | AK33: =SUM(AI33+AJ33) -> 770.22 | AL33: =SUM(AG33+AK33) -> 1520.88
A34: =SUM(A33)+1 -> 33 | B34: 1 | C34: Nord | D34: Verona Uff. PRA Dir. T. | E34: Trentino A.A. | F34: Trento | G34: =SUM('[1]determ. costi visite'!AB2006:AB2016) -> 11 | H34: =SUM('[1]determ. costi visite'!T924) -> 1 | I34: =SUM(G34+H34) -> 12 | J34: 1 | K34: NO | M34: =SUM('Elenco attività ACI'!$D$3) -> 250.22 | O34: =SUM('Elenco attività ACI'!$D$7) -> 8.47 | P34: =SUM(N34*O34) -> 0 | R34: =SUM('Elenco attività ACI'!$D$12) -> 9.88 | S34: =SUM(Q34*R34) -> 0 | U34: =SUM('Elenco attività ACI'!$D$14) -> 6.92 | V34: =SUM(T34)*U34 -> 0 | W34: =SUM(M34+P34+S34+V34) -> 250.22 | X34: =SUM('Elenco attività ACI'!$D$18) -> 125.11 | Y34: =SUM('Elenco attività ACI'!$D$22) -> 5.11 | Z34: =SUM(N34*Y34) -> 0 | AA34: =SUM('Elenco attività ACI'!$D$27) -> 5.11 | AB34: =SUM(Q34*AA34) -> 0 | AC34: =SUM('Elenco attività ACI'!$D$29) -> 3.8 | AD34: =SUM(T34)*AC34 -> 0 | AE34: =SUM(X34+Z34+AB34+AD33) -> 125.11 | AF34: =SUM(W34+AE34) -> 375.33 | AG34: =SUM(AF34)*$AM$1 -> 750.66 | AH34: =SUM('[1]Costi misura'!Q63:Q64) -> 12 | AI34: =SUM(AH34)*$AN$1 -> 629.64 | AJ34: =SUM(AH34)*$AO$1 -> 210.6 | AK34: =SUM(AI34+AJ34) -> 840.24 | AL34: =SUM(AG34+AK34) -> 1590.9
A35: =SUM(A34)+1 -> 34 | B35: 1 | C35: Nord | D35: Verona Uff. PRA Dir. T. | E35: Veneto | F35: Padova | G35: =SUM('[1]determ. costi visite'!AB1021:AB1042) -> 22 | H35: =SUM('[1]determ. costi visite'!U897) -> 1 | I35: =SUM(G35+H35) -> 23 | J35: NO | K35: 1 | M35: =SUM('Elenco attività ACI'!$D$3) -> 250.22 | N35: 3 | O35: =SUM('Elenco attività ACI'!$D$7) -> 8.47 | P35: =SUM(N35*O35) -> 25.41 | R35: =SUM('Elenco attività ACI'!$D$12) -> 9.88 | S35: =SUM(Q35*R35) -> 0 | U35: =SUM('Elenco attività ACI'!$D$14) -> 6.92 | V35: =SUM(T35)*U35 -> 0 | W35: =SUM(M35+P35+S35+V35) -> 275.63 | X35: =SUM('Elenco attività ACI'!$D$18) -> 125.11 | Y35: =SUM('Elenco attività ACI'!$D$22) -> 5.11 | Z35: =SUM(N35*Y35) -> 15.33 | AA35: =SUM('Elenco attività ACI'!$D$27) -> 5.11 | AB35: =SUM(Q35*AA35) -> 0 | AC35: =SUM('Elenco attività ACI'!$D$29) -> 3.8 | AD35: =SUM(T35)*AC35 -> 0 | AE35: =SUM(X35+Z35+AB35+AD34) -> 140.44 | AF35: =SUM(W35+AE35) -> 416.07 | AG35: =SUM(AF35)*$AM$1 -> 832.14 | AH35: =SUM('[1]Costi misura'!Q65:Q66) -> 23 | AI35: =SUM(AH35)*$AN$1 -> 1206.81 | AJ35: =SUM(AH35)*$AO$1 -> 403.65 | AK35: =SUM(AI35+AJ35) -> 1610.46 | AL35: =SUM(AG35+AK35) -> 2442.6
A36: =SUM(A35)+1 -> 35 | B36: 1 | C36: Nord | D36: Verona Uff. PRA Dir. T. | E36: Veneto | F36: Rovigo | G36: =SUM('[1]determ. costi visite'!AB1892:AB1900) -> 9 | H36: =SUM('[1]determ. costi visite'!T914) -> 1 | I36: =SUM(G36+H36) -> 10 | J36: 1 | K36: NO | M36: =SUM('Elenco attività ACI'!$D$3) -> 250.22 | O36: =SUM('Elenco attività ACI'!$D$7) -> 8.47 | P36: =SUM(N36*O36) -> 0 | R36: =SUM('Elenco attività ACI'!$D$12) -> 9.88 | S36: =SUM(Q36*R36) -> 0 | U36: =SUM('Elenco attività ACI'!$D$14) -> 6.92 | V36: =SUM(T36)*U36 -> 0 | W36: =SUM(M36+P36+S36+V36) -> 250.22 | X36: =SUM('Elenco attività ACI'!$D$18) -> 125.11 | Y36: =SUM('Elenco attività ACI'!$D$22) -> 5.11 | Z36: =SUM(N36*Y36) -> 0 | AA36: =SUM('Elenco attività ACI'!$D$27) -> 5.11 | AB36: =SUM(Q36*AA36) -> 0 | AC36: =SUM('Elenco attività ACI'!$D$29) -> 3.8 | AD36: =SUM(T36)*AC36 -> 0 | AE36: =SUM(X36+Z36+AB36+AD35) -> 125.11 | AF36: =SUM(W36+AE36) -> 375.33 | AG36: =SUM(AF36)*$AM$1 -> 750.66 | AH36: =SUM('[1]Costi misura'!Q67:Q68) -> 10 | AI36: =SUM(AH36)*$AN$1 -> 524.7 | AJ36: =SUM(AH36)*$AO$1 -> 175.5 | AK36: =SUM(AI36+AJ36) -> 700.2 | AL36: =SUM(AG36+AK36) -> 1450.86
A37: =SUM(A36)+1 -> 36 | B37: 1 | C37: Nord | D37: Verona Uff. PRA Dir. T. | E37: Veneto | F37: Verona (D.T.) | G37: =SUM('[1]determ. costi visite'!AB2203:AB2225) -> 23 | H37: =SUM('[1]determ. costi visite'!T936) -> 1 | I37: =SUM(G37+H37) -> 24 | J37: NO | K37: 1 | M37: =SUM('Elenco attività ACI'!$D$3) -> 250.22 | N37: 4 | O37: =SUM('Elenco attività ACI'!$D$7) -> 8.47 | P37: =SUM(N37*O37) -> 33.88 | R37: =SUM('Elenco attività ACI'!$D$12) -> 9.88 | S37: =SUM(Q37*R37) -> 0 | U37: =SUM('Elenco attività ACI'!$D$14) -> 6.92 | V37: =SUM(T37)*U37 -> 0 | W37: =SUM(M37+P37+S37+V37) -> 284.1 | X37: =SUM('Elenco attività ACI'!$D$18) -> 125.11 | Y37: =SUM('Elenco attività ACI'!$D$22) -> 5.11 | Z37: =SUM(N37*Y37) -> 20.44 | AA37: =SUM('Elenco attività ACI'!$D$27) -> 5.11 | AB37: =SUM(Q37*AA37) -> 0 | AC37: =SUM('Elenco attività ACI'!$D$29) -> 3.8 | AD37: =SUM(T37)*AC37 -> 0 | AE37: =SUM(X37+Z37+AB37+AD36) -> 145.55 | AF37: =SUM(W37+AE37) -> 429.65 | AG37: =SUM(AF37)*$AM$1 -> 859.3 | AH37: =SUM('[1]Costi misura'!Q69:Q70) -> 23 | AI37: =SUM(AH37)*$AN$1 -> 1206.81 | AJ37: =SUM(AH37)*$AO$1 -> 403.65 | AK37: =SUM(AI37+AJ37) -> 1610.46 | AL37: =SUM(AG37+AK37) -> 2469.76
A38: =SUM(A37)+1 -> 37 | B38: 1 | C38: Nord | D38: Verona Uff. PRA Dir. T. | E38: Veneto | F38: Vicenza | G38: =SUM('[1]determ. costi visite'!AB2185:AB2202) -> 18 | H38: =SUM('[1]determ. costi visite'!T935) -> 1 | I38: =SUM(G38+H38) -> 19 | J38: 1 | K38: NO | M38: =SUM('Elenco attività ACI'!$D$3) -> 250.22 | O38: =SUM('Elenco attività ACI'!$D$7) -> 8.47 | P38: =SUM(N38*O38) -> 0 | R38: =SUM('Elenco attività ACI'!$D$12) -> 9.88 | S38: =SUM(Q38*R38) -> 0 | U38: =SUM('Elenco attività ACI'!$D$14) -> 6.92 | V38: =SUM(T38)*U38 -> 0 | W38: =SUM(M38+P38+S38+V38) -> 250.22 | X38: =SUM('Elenco attività ACI'!$D$18) -> 125.11 | Y38: =SUM('Elenco attività ACI'!$D$22) -> 5.11 | Z38: =SUM(N38*Y38) -> 0 | AA38: =SUM('Elenco attività ACI'!$D$27) -> 5.11 | AB38: =SUM(Q38*AA38) -> 0 | AC38: =SUM('Elenco attività ACI'!$D$29) -> 3.8 | AD38: =SUM(T38)*AC38 -> 0 | AE38: =SUM(X38+Z38+AB38+AD37) -> 125.11 | AF38: =SUM(W38+AE38) -> 375.33 | AG38: =SUM(AF38)*$AM$1 -> 750.66 | AH38: =SUM('[1]Costi misura'!Q71:Q72) -> 19 | AI38: =SUM(AH38)*$AN$1 -> 996.93 | AJ38: =SUM(AH38)*$AO$1 -> 333.45 | AK38: =SUM(AI38+AJ38) -> 1330.38 | AL38: =SUM(AG38+AK38) -> 2081.04
A39: =SUM(A38)+1 -> 38 | B39: 1 | C39: Centro | D39: Bologna Uff. PRA Dir. T. | E39: Emilia Romagna | F39: Bologna (D.T.) | G39: =SUM('[1]determ. costi visite'!AB176:AB205) -> 30 | I39: =SUM(G39+H39) -> 30 | J39: NO | K39: 1 | M39: =SUM('Elenco attività ACI'!$D$3) -> 250.22 | N39: 10 | O39: =SUM('Elenco attività ACI'!$D$7) -> 8.47 | P39: =SUM(N39*O39) -> 84.7 | R39: =SUM('Elenco attività ACI'!$D$12) -> 9.88 | S39: =SUM(Q39*R39) -> 0 | U39: =SUM('Elenco attività ACI'!$D$14) -> 6.92 | V39: =SUM(T39)*U39 -> 0 | W39: =SUM(M39+P39+S39+V39) -> 334.92 | X39: =SUM('Elenco attività ACI'!$D$18) -> 125.11 | Y39: =SUM('Elenco attività ACI'!$D$22) -> 5.11 | Z39: =SUM(N39*Y39) -> 51.1 | AA39: =SUM('Elenco attività ACI'!$D$27) -> 5.11 | AB39: =SUM(Q39*AA39) -> 0 | AC39: =SUM('Elenco attività ACI'!$D$29) -> 3.8 | AD39: =SUM(T39)*AC39 -> 0 | AE39: =SUM(X39+Z39+AB39+AD38) -> 176.21 | AF39: =SUM(W39+AE39) -> 511.13 | AG39: =SUM(AF39)*$AM$1 -> 1022.26 | AH39: =SUM('[1]Costi misura'!Q73:Q74) -> 30 | AI39: =SUM(AH39)*$AN$1 -> 1574.1 | AJ39: =SUM(AH39)*$AO$1 -> 526.5 | AK39: =SUM(AI39+AJ39) -> 2100.6 | AL39: =SUM(AG39+AK39) -> 3122.86
A40: =SUM(A39)+1 -> 39 | B40: 1 | C40: Centro | D40: Bologna Uff. PRA Dir. T. | E40: Emilia Romagna | F40: Ferrara | G40: =SUM('[1]determ. costi visite'!AB441:AB449) -> 9 | H40: =SUM('[1]determ. costi visite'!T871) -> 1 | I40: =SUM(G40+H40) -> 10 | J40: 1 | K40: NO | M40: =SUM('Elenco attività ACI'!$D$3) -> 250.22 | O40: =SUM('Elenco attività ACI'!$D$7) -> 8.47 | P40: =SUM(N40*O40) -> 0 | R40: =SUM('Elenco attività ACI'!$D$12) -> 9.88 | S40: =SUM(Q40*R40) -> 0 | U40: =SUM('Elenco attività ACI'!$D$14) -> 6.92 | V40: =SUM(T40)*U40 -> 0 | W40: =SUM(M40+P40+S40+V40) -> 250.22 | X40: =SUM('Elenco attività ACI'!$D$18) -> 125.11 | Y40: =SUM('Elenco attività ACI'!$D$22) -> 5.11 | Z40: =SUM(N40*Y40) -> 0 | AA40: =SUM('Elenco attività ACI'!$D$27) -> 5.11 | AB40: =SUM(Q40*AA40) -> 0 | AC40: =SUM('Elenco attività ACI'!$D$29) -> 3.8 | AD40: =SUM(T40)*AC40 -> 0 | AE40: =SUM(X40+Z40+AB40+AD39) -> 125.11 | AF40: =SUM(W40+AE40) -> 375.33 | AG40: =SUM(AF40)*$AM$1 -> 750.66 | AH40: =SUM('[1]Costi misura'!Q75:Q76) -> 10 | AI40: =SUM(AH40)*$AN$1 -> 524.7 | AJ40: =SUM(AH40)*$AO$1 -> 175.5 | AK40: =SUM(AI40+AJ40) -> 700.2 | AL40: =SUM(AG40+AK40) -> 1450.86
...

Sheet Elenco attività AC
A1: PSS | B1: SEDI ACI - PIANO DI SORVEGLIANZA SANITARIA (PSS) | F1: OFFERTA
A2: Codice | B2: Attività M.C. e M.C.C. | D2: Valore | E2: Unità di misura | F2: Valore | G2: Unità di misura
A3: PSSUF | B3: Gestione del PSS (fino a 20 lav.) | C3: Forfait base (fino a 20 lavoratori) addetti ad attività d'ufficio | D3: 250.22 | E3: Euro/sede/anno | F3: 0 | G3: Euro/sede/anno
C4: n. sedi: 17 | D4: =SUM(D3)*17 -> 4253.74 | E4: Euro/totale/anno | F4: =SUM(F3)*79 -> 0 | G4: Euro/totale/anno
A5: PSSU1 | B5: Gestione del PSS (da 21 a 50 lav.) | C5: Forfait base (da 21 fino a 50 lavoratori) addetti ad attività d'ufficio | E5: Euro/sede/anno | F5: =SUM($F$3) -> 0 | G5: Euro/sede/anno
D6: =SUM(D5)*13 -> 0 | E6: Euro/totale/anno | F6: =SUM($F$5)*24 -> 0 | G6: Euro/totale/anno
C7: Maggiorazione per ogni unità da 21 a 50 lavoratori addetti ad attività d'ufficio | E7: Euro/sede/anno | F7: 0 | G7: Euro/sede/anno
D8: =SUM(D7)*C8 -> 0 | E8: Euro/totale/anno | F8: =SUM($F$7*1)*2 -> 0 | G8: Euro/totale/semestre
C9: Sub totale | D9: =SUM(D8+D6) -> 0 | E9: Euro/totale/anno | F9: =SUM(F8:F8)+F6 -> 0 | G9: Euro/totale/anno
A10: PSSU2 | B10: Gestione del PSS (da 51 fino a 700 lav.) | C10: Forfait base (da 51 a 200 lavoratori) addetti ad attività d'ufficio | E10: Euro/sede/anno | F10: 0 | G10: Euro/sede/anno
D11: =SUM(D10)*5 -> 0 | E11: Euro/totale/anno | F11: =SUM(F10)*5 -> 0 | G11: Euro/totale/anno
C12: Maggiorazione per ogni unità da 51 a 200 lavoratori addetti ad attività d'ufficio | E12: Euro/lavoratore/anno | F12: 0 | G12: Euro/lavoratore/anno
D13: =SUM(D12)*C13 -> 0 | E13: Euro/totale/anno | F13: =SUM($F$12*30)*2 -> 0 | G13: Euro/totale/anno
C14: Maggiorazione per ogni unità da 201 a 700 lavoratori addetti ad attività d'ufficio | E14: Euro/lavoratore/anno | F14: 0 | G14: Euro/lavoratore/anno
D15: =SUM(C15)*D14 -> 0 | E15: Euro/totale/anno | F15: =SUM($F$14*20)*2 -> 0 | G15: Euro/totale/anno
C16: TotalePSSU2 | D16: =SUM(D11+D13+D15) -> 0 | E16: Euro/totale/anno | F16: =SUM(F11+F13+F15) -> 0 | G16: Euro/totale/anno
A17: TOTALE PSS | D17: =SUM(D4+D9+D16) -> 4253.74 | E17: Euro/totale/anno | F17: =SUM(F4+F9+F16) -> 0 | G17: Euro/totale/anno
A18: FCUF | B18: Funzione di coordinamento | C18: Forfait base (fino a 20 lavoratori) addetti ad attività d'ufficio | D18: 125.11 | E18: Euro/anno | F18: 0 | G18: Euro/anno
C19: n. sedi: 17 | D19: =SUM(D18)*17 -> 2126.87 | E19: Euro/totale/annuo | F19: =SUM(F18)*77 -> 0 | G19: Euro/totale/annuo
A20: FCU1 | B20: Funzione di coordinamento (da 21 a 50 lav.) | C20: Forfait base (da 21 fino a 50 lavoratori) addetti ad attività d'ufficio | E20: Euro/anno | F20: 0 | G20: Euro/anno
D21: =SUM(D20)*13 -> 0 | E21: Euro/totale/anno | F21: =SUM(F20)*24 -> 0 | G21: Euro/totale/anno
C22: Maggiorazione per ogni unità da 21 a 50 lavoratori addetti ad attività d'ufficio | E22: Euro/lavoratore/anno | F22: 0 | G22: Euro/lavoratore/anno
D23: =SUM(C23)*D22 -> 0 | E23: Euro/totale/anno | F23: =SUM($F$22*1)*2 -> 0 | G23: Euro/totale/anno
C24: Sub totale | D24: =SUM(D23:D23)+D21 -> 0 | E24: Euro/totale/anno | F24: =SUM(F23:F23)+F19 -> 0 | G24: Euro/totale/anno
A25: FCU2 | B25: Funzione di coordinamento (da 51 a 700 lav.) | C25: Forfait base (da 51 a 200 lavoratori) addetti ad attività d'ufficio | E25: Euro/anno | F25: =SUM(F18) -> 0 | G25: Euro/anno
D26: =SUM(D25)*5 -> 0 | E26: Euro/totale/anno | F26: =SUM(F25)*5 -> 0 | G26: Euro/totale/anno
C27: Maggiorazione per ogni unità da 51 a 200 lavoratori addetti ad attività d'ufficio | D27: =SUM(D22) -> 0 | E27: Euro/lavoratore/anno | F27: 0 | G27: Euro/lavoratore/anno
D28: =SUM(C28)*D27 -> 0 | E28: Euro/totale/anno | F28: =SUM($F$27*30) -> 0 | G28: Euro/totale/anno
C29: Maggiorazione per ogni unità da 201 a 700 lavoratori addetti ad attività d'ufficio | E29: Euro/lavoratore/anno | F29: 0 | G29: Euro/lavoratore/anno
D30: =SUM(C30)*D29 -> 0 | E30: Euro/totale/anno | F30: =SUM($F$29*20)*2 -> 0 | G30: Euro/totale/anno
C31: Totale FCU2 | D31: =SUM(D26+D28+D30) -> 0 | E31: Euro/totale/anno | F31: =SUM(F26+F28+F30) -> 0 | G31: Euro/totale/anno
A32: TOTALE FC | D32: =SUM(D19+D24+D31) -> 2126.87 | E32: Euro/totale/anno | F32: =SUM(F19+F24+F31) -> 0 | G32: Euro/totale/anno
A33: TOTALE GENERALE PSS + FC | D33: =SUM(D17+D32) -> 6380.61 | E33: Euro/totale/anno | F33: =SUM(F17+F32) -> 0 | G33: Euro/totale/anno
H35: OFFERTA
A36: Codice | B36: Visite ed esami | D36: Valore | E36: Unità di misura | F36: Numero medio presunto di prestazioni richieste nell'anno | G36: Importo complessivo | H36: Valore | I36: Unità di misura | J36: Importo complessivo
A37: VM01 | B37: Visite mediche con giudizio di idoneità e cartella sanitaria | C37: Visita medica (periodica, su richiesta del lavoratore, in occasione di cambio di mansione, in occasione di cessazione del rapporto di lavoro, preventiva in fase preassuntiva, precedente alla ripresa del lavoro) | D37: 52.47 | E37: Euro/visita | F37: 109 | G37: =SUM(F37)*D37 -> 5719.23 | H37: 0 | I37: Euro/visita | J37: =SUM($F$37)*H37 -> 0
A38: ES01 | B38: Esami specialistici | C38: Visita ergoftalmologica (ergovision) | D38: 17.55 | E38: Euro/visita | F38: 109 | G38: =SUM(F38)*D38 -> 1912.95 | H38: 0 | I38: Euro/visita | J38: =SUM($F$38)*H38 -> 0
A39: Sub totale | G39: =SUM(G37:G38) -> 7632.18 | J39: =SUM(J37:J38) -> 0
A40: Oneri della sicurezza non previsti trattandosi di prestazione assimilabile all'intellettuale | G40: 0 | J40: =SUM($K$40) -> 0
A41: TOTALE VISITE | G41: =SUM(G39+G40) -> 7632.18 | J41: =SUM(J39+J40) -> 0 | K41: =SUM(D33)+G41 -> 14012.79 | L41: totale annuo presunto

Sheet Costo servizio A.C.
A1: N. | B1: Area geograf. | C1: Sede | D1: Regione | E1: Città | F1: N. lav. | G1: A.C. fino a 20 lav. | H1: da 21 a 50 lav. | I1: da 51 a 700 lav. | J1: Costo base PSSUF fino a 20 lav. | K1: Delta da 21 a 50 | L1: Magg.ne costo un. base PSSU1 da 21 a 50 lav. | M1: Totale Magg.ne da 21 a 50 | N1: Delta da 51 a 200 lav. | O1: Magg.ne costo un. base PSSU2 da 51 a 200 lav. | P1: Totale Magg.ne da 51 a 200 | Q1: Delta da 200 a 700 lav. | R1: Magg.ne costo un. base PSSU2 da 201 a 700 lav. | S1: Totale Magg.ne da 201 a 700 lav. | T1: Totale PSS annuo | U1: Costo base FCUF fino a 20 lav. | V1: Magg.ne costo un. base FCU1 da 21 a 50 lav. | W1: Totale Magg.ne da 21 a 50 | X1: Magg.ne costo un. base FCU2 da 51 a 200 lav. | Y1: Totale Magg.ne da 51 a 200 | Z1: Magg.ne costo un. base FCU2 da 201 a 700 lav. | AA1: Totale Magg.ne da 201 a 700 lav. | AB1: Totale FC annuo | AC1: Totale PSS + FC annuo | AD1: Totale PSS + FC biennio | AE1: N. visite prev. Annue | AF1: Totale VMG e VMS biennio | AG1: Totale VE biennio | AH1: Totale VMG+VMS+VE biennio | AI1: Totale biennio | AJ1: 2 | AK1: =SUM('Elenco attività AC'!D37) -> 52.47 | AL1: =SUM('Elenco attività AC'!D38) -> 17.55 | AM1: =SUM(AK1:AL1) -> 70.02
A2: 1 | B2: Nord | C2: A.C. Bergamo | D2: Lombardia | E2: Bergamo | F2: 4 | G2: 1 | J2: =SUM('Elenco attività AC'!D3) -> 250.22 | L2: =SUM('Elenco attività AC'!D6) -> 0 | M2: =SUM(K2*L2) -> 0 | O2: =SUM('Elenco attività AC'!D12) -> 0 | P2: =SUM(N2*O2) -> 0 | R2: =SUM('Elenco attività AC'!D14) -> 0 | S2: =SUM(Q2)*R2 -> 0 | T2: =SUM(J2+M2+P2+S2) -> 250.22 | U2: =SUM('Elenco attività AC'!D18) -> 125.11 | AB2: =SUM(U2+W2+Y2+AA2) -> 125.11 | AC2: =SUM(T2+AB2) -> 375.33 | AD2: =SUM(AC2)*$AJ$1 -> 750.66 | AE2: =SUM(F2) -> 4 | AF2: =SUM(AE2)*$AK$1 -> 209.88 | AG2: =SUM(AE2)*$AL$1 -> 70.2 | AH2: =SUM(AF2+AG2) -> 280.08 | AI2: =SUM(AD2+AH2) -> 1030.74
A3: 2 | B3: Nord | C3: Servizi Autoclubbergamo S.r.l. | D3: Lombardia | E3: Bergamo | F3: 11 | G3: 1 | J3: =SUM(J2) -> 250.22 | L3: =SUM(L2) -> 0 | M3: =SUM(K3*L3) -> 0 | O3: =SUM(O2) -> 0 | P3: =SUM(N3*O3) -> 0 | R3: =SUM(R2) -> 0 | S3: =SUM(Q3)*R3 -> 0 | T3: =SUM(J3+M3+P3+S3) -> 250.22 | U3: =SUM(U2) -> 125.11 | AB3: =SUM(U3+W3+Y3+AA2) -> 125.11 | AC3: =SUM(T3+AB3) -> 375.33 | AD3: =SUM(AC3)*$AJ$1 -> 750.66 | AE3: =SUM(F3) -> 11 | AF3: =SUM(AE3)*$AK$1 -> 577.17 | AG3: =SUM(AE3)*$AL$1 -> 193.05 | AH3: =SUM(AF3+AG3) -> 770.22 | AI3: =SUM(AD3+AH3) -> 1520.88
A4: 3 | B4: Nord | C4: A.C. Brescia | D4: Lombardia | E4: Brescia | F4: 6 | G4: 1 | J4: =SUM(J3) -> 250.22 | L4: =SUM(L3) -> 0 | M4: =SUM(K4*L4) -> 0 | O4: =SUM(O3) -> 0 | P4: =SUM(N4*O4) -> 0 | R4: =SUM(R3) -> 0 | S4: =SUM(Q4)*R4 -> 0 | T4: =SUM(J4+M4+P4+S4) -> 250.22 | U4: =SUM(U3) -> 125.11 | AB4: =SUM(U4+W4+Y4+AA3) -> 125.11 | AC4: =SUM(T4+AB4) -> 375.33 | AD4: =SUM(AC4)*$AJ$1 -> 750.66 | AE4: =SUM(F4) -> 6 | AF4: =SUM(AE4)*$AK$1 -> 314.82 | AG4: =SUM(AE4)*$AL$1 -> 105.3 | AH4: =SUM(AF4+AG4) -> 420.12 | AI4: =SUM(AD4+AH4) -> 1170.78
