Workbook

Sheet Elenco attività ACI
A1: PSS | B1: SEDI ACI - PIANO DI SORVEGLIANZA SANITARIA (PSS) | F1: OFFERTA
A2: Codice | B2: Attività M.C. e M.C.C. | D2: Valore | E2: Unità di misura | F2: Valore | G2: Unità di misura
A3: PSSUF | B3: Gestione del PSS (fino a 20 lav.) | C3: Forfait base (fino a 20 lavoratori) addetti ad attività d'ufficio | D3: 250.22 | E3: Euro/sede/anno | F3: 0 | G3: Euro/sede/anno
C4: n. sedi: 88 | D4: =SUM(D3)*88 -> 22019.36 | E4: Euro/totale/anno | F4: =SUM(F3)*79 -> 0 | G4: Euro/totale/anno
A5: PSSU1 | B5: Gestione del PSS (da 21 a 50 lav.) | C5: Forfait base (da 21 fino a 50 lavoratori) addetti ad attività d'ufficio | D5: =SUM(D3) -> 250.22 | E5: Euro/sede/anno | F5: =SUM($F$3) -> 0 | G5: Euro/sede/anno
C6: n. sedi ACI: 13 | D6: =SUM(D5)*13 -> 3252.86 | E6: Euro/totale/anno | F6: =SUM($F$5)*24 -> 0 | G6: Euro/totale/anno
C7: Maggiorazione per ogni unità da 21 a 50 lavoratori addetti ad attività d'ufficio | D7: 8.47 | E7: Euro/sede/anno | F7: 0 | G7: Euro/sede/anno
C8: 237 | D8: =SUM(D7)*C8 -> 2007.39 | E8: Euro/totale/anno | F8: =SUM($F$7*1)*2 -> 0 | G8: Euro/totale/semestre
C9: Sub totale | D9: =SUM(D8+D6) -> 5260.25 | E9: Euro/totale/anno | F9: =SUM(F8:F8)+F6 -> 0 | G9: Euro/totale/anno
A10: PSSU2 | B10: Gestione del PSS (da 51 fino a 700 lav.) | C10: Forfait base (da 51 a 200 lavoratori) addetti ad attività d'ufficio | D10: 291.76 | E10: Euro/sede/anno | F10: 0 | G10: Euro/sede/anno
C11: n. sedi: 5 | D11: =SUM(D10)*5 -> 1458.8 | E11: Euro/totale/anno | F11: =SUM(F10)*5 -> 0 | G11: Euro/totale/anno
C12: Maggiorazione per ogni unità da 51 a 200 lavoratori addetti ad attività d'ufficio | D12: 9.88 | E12: Euro/lavoratore/anno | F12: 0 | G12: Euro/lavoratore/anno
C13: 234 | D13: =SUM(D12)*C13 -> 2311.92 | E13: Euro/totale/anno | F13: =SUM($F$12*30)*2 -> 0 | G13: Euro/totale/anno
C14: Maggiorazione per ogni unità da 201 a 700 lavoratori addetti ad attività d'ufficio | D14: 6.92 | E14: Euro/lavoratore/anno | F14: 0 | G14: Euro/lavoratore/anno
C15: 360 | D15: =SUM(C15)*D14 -> 2491.2 | E15: Euro/totale/anno | F15: =SUM($F$14*20)*2 -> 0 | G15: Euro/totale/anno
C16: TotalePSSU2 | D16: =SUM(D11+D13+D15) -> 6261.92 | E16: Euro/totale/anno | F16: =SUM(F11+F13+F15) -> 0 | G16: Euro/totale/anno
A17: TOTALE PSS | D17: =SUM(D4+D9+D16) -> 33541.53 | E17: Euro/totale/anno | F17: =SUM(F4+F9+F16) -> 0 | G17: Euro/totale/anno
A18: FCUF | B18: Funzione di coordinamento | C18: Forfait base (fino a 20 lavoratori) addetti ad attività d'ufficio | D18: 125.11 | E18: Euro/anno | F18: 0 | G18: Euro/anno
C19: n. sedi: 88 | D19: =SUM(D18)*88 -> 11009.68 | E19: Euro/totale/annuo | F19: =SUM(F18)*77 -> 0 | G19: Euro/totale/annuo
A20: FCU1 | B20: Funzione di coordinamento (da 21 a 50 lav.) | C20: Forfait base (da 21 fino a 50 lavoratori) addetti ad attività d'ufficio | D20: =SUM(D18) -> 125.11 | E20: Euro/anno | F20: 0 | G20: Euro/anno
C21: n. sedi: 13 | D21: =SUM(D20)*13 -> 1626.43 | E21: Euro/totale/anno | F21: =SUM(F20)*24 -> 0 | G21: Euro/totale/anno
C22: Maggiorazione per ogni unità da 21 a 50 lavoratori addetti ad attività d'ufficio | D22: 5.11 | E22: Euro/lavoratore/anno | F22: 0 | G22: Euro/lavoratore/anno
C23: 237 | D23: =SUM(C23)*D22 -> 1211.07 | E23: Euro/totale/anno | F23: =SUM($F$22*1)*2 -> 0 | G23: Euro/totale/anno
C24: Sub totale | D24: =SUM(D23:D23)+D21 -> 2837.5 | E24: Euro/totale/anno | F24: =SUM(F23:F23)+F19 -> 0 | G24: Euro/totale/anno
A25: FCU2 | B25: Funzione di coordinamento (da 51 a 700 lav.) | C25: Forfait base (da 51 a 200 lavoratori) addetti ad attività d'ufficio | D25: =SUM(D18) -> 125.11 | E25: Euro/anno | F25: =SUM(F18) -> 0 | G25: Euro/anno
C26: n. sedi: 5 | D26: =SUM(D25)*5 -> 625.55 | E26: Euro/totale/anno | F26: =SUM(F25)*5 -> 0 | G26: Euro/totale/anno
C27: Maggiorazione per ogni unità da 51 a 200 lavoratori addetti ad attività d'ufficio | D27: =SUM(D22) -> 5.11 | E27: Euro/lavoratore/anno | F27: 0 | G27: Euro/lavoratore/anno
C28: 234 | D28: =SUM(C28)*D27 -> 1195.74 | E28: Euro/totale/anno | F28: =SUM($F$27*30) -> 0 | G28: Euro/totale/anno
C29: Maggiorazione per ogni unità da 201 a 700 lavoratori addetti ad attività d'ufficio | D29: 3.8 | E29: Euro/lavoratore/anno | F29: 0 | G29: Euro/lavoratore/anno
C30: 360 | D30: =SUM(C30)*D29 -> 1368 | E30: Euro/totale/anno | F30: =SUM($F$29*20)*2 -> 0 | G30: Euro/totale/anno
C31: Totale FCU2 | D31: =SUM(D26+D28+D30) -> 3189.29 | E31: Euro/totale/anno | F31: =SUM(F26+F28+F30) -> 0 | G31: Euro/totale/anno
A32: TOTALE FC | D32: =SUM(D19+D24+D31) -> 17036.47 | E32: Euro/totale/anno | F32: =SUM(F19+F24+F31) -> 0 | G32: Euro/totale/anno
A33: TOTALE GENERALE PSS + FC | D33: =SUM(D17+D32) -> 50578 | E33: Euro/totale/anno | F33: =SUM(F17+F32) -> 0 | G33: Euro/totale/anno
H35: OFFERTA
A36: Codice | B36: Visite ed esami | D36: Valore | E36: Unità di misura | F36: Numero medio presunto di prestazioni richieste nell'anno | G36: Importo complessivo | H36: Valore | I36: Unità di misura | J36: Importo complessivo
A37: VM01 | B37: Visite mediche con giudizio di idoneità e cartella sanitaria | C37: Visita medica (periodica, su richiesta del lavoratore, in occasione di cambio di mansione, in occasione di cessazione del rapporto di lavoro, preventiva in fase preassuntiva, precedente alla ripresa del lavoro) | D37: 52.47 | E37: Euro/visita | F37: =SUM(('[1]determ. costi visite'!V2249)+('[1]determ. costi visite'!W2249))/2 -> 1056 | G37: =SUM(F37)*D37 -> 55408.32 | H37: 0 | I37: Euro/visita | J37: =SUM($F$37)*H37 -> 0
A38: ES01 | B38: Esami specialistici | C38: Visita ergoftalmologica (ergovision) | D38: 17.55 | E38: Euro/visita | F38: =SUM(('[1]determ. costi visite'!V2249)+('[1]determ. costi visite'!W2249))/2 -> 1056 | G38: =SUM(F38)*D38 -> 18532.8 | H38: 0 | I38: Euro/visita | J38: =SUM($F$38)*H38 -> 0
A39: Sub totale | G39: =SUM(G37:G38) -> 73941.12 | J39: =SUM(J37:J38) -> 0
A40: Oneri della sicurezza non previsti trattandosi di prestazione assimilabile all'intellettuale | G40: 0 | J40: =SUM($K$40) -> 0
A41: TOTALE VISITE | G41: =SUM(G39+G40) -> 73941.12 | J41: =SUM(J39+J40) -> 0 | K41: =SUM(D33)+G41 -> 124519.12 | L41: totale annuo presunto
F43: OFFERTA
A44: Codice | B44: Esami | D44: Valore | E44: Unità di misura | F44: Valore | G44: Unità di misura
A45: ES03 | B45: Esami specialistici | C45: ECG | D45: 17.55 | E45: Euro/visita | G45: Euro/visita
A46: EL51 | B46: Esami di laboratorio per tossicodipendenze | C46: Test tossicologico-analitico di primo livello in laboratorio: campione A | D46: 81.33 | E46: Euro/campione | G46: Euro/campione
A47: EL52 | B47: Esami di laboratorio per tossicodipendenze | C47: Test tossicologico-analitico di primo livello con tecniche immunochimiche rapide on site: campione A | D47: 68.21 | E47: Euro/campione | G47: Euro/campione
A48: EL53 | B48: Esami di laboratorio per tossicodipendenze | C48: Analisi di conferma della positività del campione mediante tecniche cromatografiche accoppiate alla spettometria di massa: campione B - Prima molecola | D48: 196.76 | E48: Euro/campione | G48: Euro/campione
A49: EL54 | B49: Esami di laboratorio per tossicodipendenze | C49: Analisi di conferma della positività del campione mediante tecniche cromatografiche accoppiate alla spettometria di massa: campione B - molecole successive alla prima | D49: 89.2 | E49: Euro/campione | G49: Euro/campione
A50: EL55 | B50: Esami di laboratorio per tossicodipendenze | C50: Analisi di revisione: campione C - prima molecola | D50: 230.87 | E50: Euro/campione | G50: Euro/campione
A51: EL56 | B51: Esami di laboratorio per tossicodipendenze | C51: Analisi di revisione: campione C - molecole successive alla prima | D51: 88.15 | E51: Euro/campione | G51: Euro/campione
A52: EL57 | B52: Esami di laboratorio per tossicodipendenze | C52: Test rapido con tecnica colorimetrica | D52: 22.04 | E52: Euro/esame | G52: Euro/esame
A53: EL58 | B53: Esami di laboratorio per alcoldipendenze | C53: CDT - Transferrina desialata (escluso kit raccolta campione) | D53: 23.61 | E53: Euro/campione | G53: Euro/campione
A54: EL59 | B54: Esami di laboratorio per alcoldipendenze | C54: Test di conferma alcolemia su campione ematico (escluso kit raccolta campione € 5,00) | D54: 119.63 | E54: Euro/campione | G54: Euro/campione
A55: EL60 | B55: Esami di laboratorio per alcoldipendenze | C55: Test alcolimetrico su aria respirata mediante etilometro | D55: 2.62 | E55: Euro/esame | G55: Euro/esame
A56: EL61 | B56: Esami di laboratorio per alcoldipendenze | C56: Ricerca di Etanolo | D56: 22.04 | E56: Euro/esame | G56: Euro/esame
A57: EL62 | B57: Esami di laboratorio per alcoldipendenze | C57: Kit per raccolta campione ematico per CDT | D57: 4.72 | E57: Euro/Kit | G57: Euro/Kit
A58: extra | B58: Aggiornamento DVR | C58: Partecipazione del Medico Competente al Gruppo di Lavoro per VALUTAZIONI STRESS LAVORO CORRELATO – previste n. 2 riunioni in videoconferenza per D.T./A.M. | D58: 58.3 | E58: Euro/cd. | G58: Euro/cd. | K58: =SUM(K41+I58) -> 124519.12

Sheet Costi servizio ACI
A1: N. | C1: Area geograf. | D1: Area/Direzione | E1: Regione | F1: Città | G1: N. lav. PRA | H1: Dir. A.C. | I1: N. lav. totali | J1: PRA fino a 20 lav. | K1: da 21 a 50 lav. | L1: da 51 a 700 lav. | M1: Costo base PSSUF fino a 20 lav. | N1: Delta da 21 a 50 | O1: Magg.ne costo un. base PSSU1 da 21 a 50 lav. | P1: Totale Magg.ne da 21 a 50 | Q1: Delta da 51 a 200 lav. | R1: Magg.ne costo un. base PSSU2 da 51 a 200 lav. | S1: Totale Magg.ne da 51 a 200 | T1: Delta da 200 a 700 lav. | U1: Magg.ne costo un. base PSSU2 da 201 a 700 lav. | V1: Totale Magg.ne da 201 a 700 lav. | W1: Totale PSS annuo | X1: Costo base FCUF fino a 20 lav. | Y1: Magg.ne costo un. base FCU1 da 21 a 50 lav. | Z1: Totale Magg.ne da 21 a 50 | AA1: Magg.ne costo un. base FCU2 da 51 a 200 lav. | AB1: Totale Magg.ne da 51 a 200 | AC1: Magg.ne costo un. base FCU2 da 201 a 700 lav. | AD1: Totale Magg.ne da 201 a 700 lav. | AE1: Totale FC annuo | AF1: Totale PSS + FC annuo | AG1: Totale PSS + FC biennio | AH1: N. visite prev. biennio | AI1: Totale VMG e VMS biennio | AJ1: Totale VE biennio | AK1: Totale VMG+VMS+VE biennio | AL1: Totale biennio | AM1: 2 | AN1: =SUM('[1]Elenco attività ACI'!D37) -> 52.47 | AO1: =SUM('[1]Elenco attività ACI'!D38) -> 17.55 | AP1: =SUM(AN1:AO1) -> 70.02
A2: 1 | B2: 1 | C2: Nord | D2: Brescia Uff. PRA Dir. T. | E2: Lombardia | F2: Bergamo | G2: =SUM('[1]determ. costi visite'!AB128:AB146) -> 19 | H2: =SUM('[1]determ. costi visite'!V851) -> 1 | I2: =SUM(G2+H2) -> 20 | J2: 1 | K2: NO | M2: =SUM('Elenco attività ACI'!D3) -> 250.22 | O2: =SUM('Elenco attività ACI'!D7) -> 8.47 | P2: =SUM(N2*O2) -> 0 | R2: =SUM('Elenco attività ACI'!D12) -> 9.88 | S2: =SUM(Q2*R2) -> 0 | U2: =SUM('Elenco attività ACI'!D14) -> 6.92 | V2: =SUM(T2)*U2 -> 0 | W2: =SUM(M2+P2+S2+V2) -> 250.22 | X2: =SUM('Elenco attività ACI'!D18) -> 125.11 | Y2: =SUM('Elenco attività ACI'!D22) -> 5.11 | Z2: =SUM(N2*Y2) -> 0 | AA2: =SUM('Elenco attività ACI'!D27) -> 5.11 | AB2: =SUM(Q2*AA2) -> 0 | AC2: =SUM('Elenco attività ACI'!D29) -> 3.8 | AD2: =SUM(T2)*AC2 -> 0 | AE2: =SUM(X2+Z2+AB2+AD2) -> 125.11 | AF2: =SUM(W2+AE2) -> 375.33 | AG2: =SUM(AF2)*$AM$1 -> 750.66 | AH2: =SUM('[1]Costi misura'!Q2:Q3) -> 20 | AI2: =SUM(AH2)*$AN$1 -> 1049.4 | AJ2: =SUM(AH2)*$AO$1 -> 351 | AK2: =SUM(AI2+AJ2) -> 1400.4 | AL2: =SUM(AG2+AK2) -> 2151.06
A3: =SUM(A2+1) -> 2 | B3: 1 | C3: Nord | D3: Brescia Uff. PRA Dir. T. | E3: Lombardia | F3: Brescia (D.T.) | G3: =SUM('[1]determ. costi visite'!AB216:AB245) -> 30 | H3: =SUM('[1]determ. costi visite'!T857) -> 1 | I3: =SUM(G3+H3) -> 31 | J3: NO | K3: 1 | M3: =SUM('Elenco attività ACI'!$D$3) -> 250.22 | N3: 11 | O3: =SUM('Elenco attività ACI'!$D$7) -> 8.47 | P3: =SUM(N3*O3) -> 93.17 | R3: =SUM('Elenco attività ACI'!$D$12) -> 9.88 | S3: =SUM(Q3*R3) -> 0 | U3: =SUM('Elenco attività ACI'!$D$14) -> 6.92 | V3: =SUM(T3)*U3 -> 0 | W3: =SUM(M3+P3+S3+V3) -> 343.39 | X3: =SUM('Elenco attività ACI'!$D$18) -> 125.11 | Y3: =SUM('Elenco attività ACI'!$D$22) -> 5.11 | Z3: =SUM(N3*Y3) -> 56.21 | AA3: =SUM('Elenco attività ACI'!$D$27) -> 5.11 | AB3: =SUM(Q3*AA3) -> 0 | AC3: =SUM('Elenco attività ACI'!$D$29) -> 3.8 | AD3: =SUM(T3)*AC3 -> 0 | AE3: =SUM(X3+Z3+AB3+AD2) -> 181.32 | AF3: =SUM(W3+AE3) -> 524.71 | AG3: =SUM(AF3)*$AM$1 -> 1049.42 | AH3: =SUM('[1]Costi misura'!Q4:Q5) -> 31 | AI3: =SUM(AH3)*$AN$1 -> 1626.57 | AJ3: =SUM(AH3)*$AO$1 -> 544.05 | AK3: =SUM(AI3+AJ3) -> 2170.62 | AL3: =SUM(AG3+AK3) -> 3220.04
A4: =SUM(A3)+1 -> 3 | B4: 1 | C4: Nord | D4: Brescia Uff. PRA Dir. T. | E4: Lombardia | F4: Cremona | G4: =SUM('[1]determ. costi visite'!AB357:AB366) -> 10 | H4: =SUM('[1]determ. costi visite'!T866) -> 1 | I4: =SUM(G4+H4) -> 11 | J4: 1 | K4: NO | M4: =SUM('Elenco attività ACI'!$D$3) -> 250.22 | O4: =SUM('Elenco attività ACI'!$D$7) -> 8.47 | P4: =SUM(N4*O4) -> 0 | R4: =SUM('Elenco attività ACI'!$D$12) -> 9.88 | S4: =SUM(Q4*R4) -> 0 | U4: =SUM('Elenco attività ACI'!$D$14) -> 6.92 | V4: =SUM(T4)*U4 -> 0 | W4: =SUM(M4+P4+S4+V4) -> 250.22 | X4: =SUM('Elenco attività ACI'!$D$18) -> 125.11 | Y4: =SUM('Elenco attività ACI'!$D$22) -> 5.11 | Z4: =SUM(N4*Y4) -> 0 | AA4: =SUM('Elenco attività ACI'!$D$27) -> 5.11 | AB4: =SUM(Q4*AA4) -> 0 | AC4: =SUM('Elenco attività ACI'!$D$29) -> 3.8 | AD4: =SUM(T4)*AC4 -> 0 | AE4: =SUM(X4+Z4+AB4+AD3) -> 125.11 | AF4: =SUM(W4+AE4) -> 375.33 | AG4: =SUM(AF4)*$AM$1 -> 750.66 | AH4: =SUM('[1]Costi misura'!Q6:Q7) -> 11 | AI4: =SUM(AH4)*$AN$1 -> 577.17 | AJ4: =SUM(AH4)*$AO$1 -> 193.05 | AK4: =SUM(AI4+AJ4) -> 770.22 | AL4: =SUM(AG4+AK4) -> 1520.88
A5: =SUM(A4)+1 -> 4 | B5: 1 | C5: Nord | D5: Brescia Uff. PRA Dir. T. | E5: Lombardia | F5: Mantova | G5: =SUM('[1]determ. costi visite'!AB747:AB757) -> 11 | H5: =SUM('[1]determ. costi visite'!T887) -> 1 | I5: =SUM(G5+H5) -> 12 | J5: 1 | K5: NO | M5: =SUM('Elenco attività ACI'!$D$3) -> 250.22 | O5: =SUM('Elenco attività ACI'!$D$7) -> 8.47 | P5: =SUM(N5*O5) -> 0 | R5: =SUM('Elenco attività ACI'!$D$12) -> 9.88 | S5: =SUM(Q5*R5) -> 0 | U5: =SUM('Elenco attività ACI'!$D$14) -> 6.92 | V5: =SUM(T5)*U5 -> 0 | W5: =SUM(M5+P5+S5+V5) -> 250.22 | X5: =SUM('Elenco attività ACI'!$D$18) -> 125.11 | Y5: =SUM('Elenco attività ACI'!$D$22) -> 5.11 | Z5: =SUM(N5*Y5) -> 0 | AA5: =SUM('Elenco attività ACI'!$D$27) -> 5.11 | AB5: =SUM(Q5*AA5) -> 0 | AC5: =SUM('Elenco attività ACI'!$D$29) -> 3.8 | AD5: =SUM(T5)*AC5 -> 0 | AE5: =SUM(X5+Z5+AB5+AD4) -> 125.11 | AF5: =SUM(W5+AE5) -> 375.33 | AG5: =SUM(AF5)*$AM$1 -> 750.66 | AH5: =SUM('[1]Costi misura'!Q8:Q9) -> 12 | AI5: =SUM(AH5)*$AN$1 -> 629.64 | AJ5: =SUM(AH5)*$AO$1 -> 210.6 | AK5: =SUM(AI5+AJ5) -> 840.24 | AL5: =SUM(AG5+AK5) -> 1590.9
A6: =SUM(A5)+1 -> 5 | B6: 1 | C6: Nord | D6: Genova Uff. PRA Dir. T. | E6: Liguria | F6: Genova (D.T.) | G6: =SUM('[1]determ. costi visite'!AB509:AB529) -> 21 | H6: =SUM('[1]determ. costi visite'!T876) -> 1 | I6: =SUM(G6+H6) -> 22 | J6: NO | K6: 1 | M6: =SUM('Elenco attività ACI'!$D$3) -> 250.22 | N6: 2 | O6: =SUM('Elenco attività ACI'!$D$7) -> 8.47 | P6: =SUM(N6*O6) -> 16.94 | R6: =SUM('Elenco attività ACI'!$D$12) -> 9.88 | S6: =SUM(Q6*R6) -> 0 | U6: =SUM('Elenco attività ACI'!$D$14) -> 6.92 | V6: =SUM(T6)*U6 -> 0 | W6: =SUM(M6+P6+S6+V6) -> 267.16 | X6: =SUM('Elenco attività ACI'!$D$18) -> 125.11 | Y6: =SUM('Elenco attività ACI'!$D$22) -> 5.11 | Z6: =SUM(N6*Y6) -> 10.22 | AA6: =SUM('Elenco attività ACI'!$D$27) -> 5.11 | AB6: =SUM(Q6*AA6) -> 0 | AC6: =SUM('Elenco attività ACI'!$D$29) -> 3.8 | AD6: =SUM(T6)*AC6 -> 0 | AE6: =SUM(X6+Z6+AB6+AD5) -> 135.33 | AF6: =SUM(W6+AE6) -> 402.49 | AG6: =SUM(AF6)*$AM$1 -> 804.98 | AH6: =SUM('[1]Costi misura'!Q10:Q11) -> 21 | AI6: =SUM(AH6)*$AN$1 -> 1101.87 | AJ6: =SUM(AH6)*$AO$1 -> 368.55 | AK6: =SUM(AI6+AJ6) -> 1470.42 | AL6: =SUM(AG6+AK6) -> 2275.4
A7: =SUM(A6)+1 -> 6 | B7: 1 | C7: Nord | D7: Genova Uff. PRA Dir. T. | E7: Liguria | F7: Imperia | G7: =SUM('[1]determ. costi visite'!AB544:AB553) -> 10 | H7: =SUM('[1]determ. costi visite'!T903) -> 1 | I7: =SUM(G7+H7) -> 11 | J7: 1 | K7: NO | M7: =SUM('Elenco attività ACI'!$D$3) -> 250.22 | O7: =SUM('Elenco attività ACI'!$D$7) -> 8.47 | P7: =SUM(N7*O7) -> 0 | R7: =SUM('Elenco attività ACI'!$D$12) -> 9.88 | S7: =SUM(Q7*R7) -> 0 | U7: =SUM('Elenco attività ACI'!$D$14) -> 6.92 | V7: =SUM(T7)*U7 -> 0 | W7: =SUM(M7+P7+S7+V7) -> 250.22 | X7: =SUM('Elenco attività ACI'!$D$18) -> 125.11 | Y7: =SUM('Elenco attività ACI'!$D$22) -> 5.11 | Z7: =SUM(N7*Y7) -> 0 | AA7: =SUM('Elenco attività ACI'!$D$27) -> 5.11 | AB7: =SUM(Q7*AA7) -> 0 | AC7: =SUM('Elenco attività ACI'!$D$29) -> 3.8 | AD7: =SUM(T7)*AC7 -> 0 | AE7: =SUM(X7+Z7+AB7+AD6) -> 125.11 | AF7: =SUM(W7+AE7) -> 375.33 | AG7: =SUM(AF7)*$AM$1 -> 750.66 | AH7: =SUM('[1]Costi misura'!Q12:Q13) -> 11 | AI7: =SUM(AH7)*$AN$1 -> 577.17 | AJ7: =SUM(AH7)*$AO$1 -> 193.05 | AK7: =SUM(AI7+AJ7) -> 770.22 | AL7: =SUM(AG7+AK7) -> 1520.88
A8: =SUM(A7)+1 -> 7 | B8: 1 | C8: Nord | D8: Genova Uff. PRA Dir. T. | E8: Liguria | F8: La Spezia | G8: =SUM('[1]determ. costi visite'!AB1948:AB1954) -> 7 | H8: =SUM('[1]determ. costi visite'!T919) -> 1 | I8: =SUM(G8+H8) -> 8 | J8: 1 | K8: NO | M8: =SUM('Elenco attività ACI'!$D$3) -> 250.22 | O8: =SUM('Elenco attività ACI'!$D$7) -> 8.47 | P8: =SUM(N8*O8) -> 0 | R8: =SUM('Elenco attività ACI'!$D$12) -> 9.88 | S8: =SUM(Q8*R8) -> 0 | U8: =SUM('Elenco attività ACI'!$D$14) -> 6.92 | V8: =SUM(T8)*U8 -> 0 | W8: =SUM(M8+P8+S8+V8) -> 250.22 | X8: =SUM('Elenco attività ACI'!$D$18) -> 125.11 | Y8: =SUM('Elenco attività ACI'!$D$22) -> 5.11 | Z8: =SUM(N8*Y8) -> 0 | AA8: =SUM('Elenco attività ACI'!$D$27) -> 5.11 | AB8: =SUM(Q8*AA8) -> 0 | AC8: =SUM('Elenco attività ACI'!$D$29) -> 3.8 | AD8: =SUM(T8)*AC8 -> 0 | AE8: =SUM(X8+Z8+AB8+AD7) -> 125.11 | AF8: =SUM(W8+AE8) -> 375.33 | AG8: =SUM(AF8)*$AM$1 -> 750.66 | AH8: =SUM('[1]Costi misura'!Q14:Q15) -> 6 | AI8: =SUM(AH8)*$AN$1 -> 314.82 | AJ8: =SUM(AH8)*$AO$1 -> 105.3 | AK8: =SUM(AI8+AJ8) -> 420.12 | AL8: =SUM(AG8+AK8) -> 1170.78
A9: =SUM(A8)+1 -> 8 | B9: 1 | C9: Nord | D9: Genova Uff. PRA Dir. T. | E9: Liguria | F9: Savona | G9: =SUM('[1]determ. costi visite'!AB1978:AB1984) -> 7 | I9: =SUM(G9+H9) -> 7 | J9: 1 | K9: NO | M9: =SUM('Elenco attività ACI'!$D$3) -> 250.22 | O9: =SUM('Elenco attività ACI'!$D$7) -> 8.47 | P9: =SUM(N9*O9) -> 0 | R9: =SUM('Elenco attività ACI'!$D$12) -> 9.88 | S9: =SUM(Q9*R9) -> 0 | U9: =SUM('Elenco attività ACI'!$D$14) -> 6.92 | V9: =SUM(T9)*U9 -> 0 | W9: =SUM(M9+P9+S9+V9) -> 250.22 | X9: =SUM('Elenco attività ACI'!$D$18) -> 125.11 | Y9: =SUM('Elenco attività ACI'!$D$22) -> 5.11 | Z9: =SUM(N9*Y9) -> 0 | AA9: =SUM('Elenco attività ACI'!$D$27) -> 5.11 | AB9: =SUM(Q9*AA9) -> 0 | AC9: =SUM('Elenco attività ACI'!$D$29) -> 3.8 | AD9: =SUM(T9)*AC9 -> 0 | AE9: =SUM(X9+Z9+AB9+AD8) -> 125.11 | AF9: =SUM(W9+AE9) -> 375.33 | AG9: =SUM(AF9)*$AM$1 -> 750.66 | AH9: =SUM('[1]Costi misura'!Q16) -> 6 | AI9: =SUM(AH9)*$AN$1 -> 314.82 | AJ9: =SUM(AH9)*$AO$1 -> 105.3 | AK9: =SUM(AI9+AJ9) -> 420.12 | AL9: =SUM(AG9+AK9) -> 1170.78
A10: =SUM(A9)+1 -> 9 | B10: 1 | C10: Nord | D10: Milano Uff. PRA Area M. | E10: Lombardia | F10: Lodi | G10: =SUM('[1]determ. costi visite'!AB608:AB617) -> 10 | I10: =SUM(G10:H10) -> 10 | J10: 1 | K10: NO | M10: =SUM('Elenco attività ACI'!$D$3) -> 250.22 | O10: =SUM('Elenco attività ACI'!$D$7) -> 8.47 | P10: =SUM(N10*O10) -> 0 | R10: =SUM('Elenco attività ACI'!$D$12) -> 9.88 | S10: =SUM(Q10*R10) -> 0 | U10: =SUM('Elenco attività ACI'!$D$14) -> 6.92 | V10: =SUM(T10)*U10 -> 0 | W10: =SUM(M10+P10+S10+V10) -> 250.22 | X10: =SUM('Elenco attività ACI'!$D$18) -> 125.11 | Y10: =SUM('Elenco attività ACI'!$D$22) -> 5.11 | Z10: =SUM(N10*Y10) -> 0 | AA10: =SUM('Elenco attività ACI'!$D$27) -> 5.11 | AB10: =SUM(Q10*AA10) -> 0 | AC10: =SUM('Elenco attività ACI'!$D$29) -> 3.8 | AD10: =SUM(T10)*AC10 -> 0 | AE10: =SUM(X10+Z10+AB10+AD9) -> 125.11 | AF10: =SUM(W10+AE10) -> 375.33 | AG10: =SUM(AF10)*$AM$1 -> 750.66 | AH10: =SUM('[1]Costi misura'!Q17) -> 8 | AI10: =SUM(AH10)*$AN$1 -> 419.76 | AJ10: =SUM(AH10)*$AO$1 -> 140.4 | AK10: =SUM(AI10+AJ10) -> 560.16 | AL10: =SUM(AG10+AK10) -> 1310.82
A11: =SUM(A10+1) -> 10 | B11: 1 | C11: Nord | D11: Milano Uff. PRA Area M. | E11: Lombardia | F11: Milano (A.M.) | G11: =SUM('[1]determ. costi visite'!AB654:AB732) -> 79 | H11: 1 | I11: =SUM(G11:H11) -> 80 | J11: NO | K11: NO | L11: 1 | M11: =SUM('Elenco attività ACI'!$D$3) -> 250.22 | N11: 30 | O11: =SUM('Elenco attività ACI'!$D$7) -> 8.47 | P11: =SUM(N11*O11) -> 254.1 | Q11: 30 | R11: =SUM('Elenco attività ACI'!$D$12) -> 9.88 | S11: =SUM(Q11*R11) -> 296.4 | U11: =SUM('Elenco attività ACI'!$D$14) -> 6.92 | V11: =SUM(T11)*U11 -> 0 | W11: =SUM(M11+P11+S11+V11) -> 800.72 | X11: =SUM('Elenco attività ACI'!$D$18) -> 125.11 | Y11: =SUM('Elenco attività ACI'!$D$22) -> 5.11 | Z11: =SUM(N11*Y11) -> 153.3 | AA11: =SUM('Elenco attività ACI'!$D$27) -> 5.11 | AB11: =SUM(Q11*AA11) -> 153.3 | AC11: =SUM('Elenco attività ACI'!$D$29) -> 3.8 | AD11: =SUM(T11)*AC11 -> 0 | AE11: =SUM(X11+Z11+AB11+AD10) -> 431.71 | AF11: =SUM(W11+AE11) -> 1232.43 | AG11: =SUM(AF11)*$AM$1 -> 2464.86 | AH11: =SUM('[1]Costi misura'!Q18:Q19) -> 79 | AI11: =SUM(AH11)*$AN$1 -> 4145.13 | AJ11: =SUM(AH11)*$AO$1 -> 1386.45 | AK11: =SUM(AI11+AJ11) -> 5531.58 | AL11: =SUM(AG11+AK11) -> 7996.44
A12: =SUM(A11+1) -> 11 | B12: 1 | C12: Nord | D12: Milano Uff. PRA Area M. | E12: Lombardia | F12: Pavia | G12: =SUM('[1]determ. costi visite'!AB1147:AB1163) -> 17 | H12: =SUM('[1]determ. costi visite'!T907) -> 1 | I12: =SUM(G12:H12) -> 18 | J12: 1 | K12: NO | M12: =SUM('Elenco attività ACI'!D10) -> 291.76 | O12: =SUM('Elenco attività ACI'!$D$7) -> 8.47 | P12: =SUM(N12*O12) -> 0 | R12: =SUM('Elenco attività ACI'!$D$12) -> 9.88 | S12: =SUM(Q12*R12) -> 0 | U12: =SUM('Elenco attività ACI'!$D$14) -> 6.92 | V12: =SUM(T12)*U12 -> 0 | W12: =SUM(M12+P12+S12+V12) -> 291.76 | X12: =SUM('Elenco attività ACI'!$D$18) -> 125.11 | Y12: =SUM('Elenco attività ACI'!$D$22) -> 5.11 | Z12: =SUM(N12*Y12) -> 0 | AA12: =SUM('Elenco attività ACI'!$D$27) -> 5.11 | AB12: =SUM(Q12*AA12) -> 0 | AC12: =SUM('Elenco attività ACI'!$D$29) -> 3.8 | AD12: =SUM(T12)*AC12 -> 0 | AE12: =SUM(X12+Z12+AB12+AD11) -> 125.11 | AF12: =SUM(W12+AE12) -> 416.87 | AG12: =SUM(AF12)*$AM$1 -> 833.74 | AH12: =SUM('[1]Costi misura'!Q20:Q21) -> 17 | AI12: =SUM(AH12)*$AN$1 -> 891.99 | AJ12: =SUM(AH12)*$AO$1 -> 298.35 | AK12: =SUM(AI12+AJ12) -> 1190.34 | AL12: =SUM(AG12+AK12) -> 2024.08
A13: =SUM(A12)+1 -> 12 | B13: 1 | C13: Nord | D13: Torino Uff. PRA Area M. | E13: Piemonte | F13: Alessandria | G13: =SUM('[1]determ. costi visite'!AB12:AB22) -> 11 | H13: =SUM('[1]determ. costi visite'!T843) -> 1 | I13: =SUM(G13:H13) -> 12 | J13: 1 | K13: NO | M13: =SUM('Elenco attività ACI'!$D$3) -> 250.22 | O13: =SUM('Elenco attività ACI'!$D$7) -> 8.47 | P13: =SUM(N13*O13) -> 0 | R13: =SUM('Elenco attività ACI'!$D$12) -> 9.88 | S13: =SUM(Q13*R13) -> 0 | U13: =SUM('Elenco attività ACI'!$D$14) -> 6.92 | V13: =SUM(T13)*U13 -> 0 | W13: =SUM(M13+P13+S13+V13) -> 250.22 | X13: =SUM('Elenco attività ACI'!$D$18) -> 125.11 | Y13: =SUM('Elenco attività ACI'!$D$22) -> 5.11 | Z13: =SUM(N13*Y13) -> 0 | AA13: =SUM('Elenco attività ACI'!$D$27) -> 5.11 | AB13: =SUM(Q13*AA13) -> 0 | AC13: =SUM('Elenco attività ACI'!$D$29) -> 3.8 | AD13: =SUM(T13)*AC13 -> 0 | AE13: =SUM(X13+Z13+AB13+AD12) -> 125.11 | AF13: =SUM(W13+AE13) -> 375.33 | AG13: =SUM(AF13)*$AM$1 -> 750.66 | AH13: =SUM('[1]Costi misura'!Q22:Q23) -> 12 | AI13: =SUM(AH13)*$AN$1 -> 629.64 | AJ13: =SUM(AH13)*$AO$1 -> 210.6 | AK13: =SUM(AI13+AJ13) -> 840.24 | AL13: =SUM(AG13+AK13) -> 1590.9
A14: =SUM(A13)+1 -> 13 | B14: 1 | C14: Nord | D14: Torino Uff. PRA Area M. | E14: Piemonte | F14: Asti | G14: =SUM('[1]determ. costi visite'!AB68:AB75) -> 8 | I14: =SUM(G14:H14) -> 8 | J14: 1 | K14: NO | M14: =SUM('Elenco attività ACI'!$D$3) -> 250.22 | O14: =SUM('Elenco attività ACI'!$D$7) -> 8.47 | P14: =SUM(N14*O14) -> 0 | R14: =SUM('Elenco attività ACI'!$D$12) -> 9.88 | S14: =SUM(Q14*R14) -> 0 | U14: =SUM('Elenco attività ACI'!$D$14) -> 6.92 | V14: =SUM(T14)*U14 -> 0 | W14: =SUM(M14+P14+S14+V14) -> 250.22 | X14: =SUM('Elenco attività ACI'!$D$18) -> 125.11 | Y14: =SUM('Elenco attività ACI'!$D$22) -> 5.11 | Z14: =SUM(N14*Y14) -> 0 | AA14: =SUM('Elenco attività ACI'!$D$27) -> 5.11 | AB14: =SUM(Q14*AA14) -> 0 | AC14: =SUM('Elenco attività ACI'!$D$29) -> 3.8 | AD14: =SUM(T14)*AC14 -> 0 | AE14: =SUM(X14+Z14+AB14+AD13) -> 125.11 | AF14: =SUM(W14+AE14) -> 375.33 | AG14: =SUM(AF14)*$AM$1 -> 750.66 | AH14: =SUM('[1]Costi misura'!Q24) -> 7 | AI14: =SUM(AH14)*$AN$1 -> 367.29 | AJ14: =SUM(AH14)*$AO$1 -> 122.85 | AK14: =SUM(AI14+AJ14) -> 490.14 | AL14: =SUM(AG14+AK14) -> 1240.8
A15: =SUM(A14)+1 -> 14 | B15: 1 | C15: Nord | D15: Torino Uff. PRA Area M. | E15: Piemonte | F15: Biella | G15: =SUM('[1]determ. costi visite'!AB147:AB154) -> 8 | I15: =SUM(G15:H15) -> 8 | J15: 1 | K15: NO | M15: =SUM('Elenco attività ACI'!$D$3) -> 250.22 | O15: =SUM('Elenco attività ACI'!$D$7) -> 8.47 | P15: =SUM(N15*O15) -> 0 | R15: =SUM('Elenco attività ACI'!$D$12) -> 9.88 | S15: =SUM(Q15*R15) -> 0 | U15: =SUM('Elenco attività ACI'!$D$14) -> 6.92 | V15: =SUM(T15)*U15 -> 0 | W15: =SUM(M15+P15+S15+V15) -> 250.22 | X15: =SUM('Elenco attività ACI'!$D$18) -> 125.11 | Y15: =SUM('Elenco attività ACI'!$D$22) -> 5.11 | Z15: =SUM(N15*Y15) -> 0 | AA15: =SUM('Elenco attività ACI'!$D$27) -> 5.11 | AB15: =SUM(Q15*AA15) -> 0 | AC15: =SUM('Elenco attività ACI'!$D$29) -> 3.8 | AD15: =SUM(T15)*AC15 -> 0 | AE15: =SUM(X15+Z15+AB15+AD14) -> 125.11 | AF15: =SUM(W15+AE15) -> 375.33 | AG15: =SUM(AF15)*$AM$1 -> 750.66 | AH15: =SUM('[1]Costi misura'!Q25:Q26) -> 8 | AI15: =SUM(AH15)*$AN$1 -> 419.76 | AJ15: =SUM(AH15)*$AO$1 -> 140.4 | AK15: =SUM(AI15+AJ15) -> 560.16 | AL15: =SUM(AG15+AK15) -> 1310.82
A16: =SUM(A15)+1 -> 15 | B16: 1 | C16: Nord | D16: Torino Uff. PRA Area M. | E16: Piemonte | F16: Cuneo | G16: =SUM('[1]determ. costi visite'!AB330:AB344) -> 15 | H16: =SUM('[1]determ. costi visite'!T864) -> 1 | I16: =SUM(G16:H16) -> 16 | J16: 1 | K16: NO | M16: =SUM('Elenco attività ACI'!$D$3) -> 250.22 | O16: =SUM('Elenco attività ACI'!$D$7) -> 8.47 | P16: =SUM(N16*O16) -> 0 | R16: =SUM('Elenco attività ACI'!$D$12) -> 9.88 | S16: =SUM(Q16*R16) -> 0 | U16: =SUM('Elenco attività ACI'!$D$14) -> 6.92 | V16: =SUM(T16)*U16 -> 0 | W16: =SUM(M16+P16+S16+V16) -> 250.22 | X16: =SUM('Elenco attività ACI'!$D$18) -> 125.11 | Y16: =SUM('Elenco attività ACI'!$D$22) -> 5.11 | Z16: =SUM(N16*Y16) -> 0 | AA16: =SUM('Elenco attività ACI'!$D$27) -> 5.11 | AB16: =SUM(Q16*AA16) -> 0 | AC16: =SUM('Elenco attività ACI'!$D$29) -> 3.8 | AD16: =SUM(T16)*AC16 -> 0 | AE16: =SUM(X16+Z16+AB16+AD15) -> 125.11 | AF16: =SUM(W16+AE16) -> 375.33 | AG16: =SUM(AF16)*$AM$1 -> 750.66 | AH16: =SUM('[1]Costi misura'!Q27:Q28) -> 15 | AI16: =SUM(AH16)*$AN$1 -> 787.05 | AJ16: =SUM(AH16)*$AO$1 -> 263.25 | AK16: =SUM(AI16+AJ16) -> 1050.3 | AL16: =SUM(AG16+AK16) -> 1800.96
A17: =SUM(A16)+1 -> 16 | B17: 1 | C17: Nord | D17: Torino Uff. PRA Area M. | E17: Piemonte | F17: Novara | G17: =SUM('[1]determ. costi visite'!AB939:AB949) -> 11 | H17: =SUM('[1]determ. costi visite'!T892) -> 1 | I17: =SUM(G17:H17) -> 12 | J17: 1 | K17: NO | M17: =SUM('Elenco attività ACI'!$D$3) -> 250.22 | O17: =SUM('Elenco attività ACI'!$D$7) -> 8.47 | P17: =SUM(N17*O17) -> 0 | R17: =SUM('Elenco attività ACI'!$D$12) -> 9.88 | S17: =SUM(Q17*R17) -> 0 | U17: =SUM('Elenco attività ACI'!$D$14) -> 6.92 | V17: =SUM(T17)*U17 -> 0 | W17: =SUM(M17+P17+S17+V17) -> 250.22 | X17: =SUM('Elenco attività ACI'!$D$18) -> 125.11 | Y17: =SUM('Elenco attività ACI'!$D$22) -> 5.11 | Z17: =SUM(N17*Y17) -> 0 | AA17: =SUM('Elenco attività ACI'!$D$27) -> 5.11 | AB17: =SUM(Q17*AA17) -> 0 | AC17: =SUM('Elenco attività ACI'!$D$29) -> 3.8 | AD17: =SUM(T17)*AC17 -> 0 | AE17: =SUM(X17+Z17+AB17+AD16) -> 125.11 | AF17: =SUM(W17+AE17) -> 375.33 | AG17: =SUM(AF17)*$AM$1 -> 750.66 | AH17: =SUM('[1]Costi misura'!Q29:Q30) -> 12 | AI17: =SUM(AH17)*$AN$1 -> 629.64 | AJ17: =SUM(AH17)*$AO$1 -> 210.6 | AK17: =SUM(AI17+AJ17) -> 840.24 | AL17: =SUM(AG17+AK17) -> 1590.9
A18: =SUM(A17)+1 -> 17 | B18: 1 | C18: Nord | D18: Torino Uff. PRA Area M. | E18: Piemonte | F18: Torino (A.M.) | G18: =SUM('[1]determ. costi visite'!AB2017:AB2073) -> 57 | H18: =SUM('[1]determ. costi visite'!T925) -> 1 | I18: =SUM(G18:H18) -> 58 | J18: NO | K18: NO | L18: 1 | M18: =SUM('Elenco attività ACI'!$D$3) -> 250.22 | N18: 30 | O18: =SUM('Elenco attività ACI'!$D$7) -> 8.47 | P18: =SUM(N18*O18) -> 254.1 | Q18: 8 | R18: =SUM('Elenco attività ACI'!$D$12) -> 9.88 | S18: =SUM(Q18*R18) -> 79.04 | U18: =SUM('Elenco attività ACI'!$D$14) -> 6.92 | V18: =SUM(T18)*U18 -> 0 | W18: =SUM(M18+P18+S18+V18) -> 583.36 | X18: =SUM('Elenco attività ACI'!$D$18) -> 125.11 | Y18: =SUM('Elenco attività ACI'!$D$22) -> 5.11 | Z18: =SUM(N18*Y18) -> 153.3 | AA18: =SUM('Elenco attività ACI'!$D$27) -> 5.11 | AB18: =SUM(Q18*AA18) -> 40.88 | AC18: =SUM('Elenco attività ACI'!$D$29) -> 3.8 | AD18: =SUM(T18)*AC18 -> 0 | AE18: =SUM(X18+Z18+AB18+AD17) -> 319.29 | AF18: =SUM(W18+AE18) -> 902.65 | AG18: =SUM(AF18)*$AM$1 -> 1805.3 | AH18: =SUM('[1]Costi misura'!Q31:Q32) -> 58 | AI18: =SUM(AH18)*$AN$1 -> 3043.26 | AJ18: =SUM(AH18)*$AO$1 -> 1017.9 | AK18: =SUM(AI18+AJ18) -> 4061.16 | AL18: =SUM(AG18+AK18) -> 5866.46
A19: =SUM(A18)+1 -> 18 | B19: 1 | C19: Nord | D19: Torino Uff. PRA Area M. | E19: Piemonte | F19: Verbania | G19: =SUM('[1]determ. costi visite'!AB2156:AB2161) -> 6 | I19: =SUM(G19:H19) -> 6 | J19: 1 | K19: NO | M19: =SUM('Elenco attività ACI'!D10) -> 291.76 | O19: =SUM('Elenco attività ACI'!$D$7) -> 8.47 | P19: =SUM(N19*O19) -> 0 | R19: =SUM('Elenco attività ACI'!$D$12) -> 9.88 | S19: =SUM(Q19*R19) -> 0 | U19: =SUM('Elenco attività ACI'!$D$14) -> 6.92 | V19: =SUM(T19)*U19 -> 0 | W19: =SUM(M19+P19+S19+V19) -> 291.76 | X19: =SUM('Elenco attività ACI'!$D$18) -> 125.11 | Y19: =SUM('Elenco attività ACI'!$D$22) -> 5.11 | Z19: =SUM(N19*Y19) -> 0 | AA19: =SUM('Elenco attività ACI'!$D$27) -> 5.11 | AB19: =SUM(Q19*AA19) -> 0 | AC19: =SUM('Elenco attività ACI'!$D$29) -> 3.8 | AD19: =SUM(T19)*AC19 -> 0 | AE19: =SUM(X19+Z19+AB19+AD18) -> 125.11 | AF19: =SUM(W19+AE19) -> 416.87 | AG19: =SUM(AF19)*$AM$1 -> 833.74 | AH19: =SUM('[1]Costi misura'!Q33:Q34) -> 6 | AI19: =SUM(AH19)*$AN$1 -> 314.82 | AJ19: =SUM(AH19)*$AO$1 -> 105.3 | AK19: =SUM(AI19+AJ19) -> 420.12 | AL19: =SUM(AG19+AK19) -> 1253.86
A20: =SUM(A19)+1 -> 19 | B20: 1 | C20: Nord | D20: Torino Uff. PRA Area M. | E20: Piemonte | F20: Vercelli | G20: =SUM('[1]determ. costi visite'!AB2162:AB2169) -> 8 | H20: =SUM('[1]determ. costi visite'!T933) -> 1 | I20: =SUM(G20+H20) -> 9 | J20: 1 | K20: NO | M20: =SUM('Elenco attività ACI'!$D$3) -> 250.22 | O20: =SUM('Elenco attività ACI'!$D$7) -> 8.47 | P20: =SUM(N20*O20) -> 0 | R20: =SUM('Elenco attività ACI'!$D$12) -> 9.88 | S20: =SUM(Q20*R20) -> 0 | U20: =SUM('Elenco attività ACI'!$D$14) -> 6.92 | V20: =SUM(T20)*U20 -> 0 | W20: =SUM(M20+P20+S20+V20) -> 250.22 | X20: =SUM('Elenco attività ACI'!$D$18) -> 125.11 | Y20: =SUM('Elenco attività ACI'!$D$22) -> 5.11 | Z20: =SUM(N20*Y20) -> 0 | AA20: =SUM('Elenco attività ACI'!$D$27) -> 5.11 | AB20: =SUM(Q20*AA20) -> 0 | AC20: =SUM('Elenco attività ACI'!$D$29) -> 3.8 | AD20: =SUM(T20)*AC20 -> 0 | AE20: =SUM(X20+Z20+AB20+AD19) -> 125.11 | AF20: =SUM(W20+AE20) -> 375.33 | AG20: =SUM(AF20)*$AM$1 -> 750.66 | AH20: =SUM('[1]Costi misura'!Q35:Q36) -> 8 | AI20: =SUM(AH20)*$AN$1 -> 419.76 | AJ20: =SUM(AH20)*$AO$1 -> 140.4 | AK20: =SUM(AI20+AJ20) -> 560.16 | AL20: =SUM(AG20+AK20) -> 1310.82
A21: =SUM(A20)+1 -> 20 | B21: 1 | C21: Nord | D21: Torino Uff. PRA Area M. | E21: Valle d'Aosta | F21: Aosta | G21: =SUM('[1]determ. costi visite'!AB33:AB39) -> 7 | I21: =SUM(G21+H21) -> 7 | J21: 1 | K21: NO | M21: =SUM('Elenco attività ACI'!$D$3) -> 250.22 | O21: =SUM('Elenco attività ACI'!$D$7) -> 8.47 | P21: =SUM(N21*O21) -> 0 | R21: =SUM('Elenco attività ACI'!$D$12) -> 9.88 | S21: =SUM(Q21*R21) -> 0 | U21: =SUM('Elenco attività ACI'!$D$14) -> 6.92 | V21: =SUM(T21)*U21 -> 0 | W21: =SUM(M21+P21+S21+V21) -> 250.22 | X21: =SUM('Elenco attività ACI'!$D$18) -> 125.11 | Y21: =SUM('Elenco attività ACI'!$D$22) -> 5.11 | Z21: =SUM(N21*Y21) -> 0 | AA21: =SUM('Elenco attività ACI'!$D$27) -> 5.11 | AB21: =SUM(Q21*AA21) -> 0 | AC21: =SUM('Elenco attività ACI'!$D$29) -> 3.8 | AD21: =SUM(T21)*AC21 -> 0 | AE21: =SUM(X21+Z21+AB21+AD20) -> 125.11 | AF21: =SUM(W21+AE21) -> 375.33 | AG21: =SUM(AF21)*$AM$1 -> 750.66 | AH21: =SUM('[1]Costi misura'!Q37:Q38) -> 7 | AI21: =SUM(AH21)*$AN$1 -> 367.29 | AJ21: =SUM(AH21)*$AO$1 -> 122.85 | AK21: =SUM(AI21+AJ21) -> 490.14 | AL21: =SUM(AG21+AK21) -> 1240.8
A22: =SUM(A21)+1 -> 21 | B22: 1 | C22: Nord | D22: Treviso Uff. PRA Dir. T. | E22: Friuli V. G. | F22: Gorizia | G22: =SUM('[1]determ. costi visite'!AB530:AB536) -> 7 | I22: =SUM(G22+H22) -> 7 | J22: 1 | K22: NO | M22: =SUM('Elenco attività ACI'!$D$3) -> 250.22 | O22: =SUM('Elenco attività ACI'!$D$7) -> 8.47 | P22: =SUM(N22*O22) -> 0 | R22: =SUM('Elenco attività ACI'!$D$12) -> 9.88 | S22: =SUM(Q22*R22) -> 0 | U22: =SUM('Elenco attività ACI'!$D$14) -> 6.92 | V22: =SUM(T22)*U22 -> 0 | W22: =SUM(M22+P22+S22+V22) -> 250.22 | X22: =SUM('Elenco attività ACI'!$D$18) -> 125.11 | Y22: =SUM('Elenco attività ACI'!$D$22) -> 5.11 | Z22: =SUM(N22*Y22) -> 0 | AA22: =SUM('Elenco attività ACI'!$D$27) -> 5.11 | AB22: =SUM(Q22*AA22) -> 0 | AC22: =SUM('Elenco attività ACI'!$D$29) -> 3.8 | AD22: =SUM(T22)*AC22 -> 0 | AE22: =SUM(X22+Z22+AB22+AD21) -> 125.11 | AF22: =SUM(W22+AE22) -> 375.33 | AG22: =SUM(AF22)*$AM$1 -> 750.66 | AH22: =SUM('[1]Costi misura'!Q39:Q40) -> 7 | AI22: =SUM(AH22)*$AN$1 -> 367.29 | AJ22: =SUM(AH22)*$AO$1 -> 122.85 | AK22: =SUM(AI22+AJ22) -> 490.14 | AL22: =SUM(AG22+AK22) -> 1240.8
A23: =SUM(A22)+1 -> 22 | B23: 1 | C23: Nord | D23: Treviso Uff. PRA Dir. T. | E23: Friuli V. G. | F23: Pordenone | G23: =SUM('[1]determ. costi visite'!AB1087:AB1097) -> 11 | H23: =SUM('[1]determ. costi visite'!T901) -> 1 | I23: =SUM(G23+H23) -> 12 | J23: 1 | K23: NO | M23: =SUM('Elenco attività ACI'!$D$3) -> 250.22 | O23: =SUM('Elenco attività ACI'!$D$7) -> 8.47 | P23: =SUM(N23*O23) -> 0 | R23: =SUM('Elenco attività ACI'!$D$12) -> 9.88 | S23: =SUM(Q23*R23) -> 0 | U23: =SUM('Elenco attività ACI'!$D$14) -> 6.92 | V23: =SUM(T23)*U23 -> 0 | W23: =SUM(M23+P23+S23+V23) -> 250.22 | X23: =SUM('Elenco attività ACI'!$D$18) -> 125.11 | Y23: =SUM('Elenco attività ACI'!$D$22) -> 5.11 | Z23: =SUM(N23*Y23) -> 0 | AA23: =SUM('Elenco attività ACI'!$D$27) -> 5.11 | AB23: =SUM(Q23*AA23) -> 0 | AC23: =SUM('Elenco attività ACI'!$D$29) -> 3.8 | AD23: =SUM(T23)*AC23 -> 0 | AE23: =SUM(X23+Z23+AB23+AD22) -> 125.11 | AF23: =SUM(W23+AE23) -> 375.33 | AG23: =SUM(AF23)*$AM$1 -> 750.66 | AH23: =SUM('[1]Costi misura'!Q41:Q42) -> 12 | AI23: =SUM(AH23)*$AN$1 -> 629.64 | AJ23: =SUM(AH23)*$AO$1 -> 210.6 | AK23: =SUM(AI23+AJ23) -> 840.24 | AL23: =SUM(AG23+AK23) -> 1590.9
A24: =SUM(A23)+1 -> 23 | B24: 1 | C24: Nord | D24: Treviso Uff. PRA Dir. T. | E24: Friuli V. G. | F24: Trieste | G24: =SUM('[1]determ. costi visite'!AB2082:AB2091) -> 10 | I24: =SUM(G24+H24) -> 10 | J24: 1 | K24: NO | M24: =SUM('Elenco attività ACI'!$D$3) -> 250.22 | O24: =SUM('Elenco attività ACI'!$D$7) -> 8.47 | P24: =SUM(N24*O24) -> 0 | R24: =SUM('Elenco attività ACI'!$D$12) -> 9.88 | S24: =SUM(Q24*R24) -> 0 | U24: =SUM('Elenco attività ACI'!$D$14) -> 6.92 | V24: =SUM(T24)*U24 -> 0 | W24: =SUM(M24+P24+S24+V24) -> 250.22 | X24: =SUM('Elenco attività ACI'!$D$18) -> 125.11 | Y24: =SUM('Elenco attività ACI'!$D$22) -> 5.11 | Z24: =SUM(N24*Y24) -> 0 | AA24: =SUM('Elenco attività ACI'!$D$27) -> 5.11 | AB24: =SUM(Q24*AA24) -> 0 | AC24: =SUM('Elenco attività ACI'!$D$29) -> 3.8 | AD24: =SUM(T24)*AC24 -> 0 | AE24: =SUM(X24+Z24+AB24+AD23) -> 125.11 | AF24: =SUM(W24+AE24) -> 375.33 | AG24: =SUM(AF24)*$AM$1 -> 750.66 | AH24: =SUM('[1]Costi misura'!Q43:Q44) -> 10 | AI24: =SUM(AH24)*$AN$1 -> 524.7 | AJ24: =SUM(AH24)*$AO$1 -> 175.5 | AK24: =SUM(AI24+AJ24) -> 700.2 | AL24: =SUM(AG24+AK24) -> 1450.86
A25: =SUM(A24)+1 -> 24 | B25: 1 | C25: Nord | D25: Treviso Uff. PRA Dir. T. | E25: Friuli V. G. | F25: Udine | G25: =SUM('[1]determ. costi visite'!AB2123:AB2134) -> 12 | H25: =SUM('[1]determ. costi visite'!T930) -> 1 | I25: =SUM(G25+H25) -> 13 | J25: 1 | K25: NO | M25: =SUM('Elenco attività ACI'!$D$3) -> 250.22 | O25: =SUM('Elenco attività ACI'!$D$7) -> 8.47 | P25: =SUM(N25*O25) -> 0 | R25: =SUM('Elenco attività ACI'!$D$12) -> 9.88 | S25: =SUM(Q25*R25) -> 0 | U25: =SUM('Elenco attività ACI'!$D$14) -> 6.92 | V25: =SUM(T25)*U25 -> 0 | W25: =SUM(M25+P25+S25+V25) -> 250.22 | X25: =SUM('Elenco attività ACI'!$D$18) -> 125.11 | Y25: =SUM('Elenco attività ACI'!$D$22) -> 5.11 | Z25: =SUM(N25*Y25) -> 0 | AA25: =SUM('Elenco attività ACI'!$D$27) -> 5.11 | AB25: =SUM(Q25*AA25) -> 0 | AC25: =SUM('Elenco attività ACI'!$D$29) -> 3.8 | AD25: =SUM(T25)*AC25 -> 0 | AE25: =SUM(X25+Z25+AB25+AD24) -> 125.11 | AF25: =SUM(W25+AE25) -> 375.33 | AG25: =SUM(AF25)*$AM$1 -> 750.66 | AH25: =SUM('[1]Costi misura'!Q45:Q46) -> 13 | AI25: =SUM(AH25)*$AN$1 -> 682.11 | AJ25: =SUM(AH25)*$AO$1 -> 228.15 | AK25: =SUM(AI25+AJ25) -> 910.26 | AL25: =SUM(AG25+AK25) -> 1660.92
A26: =SUM(A25)+1 -> 25 | B26: 1 | C26: Nord | D26: Treviso Uff. PRA Dir. T. | E26: Veneto | F26: Belluno | G26: =SUM('[1]determ. costi visite'!AB155:AB159) -> 5 | I26: =SUM(G26+H26) -> 5 | J26: 1 | K26: NO | M26: =SUM('Elenco attività ACI'!$D$3) -> 250.22 | O26: =SUM('Elenco attività ACI'!$D$7) -> 8.47 | P26: =SUM(N26*O26) -> 0 | R26: =SUM('Elenco attività ACI'!$D$12) -> 9.88 | S26: =SUM(Q26*R26) -> 0 | U26: =SUM('Elenco attività ACI'!$D$14) -> 6.92 | V26: =SUM(T26)*U26 -> 0 | W26: =SUM(M26+P26+S26+V26) -> 250.22 | X26: =SUM('Elenco attività ACI'!$D$18) -> 125.11 | Y26: =SUM('Elenco attività ACI'!$D$22) -> 5.11 | Z26: =SUM(N26*Y26) -> 0 | AA26: =SUM('Elenco attività ACI'!$D$27) -> 5.11 | AB26: =SUM(Q26*AA26) -> 0 | AC26: =SUM('Elenco attività ACI'!$D$29) -> 3.8 | AD26: =SUM(T26)*AC26 -> 0 | AE26: =SUM(X26+Z26+AB26+AD25) -> 125.11 | AF26: =SUM(W26+AE26) -> 375.33 | AG26: =SUM(AF26)*$AM$1 -> 750.66 | AH26: =SUM('[1]Costi misura'!Q47:Q48) -> 5 | AI26: =SUM(AH26)*$AN$1 -> 262.35 | AJ26: =SUM(AH26)*$AO$1 -> 87.75 | AK26: =SUM(AI26+AJ26) -> 350.1 | AL26: =SUM(AG26+AK26) -> 1100.76
A27: =SUM(A26+1) -> 26 | B27: 1 | C27: Nord | D27: Treviso Uff. PRA Dir. T. | E27: Veneto | F27: Treviso (D.T.) | G27: =SUM('[1]determ. costi visite'!AB2092:AB2112) -> 21 | H27: =SUM('[1]determ. costi visite'!T929) -> 1 | I27: =SUM(G27+H27) -> 22 | J27: NO | K27: 1 | M27: =SUM('Elenco attività ACI'!$D$3) -> 250.22 | N27: 2 | O27: =SUM('Elenco attività ACI'!$D$7) -> 8.47 | P27: =SUM(N27*O27) -> 16.94 | R27: =SUM('Elenco attività ACI'!$D$12) -> 9.88 | S27: =SUM(Q27*R27) -> 0 | U27: =SUM('Elenco attività ACI'!$D$14) -> 6.92 | V27: =SUM(T27)*U27 -> 0 | W27: =SUM(M27+P27+S27+V27) -> 267.16 | X27: =SUM('Elenco attività ACI'!$D$18) -> 125.11 | Y27: =SUM('Elenco attività ACI'!$D$22) -> 5.11 | Z27: =SUM(N27*Y27) -> 10.22 | AA27: =SUM('Elenco attività ACI'!$D$27) -> 5.11 | AB27: =SUM(Q27*AA27) -> 0 | AC27: =SUM('Elenco attività ACI'!$D$29) -> 3.8 | AD27: =SUM(T27)*AC27 -> 0 | AE27: =SUM(X27+Z27+AB27+AD26) -> 135.33 | AF27: =SUM(W27+AE27) -> 402.49 | AG27: =SUM(AF27)*$AM$1 -> 804.98 | AH27: =SUM('[1]Costi misura'!Q49:Q50) -> 22 | AI27: =SUM(AH27)*$AN$1 -> 1154.34 | AJ27: =SUM(AH27)*$AO$1 -> 386.1 | AK27: =SUM(AI27+AJ27) -> 1540.44 | AL27: =SUM(AG27+AK27) -> 2345.42
A28: =SUM(A27+1) -> 27 | B28: 1 | C28: Nord | D28: Treviso Uff. PRA Dir. T. | E28: Veneto | F28: Venezia (Mestre) | G28: =SUM('[1]determ. costi visite'!AB2170:AB2184) -> 15 | H28: =SUM('[1]determ. costi visite'!U934) -> 1 | I28: =SUM(G28+H28) -> 16 | J28: 1 | K28: NO | M28: =SUM('Elenco attività ACI'!$D$3) -> 250.22 | O28: =SUM('Elenco attività ACI'!$D$7) -> 8.47 | P28: =SUM(N28*O28) -> 0 | R28: =SUM('Elenco attività ACI'!$D$12) -> 9.88 | S28: =SUM(Q28*R28) -> 0 | U28: =SUM('Elenco attività ACI'!$D$14) -> 6.92 | V28: =SUM(T28)*U28 -> 0 | W28: =SUM(M28+P28+S28+V28) -> 250.22 | X28: =SUM('Elenco attività ACI'!$D$18) -> 125.11 | Y28: =SUM('Elenco attività ACI'!$D$22) -> 5.11 | Z28: =SUM(N28*Y28) -> 0 | AA28: =SUM('Elenco attività ACI'!$D$27) -> 5.11 | AB28: =SUM(Q28*AA28) -> 0 | AC28: =SUM('Elenco attività ACI'!$D$29) -> 3.8 | AD28: =SUM(T28)*AC28 -> 0 | AE28: =SUM(X28+Z28+AB28+AD27) -> 125.11 | AF28: =SUM(W28+AE28) -> 375.33 | AG28: =SUM(AF28)*$AM$1 -> 750.66 | AH28: =SUM('[1]Costi misura'!Q51:Q52) -> 16 | AI28: =SUM(AH28)*$AN$1 -> 839.52 | AJ28: =SUM(AH28)*$AO$1 -> 280.8 | AK28: =SUM(AI28+AJ28) -> 1120.32 | AL28: =SUM(AG28+AK28) -> 1870.98
A29: =SUM(A28)+1 -> 28 | B29: 1 | C29: Nord | D29: Varese Uff. PRA Dir. T. | E29: Lombardia | F29: Como | G29: =SUM('[1]determ. costi visite'!AB345:AB356) -> 12 | H29: =SUM('[1]determ. costi visite'!T865) -> 1 | I29: =SUM(G29+H29) -> 13 | J29: 1 | K29: NO | M29: =SUM('Elenco attività ACI'!$D$3) -> 250.22 | O29: =SUM('Elenco attività ACI'!$D$7) -> 8.47 | P29: =SUM(N29*O29) -> 0 | R29: =SUM('Elenco attività ACI'!$D$12) -> 9.88 | S29: =SUM(Q29*R29) -> 0 | U29: =SUM('Elenco attività ACI'!$D$14) -> 6.92 | V29: =SUM(T29)*U29 -> 0 | W29: =SUM(M29+P29+S29+V29) -> 250.22 | X29: =SUM('Elenco attività ACI'!$D$18) -> 125.11 | Y29: =SUM('Elenco attività ACI'!$D$22) -> 5.11 | Z29: =SUM(N29*Y29) -> 0 | AA29: =SUM('Elenco attività ACI'!$D$27) -> 5.11 | AB29: =SUM(Q29*AA29) -> 0 | AC29: =SUM('Elenco attività ACI'!$D$29) -> 3.8 | AD29: =SUM(T29)*AC29 -> 0 | AE29: =SUM(X29+Z29+AB29+AD28) -> 125.11 | AF29: =SUM(W29+AE29) -> 375.33 | AG29: =SUM(AF29)*$AM$1 -> 750.66 | AH29: =SUM('[1]Costi misura'!Q53:Q54) -> 13 | AI29: =SUM(AH29)*$AN$1 -> 682.11 | AJ29: =SUM(AH29)*$AO$1 -> 228.15 | AK29: =SUM(AI29+AJ29) -> 910.26 | AL29: =SUM(AG29+AK29) -> 1660.92
A30: =SUM(A29)+1 -> 29 | B30: 1 | C30: Nord | D30: Varese Uff. PRA Dir. T. | E30: Lombardia | F30: Lecco | G30: =SUM('[1]determ. costi visite'!AB569:AB579) -> 11 | I30: =SUM(G30+H30) -> 11 | J30: 1 | K30: NO | M30: =SUM('Elenco attività ACI'!$D$3) -> 250.22 | O30: =SUM('Elenco attività ACI'!$D$7) -> 8.47 | P30: =SUM(N30*O30) -> 0 | R30: =SUM('Elenco attività ACI'!$D$12) -> 9.88 | S30: =SUM(Q30*R30) -> 0 | U30: =SUM('Elenco attività ACI'!$D$14) -> 6.92 | V30: =SUM(T30)*U30 -> 0 | W30: =SUM(M30+P30+S30+V30) -> 250.22 | X30: =SUM('Elenco attività ACI'!$D$18) -> 125.11 | Y30: =SUM('Elenco attività ACI'!$D$22) -> 5.11 | Z30: =SUM(N30*Y30) -> 0 | AA30: =SUM('Elenco attività ACI'!$D$27) -> 5.11 | AB30: =SUM(Q30*AA30) -> 0 | AC30: =SUM('Elenco attività ACI'!$D$29) -> 3.8 | AD30: =SUM(T30)*AC30 -> 0 | AE30: =SUM(X30+Z30+AB30+AD29) -> 125.11 | AF30: =SUM(W30+AE30) -> 375.33 | AG30: =SUM(AF30)*$AM$1 -> 750.66 | AH30: =SUM('[1]Costi misura'!Q55:Q56) -> 11 | AI30: =SUM(AH30)*$AN$1 -> 577.17 | AJ30: =SUM(AH30)*$AO$1 -> 193.05 | AK30: =SUM(AI30+AJ30) -> 770.22 | AL30: =SUM(AG30+AK30) -> 1520.88
A31: =SUM(A30)+1 -> 30 | B31: 1 | C31: Nord | D31: Varese Uff. PRA Dir. T. | E31: Lombardia | F31: Sondrio | G31: =SUM('[1]determ. costi visite'!AB1938:AB1947) -> 10 | I31: =SUM(G31+H31) -> 10 | J31: 1 | K31: NO | M31: =SUM('Elenco attività ACI'!$D$3) -> 250.22 | O31: =SUM('Elenco attività ACI'!$D$7) -> 8.47 | P31: =SUM(N31*O31) -> 0 | R31: =SUM('Elenco attività ACI'!$D$12) -> 9.88 | S31: =SUM(Q31*R31) -> 0 | U31: =SUM('Elenco attività ACI'!$D$14) -> 6.92 | V31: =SUM(T31)*U31 -> 0 | W31: =SUM(M31+P31+S31+V31) -> 250.22 | X31: =SUM('Elenco attività ACI'!$D$18) -> 125.11 | Y31: =SUM('Elenco attività ACI'!$D$22) -> 5.11 | Z31: =SUM(N31*Y31) -> 0 | AA31: =SUM('Elenco attività ACI'!$D$27) -> 5.11 | AB31: =SUM(Q31*AA31) -> 0 | AC31: =SUM('Elenco attività ACI'!$D$29) -> 3.8 | AD31: =SUM(T31)*AC31 -> 0 | AE31: =SUM(X31+Z31+AB31+AD30) -> 125.11 | AF31: =SUM(W31+AE31) -> 375.33 | AG31: =SUM(AF31)*$AM$1 -> 750.66 | AH31: =SUM('[1]Costi misura'!Q57:Q58) -> 10 | AI31: =SUM(AH31)*$AN$1 -> 524.7 | AJ31: =SUM(AH31)*$AO$1 -> 175.5 | AK31: =SUM(AI31+AJ31) -> 700.2 | AL31: =SUM(AG31+AK31) -> 1450.86
A32: =SUM(A31)+1 -> 31 | B32: 1 | C32: Nord | D32: Varese Uff. PRA Dir. T. | E32: Lombardia | F32: Varese (D.T.) | G32: =SUM('[1]determ. costi visite'!AB2135:AB2155) -> 21 | I32: =SUM(G32+H32) -> 21 | J32: NO | K32: 1 | M32: =SUM('Elenco attività ACI'!$D$3) -> 250.22 | N32: 1 | O32: =SUM('Elenco attività ACI'!$D$7) -> 8.47 | P32: =SUM(N32*O32) -> 8.47 | R32: =SUM('Elenco attività ACI'!$D$12) -> 9.88 | S32: =SUM(Q32*R32) -> 0 | U32: =SUM('Elenco attività ACI'!$D$14) -> 6.92 | V32: =SUM(T32)*U32 -> 0 | W32: =SUM(M32+P32+S32+V32) -> 258.69 | X32: =SUM('Elenco attività ACI'!$D$18) -> 125.11 | Y32: =SUM('Elenco attività ACI'!$D$22) -> 5.11 | Z32: =SUM(N32*Y32) -> 5.11 | AA32: =SUM('Elenco attività ACI'!$D$27) -> 5.11 | AB32: =SUM(Q32*AA32) -> 0 | AC32: =SUM('Elenco attività ACI'!$D$29) -> 3.8 | AD32: =SUM(T32)*AC32 -> 0 | AE32: =SUM(X32+Z32+AB32+AD31) -> 130.22 | AF32: =SUM(W32+AE32) -> 388.91 | AG32: =SUM(AF32)*$AM$1 -> 777.82 | AH32: =SUM('[1]Costi misura'!Q59:Q60) -> 20 | AI32: =SUM(AH32)*$AN$1 -> 1049.4 | AJ32: =SUM(AH32)*$AO$1 -> 351 | AK32: =SUM(AI32+AJ32) -> 1400.4 | AL32: =SUM(AG32+AK32) -> 2178.22
A33: =SUM(A32)+1 -> 32 | B33: 1 | C33: Nord | D33: Verona Uff. PRA Dir. T. | E33: Trentino A.A. | F33: Bolzano | G33: =SUM('[1]determ. costi visite'!AB246:AB255) -> 10 | H33: =SUM('[1]determ. costi visite'!T858) -> 1 | I33: =SUM(G33+H33) -> 11 | J33: 1 | K33: NO | M33: =SUM('Elenco attività ACI'!$D$3) -> 250.22 | O33: =SUM('Elenco attività ACI'!$D$7) -> 8.47 | P33: =SUM(N33*O33) -> 0 | R33: =SUM('Elenco attività ACI'!$D$12) -> 9.88 | S33: =SUM(Q33*R33) -> 0 | U33: =SUM('Elenco attività ACI'!$D$14) -> 6.92 | V33: =SUM(T33)*U33 -> 0 | W33: =SUM(M33+P33+S33+V33) -> 250.22 | X33: =SUM('Elenco attività ACI'!$D$18) -> 125.11 | Y33: =SUM('Elenco attività ACI'!$D$22) -> 5.11 | Z33: =SUM(N33*Y33) -> 0 | AA33: =SUM('Elenco attività ACI'!$D$27) -> 5.11 | AB33: =SUM(Q33*AA33) -> 0 | AC33: =SUM('Elenco attività ACI'!$D$29) -> 3.8 | AD33: =SUM(T33)*AC33 -> 0 | AE33: =SUM(X33+Z33+AB33+AD32) -> 125.11 | AF33: =SUM(W33+AE33) -> 375.33 | AG33: =SUM(AF33)*$AM$1 -> 750.66 | AH33: =SUM('[1]Costi misura'!Q61:Q62) -> 11 | AI33: =SUM(AH33)*$AN$1 -> 577.17 | AJ33: =SUM(AH33)*$AO$1 -> 193.05 | AK33: =SUM(AI33+AJ33) -> 770.22 | AL33: =SUM(AG33+AK33) -> 1520.88
A34: =SUM(A33)+1 -> 33 | B34: 1 | C34: Nord | D34: Verona Uff. PRA Dir. T. | E34: Trentino A.A. | F34: Trento | G34: =SUM('[1]determ. costi visite'!AB2006:AB2016) -> 11 | H34: =SUM('[1]determ. costi visite'!T924) -> 1 | I34: =SUM(G34+H34) -> 12 | J34: 1 | K34: NO | M34: =SUM('Elenco attività ACI'!$D$3) -> 250.22 | O34: =SUM('Elenco attività ACI'!$D$7) -> 8.47 | P34: =SUM(N34*O34) -> 0 | R34: =SUM('Elenco attività ACI'!$D$12) -> 9.88 | S34: =SUM(Q34*R34) -> 0 | U34: =SUM('Elenco attività ACI'!$D$14) -> 6.92 | V34: =SUM(T34)*U34 -> 0 | W34: =SUM(M34+P34+S34+V34) -> 250.22 | X34: =SUM('Elenco attività ACI'!$D$18) -> 125.11 | Y34: =SUM('Elenco attività ACI'!$D$22) -> 5.11 | Z34: =SUM(N34*Y34) -> 0 | AA34: =SUM('Elenco attività ACI'!$D$27) -> 5.11 | AB34: =SUM(Q34*AA34) -> 0 | AC34: =SUM('Elenco attività ACI'!$D$29) -> 3.8 | AD34: =SUM(T34)*AC34 -> 0 | AE34: =SUM(X34+Z34+AB34+AD33) -> 125.11 | AF34: =SUM(W34+AE34) -> 375.33 | AG34: =SUM(AF34)*$AM$1 -> 750.66 | AH34: =SUM('[1]Costi misura'!Q63:Q64) -> 12 | AI34: =SUM(AH34)*$AN$1 -> 629.64 | AJ34: =SUM(AH34)*$AO$1 -> 210.6 | AK34: =SUM(AI34+AJ34) -> 840.24 | AL34: =SUM(AG34+AK34) -> 1590.9
A35: =SUM(A34)+1 -> 34 | B35: 1 | C35: Nord | D35: Verona Uff. PRA Dir. T. | E35: Veneto | F35: Padova | G35: =SUM('[1]determ. costi visite'!AB1021:AB1042) -> 22 | H35: =SUM('[1]determ. costi visite'!U897) -> 1 | I35: =SUM(G35+H35) -> 23 | J35: NO | K35: 1 | M35: =SUM('Elenco attività ACI'!$D$3) -> 250.22 | N35: 3 | O35: =SUM('Elenco attività ACI'!$D$7) -> 8.47 | P35: =SUM(N35*O35) -> 25.41 | R35: =SUM('Elenco attività ACI'!$D$12) -> 9.88 | S35: =SUM(Q35*R35) -> 0 | U35: =SUM('Elenco attività ACI'!$D$14) -> 6.92 | V35: =SUM(T35)*U35 -> 0 | W35: =SUM(M35+P35+S35+V35) -> 275.63 | X35: =SUM('Elenco attività ACI'!$D$18) -> 125.11 | Y35: =SUM('Elenco attività ACI'!$D$22) -> 5.11 | Z35: =SUM(N35*Y35) -> 15.33 | AA35: =SUM('Elenco attività ACI'!$D$27) -> 5.11 | AB35: =SUM(Q35*AA35) -> 0 | AC35: =SUM('Elenco attività ACI'!$D$29) -> 3.8 | AD35: =SUM(T35)*AC35 -> 0 | AE35: =SUM(X35+Z35+AB35+AD34) -> 140.44 | AF35: =SUM(W35+AE35) -> 416.07 | AG35: =SUM(AF35)*$AM$1 -> 832.14 | AH35: =SUM('[1]Costi misura'!Q65:Q66) -> 23 | AI35: =SUM(AH35)*$AN$1 -> 1206.81 | AJ35: =SUM(AH35)*$AO$1 -> 403.65 | AK35: =SUM(AI35+AJ35) -> 1610.46 | AL35: =SUM(AG35+AK35) -> 2442.6
A36: =SUM(A35)+1 -> 35 | B36: 1 | C36: Nord | D36: Verona Uff. PRA Dir. T. | E36: Veneto | F36: Rovigo | G36: =SUM('[1]determ. costi visite'!AB1892:AB1900) -> 9 | H36: =SUM('[1]determ. costi visite'!T914) -> 1 | I36: =SUM(G36+H36) -> 10 | J36: 1 | K36: NO | M36: =SUM('Elenco attività ACI'!$D$3) -> 250.22 | O36: =SUM('Elenco attività ACI'!$D$7) -> 8.47 | P36: =SUM(N36*O36) -> 0 | R36: =SUM('Elenco attività ACI'!$D$12) -> 9.88 | S36: =SUM(Q36*R36) -> 0 | U36: =SUM('Elenco attività ACI'!$D$14) -> 6.92 | V36: =SUM(T36)*U36 -> 0 | W36: =SUM(M36+P36+S36+V36) -> 250.22 | X36: =SUM('Elenco attività ACI'!$D$18) -> 125.11 | Y36: =SUM('Elenco attività ACI'!$D$22) -> 5.11 | Z36: =SUM(N36*Y36) -> 0 | AA36: =SUM('Elenco attività ACI'!$D$27) -> 5.11 | AB36: =SUM(Q36*AA36) -> 0 | AC36: =SUM('Elenco attività ACI'!$D$29) -> 3.8 | AD36: =SUM(T36)*AC36 -> 0 | AE36: =SUM(X36+Z36+AB36+AD35) -> 125.11 | AF36: =SUM(W36+AE36) -> 375.33 | AG36: =SUM(AF36)*$AM$1 -> 750.66 | AH36: =SUM('[1]Costi misura'!Q67:Q68) -> 10 | AI36: =SUM(AH36)*$AN$1 -> 524.7 | AJ36: =SUM(AH36)*$AO$1 -> 175.5 | AK36: =SUM(AI36+AJ36) -> 700.2 | AL36: =SUM(AG36+AK36) -> 1450.86
A37: =SUM(A36)+1 -> 36 | B37: 1 | C37: Nord | D37: Verona Uff. PRA Dir. T. | E37: Veneto | F37: Verona (D.T.) | G37: =SUM('[1]determ. costi visite'!AB2203:AB2225) -> 23 | H37: =SUM('[1]determ. costi visite'!T936) -> 1 | I37: =SUM(G37+H37) -> 24 | J37: NO | K37: 1 | M37: =SUM('Elenco attività ACI'!$D$3) -> 250.22 | N37: 4 | O37: =SUM('Elenco attività ACI'!$D$7) -> 8.47 | P37: =SUM(N37*O37) -> 33.88 | R37: =SUM('Elenco attività ACI'!$D$12) -> 9.88 | S37: =SUM(Q37*R37) -> 0 | U37: =SUM('Elenco attività ACI'!$D$14) -> 6.92 | V37: =SUM(T37)*U37 -> 0 | W37: =SUM(M37+P37+S37+V37) -> 284.1 | X37: =SUM('Elenco attività ACI'!$D$18) -> 125.11 | Y37: =SUM('Elenco attività ACI'!$D$22) -> 5.11 | Z37: =SUM(N37*Y37) -> 20.44 | AA37: =SUM('Elenco attività ACI'!$D$27) -> 5.11 | AB37: =SUM(Q37*AA37) -> 0 | AC37: =SUM('Elenco attività ACI'!$D$29) -> 3.8 | AD37: =SUM(T37)*AC37 -> 0 | AE37: =SUM(X37+Z37+AB37+AD36) -> 145.55 | AF37: =SUM(W37+AE37) -> 429.65 | AG37: =SUM(AF37)*$AM$1 -> 859.3 | AH37: =SUM('[1]Costi misura'!Q69:Q70) -> 23 | AI37: =SUM(AH37)*$AN$1 -> 1206.81 | AJ37: =SUM(AH37)*$AO$1 -> 403.65 | AK37: =SUM(AI37+AJ37) -> 1610.46 | AL37: =SUM(AG37+AK37) -> 2469.76
A38: =SUM(A37)+1 -> 37 | B38: 1 | C38: Nord | D38: Verona Uff. PRA Dir. T. | E38: Veneto | F38: Vicenza | G38: =SUM('[1]determ. costi visite'!AB2185:AB2202) -> 18 | H38: =SUM('[1]determ. costi visite'!T935) -> 1 | I38: =SUM(G38+H38) -> 19 | J38: 1 | K38: NO | M38: =SUM('Elenco attività ACI'!$D$3) -> 250.22 | O38: =SUM('Elenco attività ACI'!$D$7) -> 8.47 | P38: =SUM(N38*O38) -> 0 | R38: =SUM('Elenco attività ACI'!$D$12) -> 9.88 | S38: =SUM(Q38*R38) -> 0 | U38: =SUM('Elenco attività ACI'!$D$14) -> 6.92 | V38: =SUM(T38)*U38 -> 0 | W38: =SUM(M38+P38+S38+V38) -> 250.22 | X38: =SUM('Elenco attività ACI'!$D$18) -> 125.11 | Y38: =SUM('Elenco attività ACI'!$D$22) -> 5.11 | Z38: =SUM(N38*Y38) -> 0 | AA38: =SUM('Elenco attività ACI'!$D$27) -> 5.11 | AB38: =SUM(Q38*AA38) -> 0 | AC38: =SUM('Elenco attività ACI'!$D$29) -> 3.8 | AD38: =SUM(T38)*AC38 -> 0 | AE38: =SUM(X38+Z38+AB38+AD37) -> 125.11 | AF38: =SUM(W38+AE38) -> 375.33 | AG38: =SUM(AF38)*$AM$1 -> 750.66 | AH38: =SUM('[1]Costi misura'!Q71:Q72) -> 19 | AI38: =SUM(AH38)*$AN$1 -> 996.93 | AJ38: =SUM(AH38)*$AO$1 -> 333.45 | AK38: =SUM(AI38+AJ38) -> 1330.38 | AL38: =SUM(AG38+AK38) -> 2081.04
A39: =SUM(A38)+1 -> 38 | B39: 1 | C39: Centro | D39: Bologna Uff. PRA Dir. T. | E39: Emilia Romagna | F39: Bologna (D.T.) | G39: =SUM('[1]determ. costi visite'!AB176:AB205) -> 30 | I39: =SUM(G39+H39) -> 30 | J39: NO | K39: 1 | M39: =SUM('Elenco attività ACI'!$D$3) -> 250.22 | N39: 10 | O39: =SUM('Elenco attività ACI'!$D$7) -> 8.47 | P39: =SUM(N39*O39) -> 84.7 | R39: =SUM('Elenco attività ACI'!$D$12) -> 9.88 | S39: =SUM(Q39*R39) -> 0 | U39: =SUM('Elenco attività ACI'!$D$14) -> 6.92 | V39: =SUM(T39)*U39 -> 0 | W39: =SUM(M39+P39+S39+V39) -> 334.92 | X39: =SUM('Elenco attività ACI'!$D$18) -> 125.11 | Y39: =SUM('Elenco attività ACI'!$D$22) -> 5.11 | Z39: =SUM(N39*Y39) -> 51.1 | AA39: =SUM('Elenco attività ACI'!$D$27) -> 5.11 | AB39: =SUM(Q39*AA39) -> 0 | AC39: =SUM('Elenco attività ACI'!$D$29) -> 3.8 | AD39: =SUM(T39)*AC39 -> 0 | AE39: =SUM(X39+Z39+AB39+AD38) -> 176.21 | AF39: =SUM(W39+AE39) -> 511.13 | AG39: =SUM(AF39)*$AM$1 -> 1022.26 | AH39: =SUM('[1]Costi misura'!Q73:Q74) -> 30 | AI39: =SUM(AH39)*$AN$1 -> 1574.1 | AJ39: =SUM(AH39)*$AO$1 -> 526.5 | AK39: =SUM(AI39+AJ39) -> 2100.6 | AL39: =SUM(AG39+AK39) -> 3122.86
A40: =SUM(A39)+1 -> 39 | B40: 1 | C40: Centro | D40: Bologna Uff. PRA Dir. T. | E40: Emilia Romagna | F40: Ferrara | G40: =SUM('[1]determ. costi visite'!AB441:AB449) -> 9 | H40: =SUM('[1]determ. costi visite'!T871) -> 1 | I40: =SUM(G40+H40) -> 10 | J40: 1 | K40: NO | M40: =SUM('Elenco attività ACI'!$D$3) -> 250.22 | O40: =SUM('Elenco attività ACI'!$D$7) -> 8.47 | P40: =SUM(N40*O40) -> 0 | R40: =SUM('Elenco attività ACI'!$D$12) -> 9.88 | S40: =SUM(Q40*R40) -> 0 | U40: =SUM('Elenco attività ACI'!$D$14) -> 6.92 | V40: =SUM(T40)*U40 -> 0 | W40: =SUM(M40+P40+S40+V40) -> 250.22 | X40: =SUM('Elenco attività ACI'!$D$18) -> 125.11 | Y40: =SUM('Elenco attività ACI'!$D$22) -> 5.11 | Z40: =SUM(N40*Y40) -> 0 | AA40: =SUM('Elenco attività ACI'!$D$27) -> 5.11 | AB40: =SUM(Q40*AA40) -> 0 | AC40: =SUM('Elenco attività ACI'!$D$29) -> 3.8 | AD40: =SUM(T40)*AC40 -> 0 | AE40: =SUM(X40+Z40+AB40+AD39) -> 125.11 | AF40: =SUM(W40+AE40) -> 375.33 | AG40: =SUM(AF40)*$AM$1 -> 750.66 | AH40: =SUM('[1]Costi misura'!Q75:Q76) -> 10 | AI40: =SUM(AH40)*$AN$1 -> 524.7 | AJ40: =SUM(AH40)*$AO$1 -> 175.5 | AK40: =SUM(AI40+AJ40) -> 700.2 | AL40: =SUM(AG40+AK40) -> 1450.86
A41: =SUM(A40)+1 -> 40 | B41: 1 | C41: Centro | D41: Bologna Uff. PRA Dir. T. | E41: Emilia Romagna | F41: Forlì/Cesena | G41: =SUM('[1]determ. costi visite'!AB431:AB440) -> 10 | H41: =SUM('[1]determ. costi visite'!T873) -> 1 | I41: =SUM(G41+H41) -> 11 | J41: 1 | K41: NO | M41: =SUM('Elenco attività ACI'!$D$3) -> 250.22 | O41: =SUM('Elenco attività ACI'!$D$7) -> 8.47 | P41: =SUM(N41*O41) -> 0 | R41: =SUM('Elenco attività ACI'!$D$12) -> 9.88 | S41: =SUM(Q41*R41) -> 0 | U41: =SUM('Elenco attività ACI'!$D$14) -> 6.92 | V41: =SUM(T41)*U41 -> 0 | W41: =SUM(M41+P41+S41+V41) -> 250.22 | X41: =SUM('Elenco attività ACI'!$D$18) -> 125.11 | Y41: =SUM('Elenco attività ACI'!$D$22) -> 5.11 | Z41: =SUM(N41*Y41) -> 0 | AA41: =SUM('Elenco attività ACI'!$D$27) -> 5.11 | AB41: =SUM(Q41*AA41) -> 0 | AC41: =SUM('Elenco attività ACI'!$D$29) -> 3.8 | AD41: =SUM(T41)*AC41 -> 0 | AE41: =SUM(X41+Z41+AB41+AD40) -> 125.11 | AF41: =SUM(W41+AE41) -> 375.33 | AG41: =SUM(AF41)*$AM$1 -> 750.66 | AH41: =SUM('[1]Costi misura'!Q77:Q78) -> 11 | AI41: =SUM(AH41)*$AN$1 -> 577.17 | AJ41: =SUM(AH41)*$AO$1 -> 193.05 | AK41: =SUM(AI41+AJ41) -> 770.22 | AL41: =SUM(AG41+AK41) -> 1520.88
A42: =SUM(A41)+1 -> 41 | B42: 1 | C42: Centro | D42: Bologna Uff. PRA Dir. T. | E42: Emilia Romagna | F42: Modena | G42: =SUM('[1]determ. costi visite'!AB758:AB769) -> 12 | H42: =SUM('[1]determ. costi visite'!T888) -> 1 | I42: =SUM(G42+H42) -> 13 | J42: 1 | K42: NO | M42: =SUM('Elenco attività ACI'!$D$3) -> 250.22 | O42: =SUM('Elenco attività ACI'!$D$7) -> 8.47 | P42: =SUM(N42*O42) -> 0 | R42: =SUM('Elenco attività ACI'!$D$12) -> 9.88 | S42: =SUM(Q42*R42) -> 0 | U42: =SUM('Elenco attività ACI'!$D$14) -> 6.92 | V42: =SUM(T42)*U42 -> 0 | W42: =SUM(M42+P42+S42+V42) -> 250.22 | X42: =SUM('Elenco attività ACI'!$D$18) -> 125.11 | Y42: =SUM('Elenco attività ACI'!$D$22) -> 5.11 | Z42: =SUM(N42*Y42) -> 0 | AA42: =SUM('Elenco attività ACI'!$D$27) -> 5.11 | AB42: =SUM(Q42*AA42) -> 0 | AC42: =SUM('Elenco attività ACI'!$D$29) -> 3.8 | AD42: =SUM(T42)*AC42 -> 0 | AE42: =SUM(X42+Z42+AB42+AD41) -> 125.11 | AF42: =SUM(W42+AE42) -> 375.33 | AG42: =SUM(AF42)*$AM$1 -> 750.66 | AH42: =SUM('[1]Costi misura'!Q79:Q80) -> 13 | AI42: =SUM(AH42)*$AN$1 -> 682.11 | AJ42: =SUM(AH42)*$AO$1 -> 228.15 | AK42: =SUM(AI42+AJ42) -> 910.26 | AL42: =SUM(AG42+AK42) -> 1660.92
A43: =SUM(A42)+1 -> 42 | B43: 1 | C43: Centro | D43: Bologna Uff. PRA Dir. T. | E43: Emilia Romagna | F43: Parma | G43: =SUM('[1]determ. costi visite'!AB1109:AB1121) -> 13 | I43: =SUM(G43+H43) -> 13 | J43: 1 | K43: NO | M43: =SUM('Elenco attività ACI'!$D$3) -> 250.22 | O43: =SUM('Elenco attività ACI'!$D$7) -> 8.47 | P43: =SUM(N43*O43) -> 0 | R43: =SUM('Elenco attività ACI'!$D$12) -> 9.88 | S43: =SUM(Q43*R43) -> 0 | U43: =SUM('Elenco attività ACI'!$D$14) -> 6.92 | V43: =SUM(T43)*U43 -> 0 | W43: =SUM(M43+P43+S43+V43) -> 250.22 | X43: =SUM('Elenco attività ACI'!$D$18) -> 125.11 | Y43: =SUM('Elenco attività ACI'!$D$22) -> 5.11 | Z43: =SUM(N43*Y43) -> 0 | AA43: =SUM('Elenco attività ACI'!$D$27) -> 5.11 | AB43: =SUM(Q43*AA43) -> 0 | AC43: =SUM('Elenco attività ACI'!$D$29) -> 3.8 | AD43: =SUM(T43)*AC43 -> 0 | AE43: =SUM(X43+Z43+AB43+AD42) -> 125.11 | AF43: =SUM(W43+AE43) -> 375.33 | AG43: =SUM(AF43)*$AM$1 -> 750.66 | AH43: =SUM('[1]Costi misura'!Q81:Q82) -> 13 | AI43: =SUM(AH43)*$AN$1 -> 682.11 | AJ43: =SUM(AH43)*$AO$1 -> 228.15 | AK43: =SUM(AI43+AJ43) -> 910.26 | AL43: =SUM(AG43+AK43) -> 1660.92
A44: =SUM(A43)+1 -> 43 | B44: 1 | C44: Centro | D44: Bologna Uff. PRA Dir. T. | E44: Emilia Romagna | F44: Piacenza | G44: =SUM('[1]determ. costi visite'!AB1010:AB1020) -> 11 | I44: =SUM(G44+H44) -> 11 | J44: 1 | K44: NO | M44: =SUM('Elenco attività ACI'!$D$3) -> 250.22 | O44: =SUM('Elenco attività ACI'!$D$7) -> 8.47 | P44: =SUM(N44*O44) -> 0 | R44: =SUM('Elenco attività ACI'!$D$12) -> 9.88 | S44: =SUM(Q44*R44) -> 0 | U44: =SUM('Elenco attività ACI'!$D$14) -> 6.92 | V44: =SUM(T44)*U44 -> 0 | W44: =SUM(M44+P44+S44+V44) -> 250.22 | X44: =SUM('Elenco attività ACI'!$D$18) -> 125.11 | Y44: =SUM('Elenco attività ACI'!$D$22) -> 5.11 | Z44: =SUM(N44*Y44) -> 0 | AA44: =SUM('Elenco attività ACI'!$D$27) -> 5.11 | AB44: =SUM(Q44*AA44) -> 0 | AC44: =SUM('Elenco attività ACI'!$D$29) -> 3.8 | AD44: =SUM(T44)*AC44 -> 0 | AE44: =SUM(X44+Z44+AB44+AD43) -> 125.11 | AF44: =SUM(W44+AE44) -> 375.33 | AG44: =SUM(AF44)*$AM$1 -> 750.66 | AH44: =SUM('[1]Costi misura'!Q83:Q84) -> 10 | AI44: =SUM(AH44)*$AN$1 -> 524.7 | AJ44: =SUM(AH44)*$AO$1 -> 175.5 | AK44: =SUM(AI44+AJ44) -> 700.2 | AL44: =SUM(AG44+AK44) -> 1450.86
A45: =SUM(A44)+1 -> 44 | B45: 1 | C45: Centro | D45: Bologna Uff. PRA Dir. T. | E45: Emilia Romagna | F45: Ravenna | G45: =SUM('[1]determ. costi visite'!AB1175:AB1186) -> 12 | I45: =SUM(G45+H45) -> 12 | J45: 1 | K45: NO | M45: =SUM('Elenco attività ACI'!$D$3) -> 250.22 | O45: =SUM('Elenco attività ACI'!$D$7) -> 8.47 | P45: =SUM(N45*O45) -> 0 | R45: =SUM('Elenco attività ACI'!$D$12) -> 9.88 | S45: =SUM(Q45*R45) -> 0 | U45: =SUM('Elenco attività ACI'!$D$14) -> 6.92 | V45: =SUM(T45)*U45 -> 0 | W45: =SUM(M45+P45+S45+V45) -> 250.22 | X45: =SUM('Elenco attività ACI'!$D$18) -> 125.11 | Y45: =SUM('Elenco attività ACI'!$D$22) -> 5.11 | Z45: =SUM(N45*Y45) -> 0 | AA45: =SUM('Elenco attività ACI'!$D$27) -> 5.11 | AB45: =SUM(Q45*AA45) -> 0 | AC45: =SUM('Elenco attività ACI'!$D$29) -> 3.8 | AD45: =SUM(T45)*AC45 -> 0 | AE45: =SUM(X45+Z45+AB45+AD44) -> 125.11 | AF45: =SUM(W45+AE45) -> 375.33 | AG45: =SUM(AF45)*$AM$1 -> 750.66 | AH45: =SUM('[1]Costi misura'!Q85:Q86) -> 11 | AI45: =SUM(AH45)*$AN$1 -> 577.17 | AJ45: =SUM(AH45)*$AO$1 -> 193.05 | AK45: =SUM(AI45+AJ45) -> 770.22 | AL45: =SUM(AG45+AK45) -> 1520.88
A46: =SUM(A45)+1 -> 45 | B46: 1 | C46: Centro | D46: Bologna Uff. PRA Dir. T. | E46: Emilia Romagna | F46: Reggio Emilia | G46: =SUM('[1]determ. costi visite'!AB1205:AB1214) -> 10 | H46: =SUM('[1]determ. costi visite'!T911) -> 1 | I46: =SUM(G46+H46) -> 11 | J46: 1 | K46: NO | M46: =SUM('Elenco attività ACI'!$D$3) -> 250.22 | O46: =SUM('Elenco attività ACI'!$D$7) -> 8.47 | P46: =SUM(N46*O46) -> 0 | R46: =SUM('Elenco attività ACI'!$D$12) -> 9.88 | S46: =SUM(Q46*R46) -> 0 | U46: =SUM('Elenco attività ACI'!$D$14) -> 6.92 | V46: =SUM(T46)*U46 -> 0 | W46: =SUM(M46+P46+S46+V46) -> 250.22 | X46: =SUM('Elenco attività ACI'!$D$18) -> 125.11 | Y46: =SUM('Elenco attività ACI'!$D$22) -> 5.11 | Z46: =SUM(N46*Y46) -> 0 | AA46: =SUM('Elenco attività ACI'!$D$27) -> 5.11 | AB46: =SUM(Q46*AA46) -> 0 | AC46: =SUM('Elenco attività ACI'!$D$29) -> 3.8 | AD46: =SUM(T46)*AC46 -> 0 | AE46: =SUM(X46+Z46+AB46+AD45) -> 125.11 | AF46: =SUM(W46+AE46) -> 375.33 | AG46: =SUM(AF46)*$AM$1 -> 750.66 | AH46: =SUM('[1]Costi misura'!Q87:Q88) -> 11 | AI46: =SUM(AH46)*$AN$1 -> 577.17 | AJ46: =SUM(AH46)*$AO$1 -> 193.05 | AK46: =SUM(AI46+AJ46) -> 770.22 | AL46: =SUM(AG46+AK46) -> 1520.88
A47: =SUM(A46)+1 -> 46 | B47: 1 | C47: Centro | D47: Bologna Uff. PRA Dir. T. | E47: Emilia Romagna | F47: Rimini | G47: =SUM('[1]determ. costi visite'!AB1881:AB1891) -> 11 | I47: =SUM(G47+H47) -> 11 | J47: 1 | K47: NO | M47: =SUM('Elenco attività ACI'!$D$3) -> 250.22 | O47: =SUM('Elenco attività ACI'!$D$7) -> 8.47 | P47: =SUM(N47*O47) -> 0 | R47: =SUM('Elenco attività ACI'!$D$12) -> 9.88 | S47: =SUM(Q47*R47) -> 0 | U47: =SUM('Elenco attività ACI'!$D$14) -> 6.92 | V47: =SUM(T47)*U47 -> 0 | W47: =SUM(M47+P47+S47+V47) -> 250.22 | X47: =SUM('Elenco attività ACI'!$D$18) -> 125.11 | Y47: =SUM('Elenco attività ACI'!$D$22) -> 5.11 | Z47: =SUM(N47*Y47) -> 0 | AA47: =SUM('Elenco attività ACI'!$D$27) -> 5.11 | AB47: =SUM(Q47*AA47) -> 0 | AC47: =SUM('Elenco attività ACI'!$D$29) -> 3.8 | AD47: =SUM(T47)*AC47 -> 0 | AE47: =SUM(X47+Z47+AB47+AD46) -> 125.11 | AF47: =SUM(W47+AE47) -> 375.33 | AG47: =SUM(AF47)*$AM$1 -> 750.66 | AH47: =SUM('[1]Costi misura'!Q89:Q90) -> 11 | AI47: =SUM(AH47)*$AN$1 -> 577.17 | AJ47: =SUM(AH47)*$AO$1 -> 193.05 | AK47: =SUM(AI47+AJ47) -> 770.22 | AL47: =SUM(AG47+AK47) -> 1520.88
A48: =SUM(A47)+1 -> 47 | B48: 1 | C48: Centro | D48: Cagliari Uff. PRA Dir. T. | E48: Sardegna | F48: Cagliari (D.T.) | G48: =SUM('[1]determ. costi visite'!AB256:AB274) -> 19 | I48: =SUM(G48+H48) -> 19 | J48: 1 | K48: NO | M48: =SUM('Elenco attività ACI'!$D$3) -> 250.22 | O48: =SUM('Elenco attività ACI'!$D$7) -> 8.47 | P48: =SUM(N48*O48) -> 0 | R48: =SUM('Elenco attività ACI'!$D$12) -> 9.88 | S48: =SUM(Q48*R48) -> 0 | U48: =SUM('Elenco attività ACI'!$D$14) -> 6.92 | V48: =SUM(T48)*U48 -> 0 | W48: =SUM(M48+P48+S48+V48) -> 250.22 | X48: =SUM('Elenco attività ACI'!$D$18) -> 125.11 | Y48: =SUM('Elenco attività ACI'!$D$22) -> 5.11 | Z48: =SUM(N48*Y48) -> 0 | AA48: =SUM('Elenco attività ACI'!$D$27) -> 5.11 | AB48: =SUM(Q48*AA48) -> 0 | AC48: =SUM('Elenco attività ACI'!$D$29) -> 3.8 | AD48: =SUM(T48)*AC48 -> 0 | AE48: =SUM(X48+Z48+AB48+AD47) -> 125.11 | AF48: =SUM(W48+AE48) -> 375.33 | AG48: =SUM(AF48)*$AM$1 -> 750.66 | AH48: =SUM('[1]Costi misura'!Q91:Q92) -> 19 | AI48: =SUM(AH48)*$AN$1 -> 996.93 | AJ48: =SUM(AH48)*$AO$1 -> 333.45 | AK48: =SUM(AI48+AJ48) -> 1330.38 | AL48: =SUM(AG48+AK48) -> 2081.04
A49: =SUM(A48)+1 -> 48 | B49: 1 | C49: Centro | D49: Cagliari Uff. PRA Dir. T. | E49: Sardegna | F49: Nuoro | G49: =SUM('[1]determ. costi visite'!AB950:AB958) -> 9 | I49: =SUM(G49+H49) -> 9 | J49: 1 | K49: NO | M49: =SUM('Elenco attività ACI'!$D$3) -> 250.22 | O49: =SUM('Elenco attività ACI'!$D$7) -> 8.47 | P49: =SUM(N49*O49) -> 0 | R49: =SUM('Elenco attività ACI'!$D$12) -> 9.88 | S49: =SUM(Q49*R49) -> 0 | U49: =SUM('Elenco attività ACI'!$D$14) -> 6.92 | V49: =SUM(T49)*U49 -> 0 | W49: =SUM(M49+P49+S49+V49) -> 250.22 | X49: =SUM('Elenco attività ACI'!$D$18) -> 125.11 | Y49: =SUM('Elenco attività ACI'!$D$22) -> 5.11 | Z49: =SUM(N49*Y49) -> 0 | AA49: =SUM('Elenco attività ACI'!$D$27) -> 5.11 | AB49: =SUM(Q49*AA49) -> 0 | AC49: =SUM('Elenco attività ACI'!$D$29) -> 3.8 | AD49: =SUM(T49)*AC49 -> 0 | AE49: =SUM(X49+Z49+AB49+AD48) -> 125.11 | AF49: =SUM(W49+AE49) -> 375.33 | AG49: =SUM(AF49)*$AM$1 -> 750.66 | AH49: =SUM('[1]Costi misura'!Q93:Q94) -> 9 | AI49: =SUM(AH49)*$AN$1 -> 472.23 | AJ49: =SUM(AH49)*$AO$1 -> 157.95 | AK49: =SUM(AI49+AJ49) -> 630.18 | AL49: =SUM(AG49+AK49) -> 1380.84
A50: =SUM(A49)+1 -> 49 | B50: 1 | C50: Centro | D50: Cagliari Uff. PRA Dir. T. | E50: Sardegna | F50: Ogliastra (Tortolì) | G50: =SUM('[1]determ. costi visite'!AB959:AB969) -> 11 | I50: =SUM(G50+H50) -> 11 | J50: 1 | K50: NO | M50: =SUM('Elenco attività ACI'!$D$3) -> 250.22 | O50: =SUM('Elenco attività ACI'!$D$7) -> 8.47 | P50: =SUM(N50*O50) -> 0 | R50: =SUM('Elenco attività ACI'!$D$12) -> 9.88 | S50: =SUM(Q50*R50) -> 0 | U50: =SUM('Elenco attività ACI'!$D$14) -> 6.92 | V50: =SUM(T50)*U50 -> 0 | W50: =SUM(M50+P50+S50+V50) -> 250.22 | X50: =SUM('Elenco attività ACI'!$D$18) -> 125.11 | Y50: =SUM('Elenco attività ACI'!$D$22) -> 5.11 | Z50: =SUM(N50*Y50) -> 0 | AA50: =SUM('Elenco attività ACI'!$D$27) -> 5.11 | AB50: =SUM(Q50*AA50) -> 0 | AC50: =SUM('Elenco attività ACI'!$D$29) -> 3.8 | AD50: =SUM(T50)*AC50 -> 0 | AE50: =SUM(X50+Z50+AB50+AD49) -> 125.11 | AF50: =SUM(W50+AE50) -> 375.33 | AG50: =SUM(AF50)*$AM$1 -> 750.66 | AH50: =SUM('[1]Costi misura'!Q95) -> 11 | AI50: =SUM(AH50)*$AN$1 -> 577.17 | AJ50: =SUM(AH50)*$AO$1 -> 193.05 | AK50: =SUM(AI50+AJ50) -> 770.22 | AL50: =SUM(AG50+AK50) -> 1520.88
A51: =SUM(A50)+1 -> 50 | B51: 1 | C51: Centro | D51: Cagliari Uff. PRA Dir. T. | E51: Sardegna | F51: Olbia Tempio | G51: =SUM('[1]determ. costi visite'!AB974:AB981) -> 8 | I51: =SUM(G51+H51) -> 8 | J51: 1 | K51: NO | M51: =SUM('Elenco attività ACI'!$D$3) -> 250.22 | O51: =SUM('Elenco attività ACI'!$D$7) -> 8.47 | P51: =SUM(N51*O51) -> 0 | R51: =SUM('Elenco attività ACI'!$D$12) -> 9.88 | S51: =SUM(Q51*R51) -> 0 | U51: =SUM('Elenco attività ACI'!$D$14) -> 6.92 | V51: =SUM(T51)*U51 -> 0 | W51: =SUM(M51+P51+S51+V51) -> 250.22 | X51: =SUM('Elenco attività ACI'!$D$18) -> 125.11 | Y51: =SUM('Elenco attività ACI'!$D$22) -> 5.11 | Z51: =SUM(N51*Y51) -> 0 | AA51: =SUM('Elenco attività ACI'!$D$27) -> 5.11 | AB51: =SUM(Q51*AA51) -> 0 | AC51: =SUM('Elenco attività ACI'!$D$29) -> 3.8 | AD51: =SUM(T51)*AC51 -> 0 | AE51: =SUM(X51+Z51+AB51+AD50) -> 125.11 | AF51: =SUM(W51+AE51) -> 375.33 | AG51: =SUM(AF51)*$AM$1 -> 750.66 | AH51: =SUM('[1]Costi misura'!Q96) -> 3 | AI51: =SUM(AH51)*$AN$1 -> 157.41 | AJ51: =SUM(AH51)*$AO$1 -> 52.65 | AK51: =SUM(AI51+AJ51) -> 210.06 | AL51: =SUM(AG51+AK51) -> 960.72
A52: =SUM(A51)+1 -> 51 | B52: 1 | C52: Centro | D52: Cagliari Uff. PRA Dir. T. | E52: Sardegna | F52: Oristano | G52: =SUM('[1]determ. costi visite'!AB970:AB973) -> 4 | I52: =SUM(G52+H52) -> 4 | J52: 1 | K52: NO | M52: =SUM('Elenco attività ACI'!$D$3) -> 250.22 | O52: =SUM('Elenco attività ACI'!$D$7) -> 8.47 | P52: =SUM(N52*O52) -> 0 | R52: =SUM('Elenco attività ACI'!$D$12) -> 9.88 | S52: =SUM(Q52*R52) -> 0 | U52: =SUM('Elenco attività ACI'!$D$14) -> 6.92 | V52: =SUM(T52)*U52 -> 0 | W52: =SUM(M52+P52+S52+V52) -> 250.22 | X52: =SUM('Elenco attività ACI'!$D$18) -> 125.11 | Y52: =SUM('Elenco attività ACI'!$D$22) -> 5.11 | Z52: =SUM(N52*Y52) -> 0 | AA52: =SUM('Elenco attività ACI'!$D$27) -> 5.11 | AB52: =SUM(Q52*AA52) -> 0 | AC52: =SUM('Elenco attività ACI'!$D$29) -> 3.8 | AD52: =SUM(T52)*AC52 -> 0 | AE52: =SUM(X52+Z52+AB52+AD51) -> 125.11 | AF52: =SUM(W52+AE52) -> 375.33 | AG52: =SUM(AF52)*$AM$1 -> 750.66 | AH52: =SUM('[1]Costi misura'!Q97:Q98) -> 4 | AI52: =SUM(AH52)*$AN$1 -> 209.88 | AJ52: =SUM(AH52)*$AO$1 -> 70.2 | AK52: =SUM(AI52+AJ52) -> 280.08 | AL52: =SUM(AG52+AK52) -> 1030.74
A53: =SUM(A52)+1 -> 52 | B53: 1 | C53: Centro | D53: Cagliari Uff. PRA Dir. T. | E53: Sardegna | F53: Sassari | G53: =SUM('[1]determ. costi visite'!AB1963:AB1977) -> 15 | H53: =SUM('[1]determ. costi visite'!T921) -> 1 | I53: =SUM(G53+H53) -> 16 | J53: 1 | K53: NO | M53: =SUM('Elenco attività ACI'!$D$3) -> 250.22 | O53: =SUM('Elenco attività ACI'!$D$7) -> 8.47 | P53: =SUM(N53*O53) -> 0 | R53: =SUM('Elenco attività ACI'!$D$12) -> 9.88 | S53: =SUM(Q53*R53) -> 0 | U53: =SUM('Elenco attività ACI'!$D$14) -> 6.92 | V53: =SUM(T53)*U53 -> 0 | W53: =SUM(M53+P53+S53+V53) -> 250.22 | X53: =SUM('Elenco attività ACI'!$D$18) -> 125.11 | Y53: =SUM('Elenco attività ACI'!$D$22) -> 5.11 | Z53: =SUM(N53*Y53) -> 0 | AA53: =SUM('Elenco attività ACI'!$D$27) -> 5.11 | AB53: =SUM(Q53*AA53) -> 0 | AC53: =SUM('Elenco attività ACI'!$D$29) -> 3.8 | AD53: =SUM(T53)*AC53 -> 0 | AE53: =SUM(X53+Z53+AB53+AD52) -> 125.11 | AF53: =SUM(W53+AE53) -> 375.33 | AG53: =SUM(AF53)*$AM$1 -> 750.66 | AH53: =SUM('[1]Costi misura'!Q99:Q100) -> 12 | AI53: =SUM(AH53)*$AN$1 -> 629.64 | AJ53: =SUM(AH53)*$AO$1 -> 210.6 | AK53: =SUM(AI53+AJ53) -> 840.24 | AL53: =SUM(AG53+AK53) -> 1590.9
A54: =SUM(A53)+1 -> 53 | B54: 1 | C54: Centro | D54: Firenze Uff. Pra Dir. T. | E54: Toscana | F54: Arezzo | G54: =SUM('[1]determ. costi visite'!AB59:AB67) -> 9 | H54: =SUM('[1]determ. costi visite'!T845) -> 1 | I54: =SUM(G54+H54) -> 10 | J54: 1 | K54: NO | M54: =SUM('Elenco attività ACI'!$D$3) -> 250.22 | O54: =SUM('Elenco attività ACI'!$D$7) -> 8.47 | P54: =SUM(N54*O54) -> 0 | R54: =SUM('Elenco attività ACI'!$D$12) -> 9.88 | S54: =SUM(Q54*R54) -> 0 | U54: =SUM('Elenco attività ACI'!$D$14) -> 6.92 | V54: =SUM(T54)*U54 -> 0 | W54: =SUM(M54+P54+S54+V54) -> 250.22 | X54: =SUM('Elenco attività ACI'!$D$18) -> 125.11 | Y54: =SUM('Elenco attività ACI'!$D$22) -> 5.11 | Z54: =SUM(N54*Y54) -> 0 | AA54: =SUM('Elenco attività ACI'!$D$27) -> 5.11 | AB54: =SUM(Q54*AA54) -> 0 | AC54: =SUM('Elenco attività ACI'!$D$29) -> 3.8 | AD54: =SUM(T54)*AC54 -> 0 | AE54: =SUM(X54+Z54+AB54+AD53) -> 125.11 | AF54: =SUM(W54+AE54) -> 375.33 | AG54: =SUM(AF54)*$AM$1 -> 750.66 | AH54: =SUM('[1]Costi misura'!Q101:Q102) -> 9 | AI54: =SUM(AH54)*$AN$1 -> 472.23 | AJ54: =SUM(AH54)*$AO$1 -> 157.95 | AK54: =SUM(AI54+AJ54) -> 630.18 | AL54: =SUM(AG54+AK54) -> 1380.84
A55: =SUM(A54)+1 -> 54 | B55: 1 | C55: Centro | D55: Firenze Uff. Pra Dir. T. | E55: Toscana | F55: Firenze (D.T.) | G55: =SUM('[1]determ. costi visite'!AB467:AB494) -> 28 | I55: =SUM(G55+H55) -> 28 | J55: NO | K55: 1 | M55: =SUM('Elenco attività ACI'!$D$3) -> 250.22 | N55: 8 | O55: =SUM('Elenco attività ACI'!$D$7) -> 8.47 | P55: =SUM(N55*O55) -> 67.76 | R55: =SUM('Elenco attività ACI'!$D$12) -> 9.88 | S55: =SUM(Q55*R55) -> 0 | U55: =SUM('Elenco attività ACI'!$D$14) -> 6.92 | V55: =SUM(T55)*U55 -> 0 | W55: =SUM(M55+P55+S55+V55) -> 317.98 | X55: =SUM('Elenco attività ACI'!$D$18) -> 125.11 | Y55: =SUM('Elenco attività ACI'!$D$22) -> 5.11 | Z55: =SUM(N55*Y55) -> 40.88 | AA55: =SUM('Elenco attività ACI'!$D$27) -> 5.11 | AB55: =SUM(Q55*AA55) -> 0 | AC55: =SUM('Elenco attività ACI'!$D$29) -> 3.8 | AD55: =SUM(T55)*AC55 -> 0 | AE55: =SUM(X55+Z55+AB55+AD54) -> 165.99 | AF55: =SUM(W55+AE55) -> 483.97 | AG55: =SUM(AF55)*$AM$1 -> 967.94 | AH55: =SUM('[1]Costi misura'!Q103:Q104) -> 28 | AI55: =SUM(AH55)*$AN$1 -> 1469.16 | AJ55: =SUM(AH55)*$AO$1 -> 491.4 | AK55: =SUM(AI55+AJ55) -> 1960.56 | AL55: =SUM(AG55+AK55) -> 2928.5
A56: =SUM(A55)+1 -> 55 | B56: 1 | C56: Centro | D56: Firenze Uff. Pra Dir. T. | E56: Toscana | F56: Grosseto | G56: =SUM('[1]determ. costi visite'!AB537:AB543) -> 7 | I56: =SUM(G56+H56) -> 7 | J56: 1 | K56: NO | M56: =SUM('Elenco attività ACI'!$D$3) -> 250.22 | O56: =SUM('Elenco attività ACI'!$D$7) -> 8.47 | P56: =SUM(N56*O56) -> 0 | R56: =SUM('Elenco attività ACI'!$D$12) -> 9.88 | S56: =SUM(Q56*R56) -> 0 | U56: =SUM('Elenco attività ACI'!$D$14) -> 6.92 | V56: =SUM(T56)*U56 -> 0 | W56: =SUM(M56+P56+S56+V56) -> 250.22 | X56: =SUM('Elenco attività ACI'!$D$18) -> 125.11 | Y56: =SUM('Elenco attività ACI'!$D$22) -> 5.11 | Z56: =SUM(N56*Y56) -> 0 | AA56: =SUM('Elenco attività ACI'!$D$27) -> 5.11 | AB56: =SUM(Q56*AA56) -> 0 | AC56: =SUM('Elenco attività ACI'!$D$29) -> 3.8 | AD56: =SUM(T56)*AC56 -> 0 | AE56: =SUM(X56+Z56+AB56+AD55) -> 125.11 | AF56: =SUM(W56+AE56) -> 375.33 | AG56: =SUM(AF56)*$AM$1 -> 750.66 | AH56: =SUM('[1]Costi misura'!Q105:Q106) -> 7 | AI56: =SUM(AH56)*$AN$1 -> 367.29 | AJ56: =SUM(AH56)*$AO$1 -> 122.85 | AK56: =SUM(AI56+AJ56) -> 490.14 | AL56: =SUM(AG56+AK56) -> 1240.8
A57: =SUM(A56)+1 -> 56 | B57: 1 | C57: Centro | D57: Firenze Uff. Pra Dir. T. | E57: Toscana | F57: Livorno | G57: =SUM('[1]determ. costi visite'!AB599:AB607) -> 9 | H57: =SUM('[1]determ. costi visite'!T882) -> 1 | I57: =SUM(G57+H57) -> 10 | J57: 1 | K57: NO | M57: =SUM('Elenco attività ACI'!$D$3) -> 250.22 | O57: =SUM('Elenco attività ACI'!$D$7) -> 8.47 | P57: =SUM(N57*O57) -> 0 | R57: =SUM('Elenco attività ACI'!$D$12) -> 9.88 | S57: =SUM(Q57*R57) -> 0 | U57: =SUM('Elenco attività ACI'!$D$14) -> 6.92 | V57: =SUM(T57)*U57 -> 0 | W57: =SUM(M57+P57+S57+V57) -> 250.22 | X57: =SUM('Elenco attività ACI'!$D$18) -> 125.11 | Y57: =SUM('Elenco attività ACI'!$D$22) -> 5.11 | Z57: =SUM(N57*Y57) -> 0 | AA57: =SUM('Elenco attività ACI'!$D$27) -> 5.11 | AB57: =SUM(Q57*AA57) -> 0 | AC57: =SUM('Elenco attività ACI'!$D$29) -> 3.8 | AD57: =SUM(T57)*AC57 -> 0 | AE57: =SUM(X57+Z57+AB57+AD56) -> 125.11 | AF57: =SUM(W57+AE57) -> 375.33 | AG57: =SUM(AF57)*$AM$1 -> 750.66 | AH57: =SUM('[1]Costi misura'!Q107:Q108) -> 10 | AI57: =SUM(AH57)*$AN$1 -> 524.7 | AJ57: =SUM(AH57)*$AO$1 -> 175.5 | AK57: =SUM(AI57+AJ57) -> 700.2 | AL57: =SUM(AG57+AK57) -> 1450.86
A58: =SUM(A57)+1 -> 57 | B58: 1 | C58: Centro | D58: Firenze Uff. Pra Dir. T. | E58: Toscana | F58: Lucca | G58: =SUM('[1]determ. costi visite'!AB632:AB641) -> 10 | H58: =SUM('[1]determ. costi visite'!T883) -> 1 | I58: =SUM(G58+H58) -> 11 | J58: 1 | K58: NO | M58: =SUM('Elenco attività ACI'!$D$3) -> 250.22 | O58: =SUM('Elenco attività ACI'!$D$7) -> 8.47 | P58: =SUM(N58*O58) -> 0 | R58: =SUM('Elenco attività ACI'!$D$12) -> 9.88 | S58: =SUM(Q58*R58) -> 0 | U58: =SUM('Elenco attività ACI'!$D$14) -> 6.92 | V58: =SUM(T58)*U58 -> 0 | W58: =SUM(M58+P58+S58+V58) -> 250.22 | X58: =SUM('Elenco attività ACI'!$D$18) -> 125.11 | Y58: =SUM('Elenco attività ACI'!$D$22) -> 5.11 | Z58: =SUM(N58*Y58) -> 0 | AA58: =SUM('Elenco attività ACI'!$D$27) -> 5.11 | AB58: =SUM(Q58*AA58) -> 0 | AC58: =SUM('Elenco attività ACI'!$D$29) -> 3.8 | AD58: =SUM(T58)*AC58 -> 0 | AE58: =SUM(X58+Z58+AB58+AD57) -> 125.11 | AF58: =SUM(W58+AE58) -> 375.33 | AG58: =SUM(AF58)*$AM$1 -> 750.66 | AH58: =SUM('[1]Costi misura'!Q109:Q110) -> 11 | AI58: =SUM(AH58)*$AN$1 -> 577.17 | AJ58: =SUM(AH58)*$AO$1 -> 193.05 | AK58: =SUM(AI58+AJ58) -> 770.22 | AL58: =SUM(AG58+AK58) -> 1520.88
A59: =SUM(A58)+1 -> 58 | B59: 1 | C59: Centro | D59: Firenze Uff. Pra Dir. T. | E59: Toscana | F59: Massa-Carrara | G59: =SUM('[1]determ. costi visite'!AB770:AB776) -> 7 | H59: =SUM('[1]determ. costi visite'!T889) -> 1 | I59: =SUM(G59+H59) -> 8 | J59: 1 | K59: NO | M59: =SUM('Elenco attività ACI'!$D$3) -> 250.22 | O59: =SUM('Elenco attività ACI'!$D$7) -> 8.47 | P59: =SUM(N59*O59) -> 0 | R59: =SUM('Elenco attività ACI'!$D$12) -> 9.88 | S59: =SUM(Q59*R59) -> 0 | U59: =SUM('Elenco attività ACI'!$D$14) -> 6.92 | V59: =SUM(T59)*U59 -> 0 | W59: =SUM(M59+P59+S59+V59) -> 250.22 | X59: =SUM('Elenco attività ACI'!$D$18) -> 125.11 | Y59: =SUM('Elenco attività ACI'!$D$22) -> 5.11 | Z59: =SUM(N59*Y59) -> 0 | AA59: =SUM('Elenco attività ACI'!$D$27) -> 5.11 | AB59: =SUM(Q59*AA59) -> 0 | AC59: =SUM('Elenco attività ACI'!$D$29) -> 3.8 | AD59: =SUM(T59)*AC59 -> 0 | AE59: =SUM(X59+Z59+AB59+AD58) -> 125.11 | AF59: =SUM(W59+AE59) -> 375.33 | AG59: =SUM(AF59)*$AM$1 -> 750.66 | AH59: =SUM('[1]Costi misura'!Q111:Q112) -> 8 | AI59: =SUM(AH59)*$AN$1 -> 419.76 | AJ59: =SUM(AH59)*$AO$1 -> 140.4 | AK59: =SUM(AI59+AJ59) -> 560.16 | AL59: =SUM(AG59+AK59) -> 1310.82
A60: =SUM(A59)+1 -> 59 | B60: 1 | C60: Centro | D60: Firenze Uff. Pra Dir. T. | E60: Toscana | F60: Pisa | G60: =SUM('[1]determ. costi visite'!AB1076:AB1086) -> 11 | H60: =SUM('[1]determ. costi visite'!T900) -> 1 | I60: =SUM(G60+H60) -> 12 | J60: 1 | K60: NO | M60: =SUM('Elenco attività ACI'!$D$3) -> 250.22 | O60: =SUM('Elenco attività ACI'!$D$7) -> 8.47 | P60: =SUM(N60*O60) -> 0 | R60: =SUM('Elenco attività ACI'!$D$12) -> 9.88 | S60: =SUM(Q60*R60) -> 0 | U60: =SUM('Elenco attività ACI'!$D$14) -> 6.92 | V60: =SUM(T60)*U60 -> 0 | W60: =SUM(M60+P60+S60+V60) -> 250.22 | X60: =SUM('Elenco attività ACI'!$D$18) -> 125.11 | Y60: =SUM('Elenco attività ACI'!$D$22) -> 5.11 | Z60: =SUM(N60*Y60) -> 0 | AA60: =SUM('Elenco attività ACI'!$D$27) -> 5.11 | AB60: =SUM(Q60*AA60) -> 0 | AC60: =SUM('Elenco attività ACI'!$D$29) -> 3.8 | AD60: =SUM(T60)*AC60 -> 0 | AE60: =SUM(X60+Z60+AB60+AD59) -> 125.11 | AF60: =SUM(W60+AE60) -> 375.33 | AG60: =SUM(AF60)*$AM$1 -> 750.66 | AH60: =SUM('[1]Costi misura'!Q113:Q114) -> 11 | AI60: =SUM(AH60)*$AN$1 -> 577.17 | AJ60: =SUM(AH60)*$AO$1 -> 193.05 | AK60: =SUM(AI60+AJ60) -> 770.22 | AL60: =SUM(AG60+AK60) -> 1520.88
A61: =SUM(A60)+1 -> 60 | B61: 1 | C61: Centro | D61: Firenze Uff. Pra Dir. T. | E61: Toscana | F61: Pistoia | G61: =SUM('[1]determ. costi visite'!AB1122:AB1133) -> 12 | H61: =SUM('[1]determ. costi visite'!T905) -> 1 | I61: =SUM(G61+H61) -> 13 | J61: 1 | K61: NO | M61: =SUM('Elenco attività ACI'!$D$3) -> 250.22 | O61: =SUM('Elenco attività ACI'!$D$7) -> 8.47 | P61: =SUM(N61*O61) -> 0 | R61: =SUM('Elenco attività ACI'!$D$12) -> 9.88 | S61: =SUM(Q61*R61) -> 0 | U61: =SUM('Elenco attività ACI'!$D$14) -> 6.92 | V61: =SUM(T61)*U61 -> 0 | W61: =SUM(M61+P61+S61+V61) -> 250.22 | X61: =SUM('Elenco attività ACI'!$D$18) -> 125.11 | Y61: =SUM('Elenco attività ACI'!$D$22) -> 5.11 | Z61: =SUM(N61*Y61) -> 0 | AA61: =SUM('Elenco attività ACI'!$D$27) -> 5.11 | AB61: =SUM(Q61*AA61) -> 0 | AC61: =SUM('Elenco attività ACI'!$D$29) -> 3.8 | AD61: =SUM(T61)*AC61 -> 0 | AE61: =SUM(X61+Z61+AB61+AD60) -> 125.11 | AF61: =SUM(W61+AE61) -> 375.33 | AG61: =SUM(AF61)*$AM$1 -> 750.66 | AH61: =SUM('[1]Costi misura'!Q115:Q116) -> 13 | AI61: =SUM(AH61)*$AN$1 -> 682.11 | AJ61: =SUM(AH61)*$AO$1 -> 228.15 | AK61: =SUM(AI61+AJ61) -> 910.26 | AL61: =SUM(AG61+AK61) -> 1660.92
A62: =SUM(A61)+1 -> 61 | B62: 1 | C62: Centro | D62: Firenze Uff. Pra Dir. T. | E62: Toscana | F62: Prato | G62: =SUM('[1]determ. costi visite'!AB1098:AB1108) -> 11 | H62: =SUM('[1]determ. costi visite'!T902) -> 1 | I62: =SUM(G62+H62) -> 12 | J62: 1 | K62: NO | M62: =SUM('Elenco attività ACI'!$D$3) -> 250.22 | O62: =SUM('Elenco attività ACI'!$D$7) -> 8.47 | P62: =SUM(N62*O62) -> 0 | R62: =SUM('Elenco attività ACI'!$D$12) -> 9.88 | S62: =SUM(Q62*R62) -> 0 | U62: =SUM('Elenco attività ACI'!$D$14) -> 6.92 | V62: =SUM(T62)*U62 -> 0 | W62: =SUM(M62+P62+S62+V62) -> 250.22 | X62: =SUM('Elenco attività ACI'!$D$18) -> 125.11 | Y62: =SUM('Elenco attività ACI'!$D$22) -> 5.11 | Z62: =SUM(N62*Y62) -> 0 | AA62: =SUM('Elenco attività ACI'!$D$27) -> 5.11 | AB62: =SUM(Q62*AA62) -> 0 | AC62: =SUM('Elenco attività ACI'!$D$29) -> 3.8 | AD62: =SUM(T62)*AC62 -> 0 | AE62: =SUM(X62+Z62+AB62+AD61) -> 125.11 | AF62: =SUM(W62+AE62) -> 375.33 | AG62: =SUM(AF62)*$AM$1 -> 750.66 | AH62: =SUM('[1]Costi misura'!Q117:Q118) -> 12 | AI62: =SUM(AH62)*$AN$1 -> 629.64 | AJ62: =SUM(AH62)*$AO$1 -> 210.6 | AK62: =SUM(AI62+AJ62) -> 840.24 | AL62: =SUM(AG62+AK62) -> 1590.9
A63: =SUM(A62)+1 -> 62 | B63: 1 | C63: Centro | D63: Firenze Uff. Pra Dir. T. | E63: Toscana | F63: Siena | G63: =SUM('[1]determ. costi visite'!AB1927:AB1937) -> 11 | H63: =SUM('[1]determ. costi visite'!T917) -> 1 | I63: =SUM(G63+H63) -> 12 | J63: 1 | K63: NO | M63: =SUM('Elenco attività ACI'!$D$3) -> 250.22 | O63: =SUM('Elenco attività ACI'!$D$7) -> 8.47 | P63: =SUM(N63*O63) -> 0 | R63: =SUM('Elenco attività ACI'!$D$12) -> 9.88 | S63: =SUM(Q63*R63) -> 0 | U63: =SUM('Elenco attività ACI'!$D$14) -> 6.92 | V63: =SUM(T63)*U63 -> 0 | W63: =SUM(M63+P63+S63+V63) -> 250.22 | X63: =SUM('Elenco attività ACI'!$D$18) -> 125.11 | Y63: =SUM('Elenco attività ACI'!$D$22) -> 5.11 | Z63: =SUM(N63*Y63) -> 0 | AA63: =SUM('Elenco attività ACI'!$D$27) -> 5.11 | AB63: =SUM(Q63*AA63) -> 0 | AC63: =SUM('Elenco attività ACI'!$D$29) -> 3.8 | AD63: =SUM(T63)*AC63 -> 0 | AE63: =SUM(X63+Z63+AB63+AD62) -> 125.11 | AF63: =SUM(W63+AE63) -> 375.33 | AG63: =SUM(AF63)*$AM$1 -> 750.66 | AH63: =SUM('[1]Costi misura'!Q119:Q120) -> 12 | AI63: =SUM(AH63)*$AN$1 -> 629.64 | AJ63: =SUM(AH63)*$AO$1 -> 210.6 | AK63: =SUM(AI63+AJ63) -> 840.24 | AL63: =SUM(AG63+AK63) -> 1590.9
A64: =SUM(A63)+1 -> 63 | B64: 1 | C64: Centro | D64: L'Aquila Uff. PRA Dir. T. | E64: Abruzzo | F64: Chieti | G64: =SUM('[1]determ. costi visite'!AB309:AB321) -> 13 | H64: =SUM('[1]determ. costi visite'!T862) -> 1 | I64: =SUM(G64+H64) -> 14 | J64: 1 | K64: NO | M64: =SUM('Elenco attività ACI'!$D$3) -> 250.22 | O64: =SUM('Elenco attività ACI'!$D$7) -> 8.47 | P64: =SUM(N64*O64) -> 0 | R64: =SUM('Elenco attività ACI'!$D$12) -> 9.88 | S64: =SUM(Q64*R64) -> 0 | U64: =SUM('Elenco attività ACI'!$D$14) -> 6.92 | V64: =SUM(T64)*U64 -> 0 | W64: =SUM(M64+P64+S64+V64) -> 250.22 | X64: =SUM('Elenco attività ACI'!$D$18) -> 125.11 | Y64: =SUM('Elenco attività ACI'!$D$22) -> 5.11 | Z64: =SUM(N64*Y64) -> 0 | AA64: =SUM('Elenco attività ACI'!$D$27) -> 5.11 | AB64: =SUM(Q64*AA64) -> 0 | AC64: =SUM('Elenco attività ACI'!$D$29) -> 3.8 | AD64: =SUM(T64)*AC64 -> 0 | AE64: =SUM(X64+Z64+AB64+AD63) -> 125.11 | AF64: =SUM(W64+AE64) -> 375.33 | AG64: =SUM(AF64)*$AM$1 -> 750.66 | AH64: =SUM('[1]Costi misura'!Q121:Q122) -> 14 | AI64: =SUM(AH64)*$AN$1 -> 734.58 | AJ64: =SUM(AH64)*$AO$1 -> 245.7 | AK64: =SUM(AI64+AJ64) -> 980.28 | AL64: =SUM(AG64+AK64) -> 1730.94
A65: =SUM(A64)+1 -> 64 | B65: 1 | C65: Centro | D65: L'Aquila Uff. PRA Dir. T. | E65: Abruzzo | F65: L'Aquila (D.T.) | G65: =SUM('[1]determ. costi visite'!AB50:AB58) -> 9 | H65: =SUM('[1]determ. costi visite'!T849) -> 1 | I65: =SUM(G65+H65) -> 10 | J65: 1 | K65: NO | M65: =SUM('Elenco attività ACI'!$D$3) -> 250.22 | O65: =SUM('Elenco attività ACI'!$D$7) -> 8.47 | P65: =SUM(N65*O65) -> 0 | R65: =SUM('Elenco attività ACI'!$D$12) -> 9.88 | S65: =SUM(Q65*R65) -> 0 | U65: =SUM('Elenco attività ACI'!$D$14) -> 6.92 | V65: =SUM(T65)*U65 -> 0 | W65: =SUM(M65+P65+S65+V65) -> 250.22 | X65: =SUM('Elenco attività ACI'!$D$18) -> 125.11 | Y65: =SUM('Elenco attività ACI'!$D$22) -> 5.11 | Z65: =SUM(N65*Y65) -> 0 | AA65: =SUM('Elenco attività ACI'!$D$27) -> 5.11 | AB65: =SUM(Q65*AA65) -> 0 | AC65: =SUM('Elenco attività ACI'!$D$29) -> 3.8 | AD65: =SUM(T65)*AC65 -> 0 | AE65: =SUM(X65+Z65+AB65+AD64) -> 125.11 | AF65: =SUM(W65+AE65) -> 375.33 | AG65: =SUM(AF65)*$AM$1 -> 750.66 | AH65: =SUM('[1]Costi misura'!Q123:Q124) -> 10 | AI65: =SUM(AH65)*$AN$1 -> 524.7 | AJ65: =SUM(AH65)*$AO$1 -> 175.5 | AK65: =SUM(AI65+AJ65) -> 700.2 | AL65: =SUM(AG65+AK65) -> 1450.86
A66: =SUM(A65)+1 -> 65 | B66: 1 | C66: Centro | D66: L'Aquila Uff. PRA Dir. T. | E66: Abruzzo | F66: Pescara | G66: =SUM('[1]determ. costi visite'!AB1043:AB1056) -> 14 | H66: =SUM('[1]determ. costi visite'!T898) -> 1 | I66: =SUM(G66+H66) -> 15 | J66: 1 | K66: NO | M66: =SUM('Elenco attività ACI'!$D$3) -> 250.22 | O66: =SUM('Elenco attività ACI'!$D$7) -> 8.47 | P66: =SUM(N66*O66) -> 0 | R66: =SUM('Elenco attività ACI'!$D$12) -> 9.88 | S66: =SUM(Q66*R66) -> 0 | U66: =SUM('Elenco attività ACI'!$D$14) -> 6.92 | V66: =SUM(T66)*U66 -> 0 | W66: =SUM(M66+P66+S66+V66) -> 250.22 | X66: =SUM('Elenco attività ACI'!$D$18) -> 125.11 | Y66: =SUM('Elenco attività ACI'!$D$22) -> 5.11 | Z66: =SUM(N66*Y66) -> 0 | AA66: =SUM('Elenco attività ACI'!$D$27) -> 5.11 | AB66: =SUM(Q66*AA66) -> 0 | AC66: =SUM('Elenco attività ACI'!$D$29) -> 3.8 | AD66: =SUM(T66)*AC66 -> 0 | AE66: =SUM(X66+Z66+AB66+AD65) -> 125.11 | AF66: =SUM(W66+AE66) -> 375.33 | AG66: =SUM(AF66)*$AM$1 -> 750.66 | AH66: =SUM('[1]Costi misura'!Q125:Q126) -> 16 | AI66: =SUM(AH66)*$AN$1 -> 839.52 | AJ66: =SUM(AH66)*$AO$1 -> 280.8 | AK66: =SUM(AI66+AJ66) -> 1120.32 | AL66: =SUM(AG66+AK66) -> 1870.98
A67: =SUM(A66)+1 -> 66 | B67: 1 | C67: Centro | D67: L'Aquila Uff. PRA Dir. T. | E67: Abruzzo | F67: Teramo | G67: =SUM('[1]determ. costi visite'!AB1998:AB2005) -> 8 | H67: 1 | I67: =SUM(G67+H67) -> 9 | J67: 1 | K67: NO | M67: =SUM('Elenco attività ACI'!$D$3) -> 250.22 | O67: =SUM('Elenco attività ACI'!$D$7) -> 8.47 | P67: =SUM(N67*O67) -> 0 | R67: =SUM('Elenco attività ACI'!$D$12) -> 9.88 | S67: =SUM(Q67*R67) -> 0 | U67: =SUM('Elenco attività ACI'!$D$14) -> 6.92 | V67: =SUM(T67)*U67 -> 0 | W67: =SUM(M67+P67+S67+V67) -> 250.22 | X67: =SUM('Elenco attività ACI'!$D$18) -> 125.11 | Y67: =SUM('Elenco attività ACI'!$D$22) -> 5.11 | Z67: =SUM(N67*Y67) -> 0 | AA67: =SUM('Elenco attività ACI'!$D$27) -> 5.11 | AB67: =SUM(Q67*AA67) -> 0 | AC67: =SUM('Elenco attività ACI'!$D$29) -> 3.8 | AD67: =SUM(T67)*AC67 -> 0 | AE67: =SUM(X67+Z67+AB67+AD66) -> 125.11 | AF67: =SUM(W67+AE67) -> 375.33 | AG67: =SUM(AF67)*$AM$1 -> 750.66 | AH67: =SUM('[1]Costi misura'!Q127:Q128) -> 9 | AI67: =SUM(AH67)*$AN$1 -> 472.23 | AJ67: =SUM(AH67)*$AO$1 -> 157.95 | AK67: =SUM(AI67+AJ67) -> 630.18 | AL67: =SUM(AG67+AK67) -> 1380.84
A68: =SUM(A67)+1 -> 67 | B68: 1 | C68: Centro | D68: Perugia Uff. PRA Dir. T. | E68: Marche | F68: Ancona | G68: =SUM('[1]determ. costi visite'!AB23:AB32) -> 10 | H68: =SUM('[1]determ. costi visite'!U844) -> 1 | I68: =SUM(G68+H68) -> 11 | J68: 1 | K68: NO | M68: =SUM('Elenco attività ACI'!$D$3) -> 250.22 | O68: =SUM('Elenco attività ACI'!$D$7) -> 8.47 | P68: =SUM(N68*O68) -> 0 | R68: =SUM('Elenco attività ACI'!$D$12) -> 9.88 | S68: =SUM(Q68*R68) -> 0 | U68: =SUM('Elenco attività ACI'!$D$14) -> 6.92 | V68: =SUM(T68)*U68 -> 0 | W68: =SUM(M68+P68+S68+V68) -> 250.22 | X68: =SUM('Elenco attività ACI'!$D$18) -> 125.11 | Y68: =SUM('Elenco attività ACI'!$D$22) -> 5.11 | Z68: =SUM(N68*Y68) -> 0 | AA68: =SUM('Elenco attività ACI'!$D$27) -> 5.11 | AB68: =SUM(Q68*AA68) -> 0 | AC68: =SUM('Elenco attività ACI'!$D$29) -> 3.8 | AD68: =SUM(T68)*AC68 -> 0 | AE68: =SUM(X68+Z68+AB68+AD67) -> 125.11 | AF68: =SUM(W68+AE68) -> 375.33 | AG68: =SUM(AF68)*$AM$1 -> 750.66 | AH68: =SUM('[1]Costi misura'!Q129:Q130) -> 9 | AI68: =SUM(AH68)*$AN$1 -> 472.23 | AJ68: =SUM(AH68)*$AO$1 -> 157.95 | AK68: =SUM(AI68+AJ68) -> 630.18 | AL68: =SUM(AG68+AK68) -> 1380.84
A69: =SUM(A68)+1 -> 68 | B69: 1 | C69: Centro | D69: Perugia Uff. PRA Dir. T. | E69: Marche | F69: Ascoli Piceno | G69: =SUM('[1]determ. costi visite'!AB40:AB49) -> 10 | H69: =SUM('[1]determ. costi visite'!V847) -> 1 | I69: =SUM(G69+H69) -> 11 | J69: 1 | K69: NO | M69: =SUM('Elenco attività ACI'!$D$3) -> 250.22 | O69: =SUM('Elenco attività ACI'!$D$7) -> 8.47 | P69: =SUM(N69*O69) -> 0 | R69: =SUM('Elenco attività ACI'!$D$12) -> 9.88 | S69: =SUM(Q69*R69) -> 0 | U69: =SUM('Elenco attività ACI'!$D$14) -> 6.92 | V69: =SUM(T69)*U69 -> 0 | W69: =SUM(M69+P69+S69+V69) -> 250.22 | X69: =SUM('Elenco attività ACI'!$D$18) -> 125.11 | Y69: =SUM('Elenco attività ACI'!$D$22) -> 5.11 | Z69: =SUM(N69*Y69) -> 0 | AA69: =SUM('Elenco attività ACI'!$D$27) -> 5.11 | AB69: =SUM(Q69*AA69) -> 0 | AC69: =SUM('Elenco attività ACI'!$D$29) -> 3.8 | AD69: =SUM(T69)*AC69 -> 0 | AE69: =SUM(X69+Z69+AB69+AD68) -> 125.11 | AF69: =SUM(W69+AE69) -> 375.33 | AG69: =SUM(AF69)*$AM$1 -> 750.66 | AH69: =SUM('[1]Costi misura'!Q131:Q132) -> 11 | AI69: =SUM(AH69)*$AN$1 -> 577.17 | AJ69: =SUM(AH69)*$AO$1 -> 193.05 | AK69: =SUM(AI69+AJ69) -> 770.22 | AL69: =SUM(AG69+AK69) -> 1520.88
A70: =SUM(A69)+1 -> 69 | B70: 1 | C70: Centro | D70: Perugia Uff. PRA Dir. T. | E70: Marche | F70: Macerata | G70: =SUM('[1]determ. costi visite'!AB642:AB653) -> 12 | I70: =SUM(G70+H70) -> 12 | J70: 1 | K70: NO | M70: =SUM('Elenco attività ACI'!$D$3) -> 250.22 | O70: =SUM('Elenco attività ACI'!$D$7) -> 8.47 | P70: =SUM(N70*O70) -> 0 | R70: =SUM('Elenco attività ACI'!$D$12) -> 9.88 | S70: =SUM(Q70*R70) -> 0 | U70: =SUM('Elenco attività ACI'!$D$14) -> 6.92 | V70: =SUM(T70)*U70 -> 0 | W70: =SUM(M70+P70+S70+V70) -> 250.22 | X70: =SUM('Elenco attività ACI'!$D$18) -> 125.11 | Y70: =SUM('Elenco attività ACI'!$D$22) -> 5.11 | Z70: =SUM(N70*Y70) -> 0 | AA70: =SUM('Elenco attività ACI'!$D$27) -> 5.11 | AB70: =SUM(Q70*AA70) -> 0 | AC70: =SUM('Elenco attività ACI'!$D$29) -> 3.8 | AD70: =SUM(T70)*AC70 -> 0 | AE70: =SUM(X70+Z70+AB70+AD69) -> 125.11 | AF70: =SUM(W70+AE70) -> 375.33 | AG70: =SUM(AF70)*$AM$1 -> 750.66 | AH70: =SUM('[1]Costi misura'!Q133:Q134) -> 12 | AI70: =SUM(AH70)*$AN$1 -> 629.64 | AJ70: =SUM(AH70)*$AO$1 -> 210.6 | AK70: =SUM(AI70+AJ70) -> 840.24 | AL70: =SUM(AG70+AK70) -> 1590.9
A71: =SUM(A70)+1 -> 70 | B71: 1 | C71: Centro | D71: Perugia Uff. PRA Dir. T. | E71: Marche | F71: Pesaro/Urbino | G71: =SUM('[1]determ. costi visite'!AB1134:AB1146) -> 13 | H71: =SUM('[1]determ. costi visite'!T906) -> 1 | I71: =SUM(G71+H71) -> 14 | J71: 1 | K71: NO | M71: =SUM('Elenco attività ACI'!$D$3) -> 250.22 | O71: =SUM('Elenco attività ACI'!$D$7) -> 8.47 | P71: =SUM(N71*O71) -> 0 | R71: =SUM('Elenco attività ACI'!$D$12) -> 9.88 | S71: =SUM(Q71*R71) -> 0 | U71: =SUM('Elenco attività ACI'!$D$14) -> 6.92 | V71: =SUM(T71)*U71 -> 0 | W71: =SUM(M71+P71+S71+V71) -> 250.22 | X71: =SUM('Elenco attività ACI'!$D$18) -> 125.11 | Y71: =SUM('Elenco attività ACI'!$D$22) -> 5.11 | Z71: =SUM(N71*Y71) -> 0 | AA71: =SUM('Elenco attività ACI'!$D$27) -> 5.11 | AB71: =SUM(Q71*AA71) -> 0 | AC71: =SUM('Elenco attività ACI'!$D$29) -> 3.8 | AD71: =SUM(T71)*AC71 -> 0 | AE71: =SUM(X71+Z71+AB71+AD70) -> 125.11 | AF71: =SUM(W71+AE71) -> 375.33 | AG71: =SUM(AF71)*$AM$1 -> 750.66 | AH71: =SUM('[1]Costi misura'!Q135:Q136) -> 7 | AI71: =SUM(AH71)*$AN$1 -> 367.29 | AJ71: =SUM(AH71)*$AO$1 -> 122.85 | AK71: =SUM(AI71+AJ71) -> 490.14 | AL71: =SUM(AG71+AK71) -> 1240.8
A72: =SUM(A71)+1 -> 71 | B72: 1 | C72: Centro | D72: Perugia Uff. PRA Dir. T. | E72: Umbria | F72: Perugia (D.T.) | G72: =SUM('[1]determ. costi visite'!AB1057:AB1075) -> 19 | I72: =SUM(G72+H72) -> 19 | J72: 1 | K72: NO | M72: =SUM('Elenco attività ACI'!$D$3) -> 250.22 | O72: =SUM('Elenco attività ACI'!$D$7) -> 8.47 | P72: =SUM(N72*O72) -> 0 | R72: =SUM('Elenco attività ACI'!$D$12) -> 9.88 | S72: =SUM(Q72*R72) -> 0 | U72: =SUM('Elenco attività ACI'!$D$14) -> 6.92 | V72: =SUM(T72)*U72 -> 0 | W72: =SUM(M72+P72+S72+V72) -> 250.22 | X72: =SUM('Elenco attività ACI'!$D$18) -> 125.11 | Y72: =SUM('Elenco attività ACI'!$D$22) -> 5.11 | Z72: =SUM(N72*Y72) -> 0 | AA72: =SUM('Elenco attività ACI'!$D$27) -> 5.11 | AB72: =SUM(Q72*AA72) -> 0 | AC72: =SUM('Elenco attività ACI'!$D$29) -> 3.8 | AD72: =SUM(T72)*AC72 -> 0 | AE72: =SUM(X72+Z72+AB72+AD71) -> 125.11 | AF72: =SUM(W72+AE72) -> 375.33 | AG72: =SUM(AF72)*$AM$1 -> 750.66 | AH72: =SUM('[1]Costi misura'!Q137:Q138) -> 19 | AI72: =SUM(AH72)*$AN$1 -> 996.93 | AJ72: =SUM(AH72)*$AO$1 -> 333.45 | AK72: =SUM(AI72+AJ72) -> 1330.38 | AL72: =SUM(AG72+AK72) -> 2081.04
A73: =SUM(A72)+1 -> 72 | B73: 1 | C73: Centro | D73: Perugia Uff. PRA Dir. T. | E73: Umbria | F73: Terni | G73: =SUM('[1]determ. costi visite'!AB2074:AB2081) -> 8 | H73: =SUM('[1]determ. costi visite'!T927) -> 1 | I73: =SUM(G73+H73) -> 9 | J73: 1 | K73: NO | M73: =SUM('Elenco attività ACI'!$D$3) -> 250.22 | O73: =SUM('Elenco attività ACI'!$D$7) -> 8.47 | P73: =SUM(N73*O73) -> 0 | R73: =SUM('Elenco attività ACI'!$D$12) -> 9.88 | S73: =SUM(Q73*R73) -> 0 | U73: =SUM('Elenco attività ACI'!$D$14) -> 6.92 | V73: =SUM(T73)*U73 -> 0 | W73: =SUM(M73+P73+S73+V73) -> 250.22 | X73: =SUM('Elenco attività ACI'!$D$18) -> 125.11 | Y73: =SUM('Elenco attività ACI'!$D$22) -> 5.11 | Z73: =SUM(N73*Y73) -> 0 | AA73: =SUM('Elenco attività ACI'!$D$27) -> 5.11 | AB73: =SUM(Q73*AA73) -> 0 | AC73: =SUM('Elenco attività ACI'!$D$29) -> 3.8 | AD73: =SUM(T73)*AC73 -> 0 | AE73: =SUM(X73+Z73+AB73+AD72) -> 125.11 | AF73: =SUM(W73+AE73) -> 375.33 | AG73: =SUM(AF73)*$AM$1 -> 750.66 | AH73: =SUM('[1]Costi misura'!Q139:Q140) -> 9 | AI73: =SUM(AH73)*$AN$1 -> 472.23 | AJ73: =SUM(AH73)*$AO$1 -> 157.95 | AK73: =SUM(AI73+AJ73) -> 630.18 | AL73: =SUM(AG73+AK73) -> 1380.84
A74: =SUM(A73)+1 -> 73 | B74: 1 | C74: Centro | D74: RM Sede Centrale | E74: Lazio | F74: Roma (Via Marsala) | G74: =SUM('[1]determ. costi visite'!AB1321:AB1880) -> 560 | I74: =SUM(G74+H74) -> 560 | J74: NO | K74: NO | L74: 1 | M74: =SUM('Elenco attività ACI'!D10) -> 291.76 | N74: 30 | O74: =SUM('Elenco attività ACI'!$D$7) -> 8.47 | P74: =SUM(N74*O74) -> 254.1 | Q74: 150 | R74: =SUM('Elenco attività ACI'!$D$12) -> 9.88 | S74: =SUM(Q74*R74) -> 1482 | T74: 360 | U74: =SUM('Elenco attività ACI'!$D$14) -> 6.92 | V74: =SUM(T74)*U74 -> 2491.2 | W74: =SUM(M74+P74+S74+V74) -> 4519.06 | X74: =SUM('Elenco attività ACI'!$D$18) -> 125.11 | Y74: =SUM('Elenco attività ACI'!$D$22) -> 5.11 | Z74: =SUM(N74*Y74) -> 153.3 | AA74: =SUM('Elenco attività ACI'!$D$27) -> 5.11 | AB74: =SUM(Q74*AA74) -> 766.5 | AC74: =SUM('Elenco attività ACI'!$D$29) -> 3.8 | AD74: =SUM(T74)*AC74 -> 1368 | AE74: =SUM(X74+Z74+AB74+AD73) -> 1044.91 | AF74: =SUM(W74+AE74) -> 5563.97 | AG74: =SUM(AF74)*$AM$1 -> 11127.94 | AH74: =SUM('[1]Costi misura'!Q141) -> 508 | AI74: =SUM(AH74)*$AN$1 -> 26654.76 | AJ74: =SUM(AH74)*$AO$1 -> 8915.4 | AK74: =SUM(AI74+AJ74) -> 35570.16 | AL74: =SUM(AG74+AK74) -> 46698.1
A75: =SUM(A74)+1 -> 74 | B75: 1 | C75: Centro | D75: Roma Uff. PRA. Area M. | E75: Lazio | F75: Frosinone | G75: =SUM('[1]determ. costi visite'!AB495:AB508) -> 14 | H75: =SUM('[1]determ. costi visite'!T495) -> 1 | I75: =SUM(G75+H75) -> 15 | J75: 1 | K75: NO | M75: =SUM('Elenco attività ACI'!$D$3) -> 250.22 | O75: =SUM('Elenco attività ACI'!$D$7) -> 8.47 | P75: =SUM(N75*O75) -> 0 | R75: =SUM('Elenco attività ACI'!$D$12) -> 9.88 | S75: =SUM(Q75*R75) -> 0 | U75: =SUM('Elenco attività ACI'!$D$14) -> 6.92 | V75: =SUM(T75)*U75 -> 0 | W75: =SUM(M75+P75+S75+V75) -> 250.22 | X75: =SUM('Elenco attività ACI'!$D$18) -> 125.11 | Y75: =SUM('Elenco attività ACI'!$D$22) -> 5.11 | Z75: =SUM(N75*Y75) -> 0 | AA75: =SUM('Elenco attività ACI'!$D$27) -> 5.11 | AB75: =SUM(Q75*AA75) -> 0 | AC75: =SUM('Elenco attività ACI'!$D$29) -> 3.8 | AD75: =SUM(T75)*AC75 -> 0 | AE75: =SUM(X75+Z75+AB75+AD74) -> 1493.11 | AF75: =SUM(W75+AE75) -> 1743.33 | AG75: =SUM(AF75)*$AM$1 -> 3486.66 | AH75: =SUM('[1]Costi misura'!Q142:Q143) -> 15 | AI75: =SUM(AH75)*$AN$1 -> 787.05 | AJ75: =SUM(AH75)*$AO$1 -> 263.25 | AK75: =SUM(AI75+AJ75) -> 1050.3 | AL75: =SUM(AG75+AK75) -> 4536.96
A76: =SUM(A75)+1 -> 75 | B76: 1 | C76: Centro | D76: Roma Uff. PRA. Area M. | E76: Lazio | F76: Latina | G76: =SUM('[1]determ. costi visite'!AB618:AB631) -> 14 | H76: =SUM('[1]determ. costi visite'!T880) -> 1 | I76: =SUM(G76+H76) -> 15 | J76: 1 | K76: NO | M76: =SUM('Elenco attività ACI'!$D$3) -> 250.22 | O76: =SUM('Elenco attività ACI'!$D$7) -> 8.47 | P76: =SUM(N76*O76) -> 0 | R76: =SUM('Elenco attività ACI'!$D$12) -> 9.88 | S76: =SUM(Q76*R76) -> 0 | U76: =SUM('Elenco attività ACI'!$D$14) -> 6.92 | V76: =SUM(T76)*U76 -> 0 | W76: =SUM(M76+P76+S76+V76) -> 250.22 | X76: =SUM('Elenco attività ACI'!$D$18) -> 125.11 | Y76: =SUM('Elenco attività ACI'!$D$22) -> 5.11 | Z76: =SUM(N76*Y76) -> 0 | AA76: =SUM('Elenco attività ACI'!$D$27) -> 5.11 | AB76: =SUM(Q76*AA76) -> 0 | AC76: =SUM('Elenco attività ACI'!$D$29) -> 3.8 | AD76: =SUM(T76)*AC76 -> 0 | AE76: =SUM(X76+Z76+AB76+AD75) -> 125.11 | AF76: =SUM(W76+AE76) -> 375.33 | AG76: =SUM(AF76)*$AM$1 -> 750.66 | AH76: =SUM('[1]Costi misura'!Q144:Q145) -> 14 | AI76: =SUM(AH76)*$AN$1 -> 734.58 | AJ76: =SUM(AH76)*$AO$1 -> 245.7 | AK76: =SUM(AI76+AJ76) -> 980.28 | AL76: =SUM(AG76+AK76) -> 1730.94
A77: =SUM(A76)+1 -> 76 | B77: 1 | C77: Centro | D77: Roma Uff. PRA. Area M. | E77: Lazio | F77: Rieti | G77: =SUM('[1]determ. costi visite'!AB1225:AB1231) -> 7 | I77: =SUM(G77+H77) -> 7 | J77: 1 | K77: NO | M77: =SUM('Elenco attività ACI'!$D$3) -> 250.22 | O77: =SUM('Elenco attività ACI'!$D$7) -> 8.47 | P77: =SUM(N77*O77) -> 0 | R77: =SUM('Elenco attività ACI'!$D$12) -> 9.88 | S77: =SUM(Q77*R77) -> 0 | U77: =SUM('Elenco attività ACI'!$D$14) -> 6.92 | V77: =SUM(T77)*U77 -> 0 | W77: =SUM(M77+P77+S77+V77) -> 250.22 | X77: =SUM('Elenco attività ACI'!$D$18) -> 125.11 | Y77: =SUM('Elenco attività ACI'!$D$22) -> 5.11 | Z77: =SUM(N77*Y77) -> 0 | AA77: =SUM('Elenco attività ACI'!$D$27) -> 5.11 | AB77: =SUM(Q77*AA77) -> 0 | AC77: =SUM('Elenco attività ACI'!$D$29) -> 3.8 | AD77: =SUM(T77)*AC77 -> 0 | AE77: =SUM(X77+Z77+AB77+AD76) -> 125.11 | AF77: =SUM(W77+AE77) -> 375.33 | AG77: =SUM(AF77)*$AM$1 -> 750.66 | AH77: =SUM('[1]Costi misura'!Q146:Q147) -> 7 | AI77: =SUM(AH77)*$AN$1 -> 367.29 | AJ77: =SUM(AH77)*$AO$1 -> 122.85 | AK77: =SUM(AI77+AJ77) -> 490.14 | AL77: =SUM(AG77+AK77) -> 1240.8
A78: =SUM(A77)+1 -> 77 | B78: 1 | C78: Centro | D78: Roma Uff. PRA. Area M. | E78: Lazio | F78: Roma (A.M.) | G78: =SUM('[1]determ. costi visite'!AB1232:AB1320) -> 89 | H78: 1 | I78: =SUM(G78+H78) -> 90 | J78: NO | K78: NO | L78: 1 | M78: =SUM('Elenco attività ACI'!D10) -> 291.76 | N78: 30 | O78: =SUM('Elenco attività ACI'!$D$7) -> 8.47 | P78: =SUM(N78*O78) -> 254.1 | Q78: 40 | R78: =SUM('Elenco attività ACI'!$D$12) -> 9.88 | S78: =SUM(Q78*R78) -> 395.2 | U78: =SUM('Elenco attività ACI'!$D$14) -> 6.92 | V78: =SUM(T78)*U78 -> 0 | W78: =SUM(M78+P78+S78+V78) -> 941.06 | X78: =SUM('Elenco attività ACI'!$D$18) -> 125.11 | Y78: =SUM('Elenco attività ACI'!$D$22) -> 5.11 | Z78: =SUM(N78*Y78) -> 153.3 | AA78: =SUM('Elenco attività ACI'!$D$27) -> 5.11 | AB78: =SUM(Q78*AA78) -> 204.4 | AC78: =SUM('Elenco attività ACI'!$D$29) -> 3.8 | AD78: =SUM(T78)*AC78 -> 0 | AE78: =SUM(X78+Z78+AB78+AD77) -> 482.81 | AF78: =SUM(W78+AE78) -> 1423.87 | AG78: =SUM(AF78)*$AM$1 -> 2847.74 | AH78: =SUM('[1]Costi misura'!Q148:Q149) -> 84 | AI78: =SUM(AH78)*$AN$1 -> 4407.48 | AJ78: =SUM(AH78)*$AO$1 -> 1474.2 | AK78: =SUM(AI78+AJ78) -> 5881.68 | AL78: =SUM(AG78+AK78) -> 8729.42
A79: =SUM(A78)+1 -> 78 | B79: 1 | C79: Centro | D79: Roma Uff. PRA. Area M. | E79: Lazio | F79: Viterbo | G79: =SUM('[1]determ. costi visite'!AB2226:AB2238) -> 13 | H79: =SUM('[1]determ. costi visite'!T937) -> 1 | I79: =SUM(G79+H79) -> 14 | J79: 1 | K79: NO | M79: =SUM('Elenco attività ACI'!$D$3) -> 250.22 | O79: =SUM('Elenco attività ACI'!$D$7) -> 8.47 | P79: =SUM(N79*O79) -> 0 | R79: =SUM('Elenco attività ACI'!$D$12) -> 9.88 | S79: =SUM(Q79*R79) -> 0 | U79: =SUM('Elenco attività ACI'!$D$14) -> 6.92 | V79: =SUM(T79)*U79 -> 0 | W79: =SUM(M79+P79+S79+V79) -> 250.22 | X79: =SUM('Elenco attività ACI'!$D$18) -> 125.11 | Y79: =SUM('Elenco attività ACI'!$D$22) -> 5.11 | Z79: =SUM(N79*Y79) -> 0 | AA79: =SUM('Elenco attività ACI'!$D$27) -> 5.11 | AB79: =SUM(Q79*AA79) -> 0 | AC79: =SUM('Elenco attività ACI'!$D$29) -> 3.8 | AD79: =SUM(T79)*AC79 -> 0 | AE79: =SUM(X79+Z79+AB79+AD78) -> 125.11 | AF79: =SUM(W79+AE79) -> 375.33 | AG79: =SUM(AF79)*$AM$1 -> 750.66 | AH79: =SUM('[1]Costi misura'!Q150:Q151) -> 14 | AI79: =SUM(AH79)*$AN$1 -> 734.58 | AJ79: =SUM(AH79)*$AO$1 -> 245.7 | AK79: =SUM(AI79+AJ79) -> 980.28 | AL79: =SUM(AG79+AK79) -> 1730.94
A80: =SUM(A79)+1 -> 79 | B80: 1 | C80: Sud | D80: Bari Uff. PRA Dir. T. | E80: Molise | F80: Campobasso | G80: =SUM('[1]determ. costi visite'!AB275:AB282) -> 8 | H80: =SUM('[1]determ. costi visite'!T860) -> 1 | I80: =SUM(G80+H80) -> 9 | J80: 1 | K80: NO | M80: =SUM('Elenco attività ACI'!$D$3) -> 250.22 | O80: =SUM('Elenco attività ACI'!$D$7) -> 8.47 | P80: =SUM(N80*O80) -> 0 | R80: =SUM('Elenco attività ACI'!$D$12) -> 9.88 | S80: =SUM(Q80*R80) -> 0 | U80: =SUM('Elenco attività ACI'!$D$14) -> 6.92 | V80: =SUM(T80)*U80 -> 0 | W80: =SUM(M80+P80+S80+V80) -> 250.22 | X80: =SUM('Elenco attività ACI'!$D$18) -> 125.11 | Y80: =SUM('Elenco attività ACI'!$D$22) -> 5.11 | Z80: =SUM(N80*Y80) -> 0 | AA80: =SUM('Elenco attività ACI'!$D$27) -> 5.11 | AB80: =SUM(Q80*AA80) -> 0 | AC80: =SUM('Elenco attività ACI'!$D$29) -> 3.8 | AD80: =SUM(T80)*AC80 -> 0 | AE80: =SUM(X80+Z80+AB80+AD79) -> 125.11 | AF80: =SUM(W80+AE80) -> 375.33 | AG80: =SUM(AF80)*$AM$1 -> 750.66 | AH80: =SUM('[1]Costi misura'!Q152:Q153) -> 9 | AI80: =SUM(AH80)*$AN$1 -> 472.23 | AJ80: =SUM(AH80)*$AO$1 -> 157.95 | AK80: =SUM(AI80+AJ80) -> 630.18 | AL80: =SUM(AG80+AK80) -> 1380.84
A81: =SUM(A80)+1 -> 80 | B81: 1 | C81: Sud | D81: Bari Uff. PRA Dir. T. | E81: Molise | F81: Isernia | G81: =SUM('[1]determ. costi visite'!AB554:AB559) -> 6 | I81: =SUM(G81+H81) -> 6 | J81: 1 | K81: NO | M81: =SUM('Elenco attività ACI'!$D$3) -> 250.22 | O81: =SUM('Elenco attività ACI'!$D$7) -> 8.47 | P81: =SUM(N81*O81) -> 0 | R81: =SUM('Elenco attività ACI'!$D$12) -> 9.88 | S81: =SUM(Q81*R81) -> 0 | U81: =SUM('Elenco attività ACI'!$D$14) -> 6.92 | V81: =SUM(T81)*U81 -> 0 | W81: =SUM(M81+P81+S81+V81) -> 250.22 | X81: =SUM('Elenco attività ACI'!$D$18) -> 125.11 | Y81: =SUM('Elenco attività ACI'!$D$22) -> 5.11 | Z81: =SUM(N81*Y81) -> 0 | AA81: =SUM('Elenco attività ACI'!$D$27) -> 5.11 | AB81: =SUM(Q81*AA81) -> 0 | AC81: =SUM('Elenco attività ACI'!$D$29) -> 3.8 | AD81: =SUM(T81)*AC81 -> 0 | AE81: =SUM(X81+Z81+AB81+AD80) -> 125.11 | AF81: =SUM(W81+AE81) -> 375.33 | AG81: =SUM(AF81)*$AM$1 -> 750.66 | AH81: =SUM('[1]Costi misura'!Q154) -> 5 | AI81: =SUM(AH81)*$AN$1 -> 262.35 | AJ81: =SUM(AH81)*$AO$1 -> 87.75 | AK81: =SUM(AI81+AJ81) -> 350.1 | AL81: =SUM(AG81+AK81) -> 1100.76
A82: =SUM(A81)+1 -> 81 | B82: 1 | C82: Sud | D82: Bari Uff. PRA Dir. T. | E82: Puglia | F82: Bari (D.T.) | G82: =SUM('[1]determ. costi visite'!AB93:AB127) -> 35 | H82: =SUM('[1]determ. costi visite'!T850) -> 1 | I82: =SUM(G82+H82) -> 36 | J82: NO | K82: 1 | M82: =SUM('Elenco attività ACI'!$D$3) -> 250.22 | N82: 16 | O82: =SUM('Elenco attività ACI'!$D$7) -> 8.47 | P82: =SUM(N82*O82) -> 135.52 | R82: =SUM('Elenco attività ACI'!$D$12) -> 9.88 | S82: =SUM(Q82*R82) -> 0 | U82: =SUM('Elenco attività ACI'!$D$14) -> 6.92 | V82: =SUM(T82)*U82 -> 0 | W82: =SUM(M82+P82+S82+V82) -> 385.74 | X82: =SUM('Elenco attività ACI'!$D$18) -> 125.11 | Y82: =SUM('Elenco attività ACI'!$D$22) -> 5.11 | Z82: =SUM(N82*Y82) -> 81.76 | AA82: =SUM('Elenco attività ACI'!$D$27) -> 5.11 | AB82: =SUM(Q82*AA82) -> 0 | AC82: =SUM('Elenco attività ACI'!$D$29) -> 3.8 | AD82: =SUM(T82)*AC82 -> 0 | AE82: =SUM(X82+Z82+AB82+AD81) -> 206.87 | AF82: =SUM(W82+AE82) -> 592.61 | AG82: =SUM(AF82)*$AM$1 -> 1185.22 | AH82: =SUM('[1]Costi misura'!Q155:Q156) -> 35 | AI82: =SUM(AH82)*$AN$1 -> 1836.45 | AJ82: =SUM(AH82)*$AO$1 -> 614.25 | AK82: =SUM(AI82+AJ82) -> 2450.7 | AL82: =SUM(AG82+AK82) -> 3635.92
A83: =SUM(A82)+1 -> 82 | B83: 1 | C83: Sud | D83: Bari Uff. PRA Dir. T. | E83: Puglia | F83: Brindisi | G83: =SUM('[1]determ. costi visite'!AB206:AB215) -> 10 | H83: =SUM('[1]determ. costi visite'!T856) -> 1 | I83: =SUM(G83+H83) -> 11 | J83: 1 | K83: NO | M83: =SUM('Elenco attività ACI'!$D$3) -> 250.22 | O83: =SUM('Elenco attività ACI'!$D$7) -> 8.47 | P83: =SUM(N83*O83) -> 0 | R83: =SUM('Elenco attività ACI'!$D$12) -> 9.88 | S83: =SUM(Q83*R83) -> 0 | U83: =SUM('Elenco attività ACI'!$D$14) -> 6.92 | V83: =SUM(T83)*U83 -> 0 | W83: =SUM(M83+P83+S83+V83) -> 250.22 | X83: =SUM('Elenco attività ACI'!$D$18) -> 125.11 | Y83: =SUM('Elenco attività ACI'!$D$22) -> 5.11 | Z83: =SUM(N83*Y83) -> 0 | AA83: =SUM('Elenco attività ACI'!$D$27) -> 5.11 | AB83: =SUM(Q83*AA83) -> 0 | AC83: =SUM('Elenco attività ACI'!$D$29) -> 3.8 | AD83: =SUM(T83)*AC83 -> 0 | AE83: =SUM(X83+Z83+AB83+AD82) -> 125.11 | AF83: =SUM(W83+AE83) -> 375.33 | AG83: =SUM(AF83)*$AM$1 -> 750.66 | AH83: =SUM('[1]Costi misura'!Q157:Q158) -> 11 | AI83: =SUM(AH83)*$AN$1 -> 577.17 | AJ83: =SUM(AH83)*$AO$1 -> 193.05 | AK83: =SUM(AI83+AJ83) -> 770.22 | AL83: =SUM(AG83+AK83) -> 1520.88
A84: =SUM(A83)+1 -> 83 | B84: 1 | C84: Sud | D84: Bari Uff. PRA Dir. T. | E84: Puglia | F84: Foggia | G84: =SUM('[1]determ. costi visite'!AB450:AB466) -> 17 | H84: =SUM('[1]determ. costi visite'!T872) -> 1 | I84: =SUM(G84+H84) -> 18 | J84: 1 | K84: NO | M84: =SUM('Elenco attività ACI'!$D$3) -> 250.22 | O84: =SUM('Elenco attività ACI'!$D$7) -> 8.47 | P84: =SUM(N84*O84) -> 0 | R84: =SUM('Elenco attività ACI'!$D$12) -> 9.88 | S84: =SUM(Q84*R84) -> 0 | U84: =SUM('Elenco attività ACI'!$D$14) -> 6.92 | V84: =SUM(T84)*U84 -> 0 | W84: =SUM(M84+P84+S84+V84) -> 250.22 | X84: =SUM('Elenco attività ACI'!$D$18) -> 125.11 | Y84: =SUM('Elenco attività ACI'!$D$22) -> 5.11 | Z84: =SUM(N84*Y84) -> 0 | AA84: =SUM('Elenco attività ACI'!$D$27) -> 5.11 | AB84: =SUM(Q84*AA84) -> 0 | AC84: =SUM('Elenco attività ACI'!$D$29) -> 3.8 | AD84: =SUM(T84)*AC84 -> 0 | AE84: =SUM(X84+Z84+AB84+AD83) -> 125.11 | AF84: =SUM(W84+AE84) -> 375.33 | AG84: =SUM(AF84)*$AM$1 -> 750.66 | AH84: =SUM('[1]Costi misura'!Q159:Q160) -> 18 | AI84: =SUM(AH84)*$AN$1 -> 944.46 | AJ84: =SUM(AH84)*$AO$1 -> 315.9 | AK84: =SUM(AI84+AJ84) -> 1260.36 | AL84: =SUM(AG84+AK84) -> 2011.02
A85: =SUM(A84)+1 -> 84 | B85: 1 | C85: Sud | D85: Bari Uff. PRA Dir. T. | E85: Puglia | F85: Lecce | G85: =SUM('[1]determ. costi visite'!AB580:AB598) -> 19 | H85: =SUM('[1]determ. costi visite'!T881) -> 1 | I85: =SUM(G85+H85) -> 20 | J85: 1 | K85: NO | M85: =SUM('Elenco attività ACI'!$D$3) -> 250.22 | O85: =SUM('Elenco attività ACI'!$D$7) -> 8.47 | P85: =SUM(N85*O85) -> 0 | R85: =SUM('Elenco attività ACI'!$D$12) -> 9.88 | S85: =SUM(Q85*R85) -> 0 | U85: =SUM('Elenco attività ACI'!$D$14) -> 6.92 | V85: =SUM(T85)*U85 -> 0 | W85: =SUM(M85+P85+S85+V85) -> 250.22 | X85: =SUM('Elenco attività ACI'!$D$18) -> 125.11 | Y85: =SUM('Elenco attività ACI'!$D$22) -> 5.11 | Z85: =SUM(N85*Y85) -> 0 | AA85: =SUM('Elenco attività ACI'!$D$27) -> 5.11 | AB85: =SUM(Q85*AA85) -> 0 | AC85: =SUM('Elenco attività ACI'!$D$29) -> 3.8 | AD85: =SUM(T85)*AC85 -> 0 | AE85: =SUM(X85+Z85+AB85+AD84) -> 125.11 | AF85: =SUM(W85+AE85) -> 375.33 | AG85: =SUM(AF85)*$AM$1 -> 750.66 | AH85: =SUM('[1]Costi misura'!Q161:Q162) -> 20 | AI85: =SUM(AH85)*$AN$1 -> 1049.4 | AJ85: =SUM(AH85)*$AO$1 -> 351 | AK85: =SUM(AI85+AJ85) -> 1400.4 | AL85: =SUM(AG85+AK85) -> 2151.06
A86: =SUM(A85)+1 -> 85 | B86: 1 | C86: Sud | D86: Bari Uff. PRA Dir. T. | E86: Puglia | F86: Taranto | G86: =SUM('[1]determ. costi visite'!AB1985:AB1997) -> 13 | H86: =SUM('[1]determ. costi visite'!T922) -> 1 | I86: =SUM(G86+H86) -> 14 | J86: 1 | K86: NO | M86: =SUM('Elenco attività ACI'!$D$3) -> 250.22 | O86: =SUM('Elenco attività ACI'!$D$7) -> 8.47 | P86: =SUM(N86*O86) -> 0 | R86: =SUM('Elenco attività ACI'!$D$12) -> 9.88 | S86: =SUM(Q86*R86) -> 0 | U86: =SUM('Elenco attività ACI'!$D$14) -> 6.92 | V86: =SUM(T86)*U86 -> 0 | W86: =SUM(M86+P86+S86+V86) -> 250.22 | X86: =SUM('Elenco attività ACI'!$D$18) -> 125.11 | Y86: =SUM('Elenco attività ACI'!$D$22) -> 5.11 | Z86: =SUM(N86*Y86) -> 0 | AA86: =SUM('Elenco attività ACI'!$D$27) -> 5.11 | AB86: =SUM(Q86*AA86) -> 0 | AC86: =SUM('Elenco attività ACI'!$D$29) -> 3.8 | AD86: =SUM(T86)*AC86 -> 0 | AE86: =SUM(X86+Z86+AB86+AD85) -> 125.11 | AF86: =SUM(W86+AE86) -> 375.33 | AG86: =SUM(AF86)*$AM$1 -> 750.66 | AH86: =SUM('[1]Costi misura'!Q163:Q164) -> 14 | AI86: =SUM(AH86)*$AN$1 -> 734.58 | AJ86: =SUM(AH86)*$AO$1 -> 245.7 | AK86: =SUM(AI86+AJ86) -> 980.28 | AL86: =SUM(AG86+AK86) -> 1730.94
A87: =SUM(A86)+1 -> 86 | B87: 1 | C87: Sud | D87: Catanzaro Uff. Pra Dir. T. | E87: Calabria | F87: Catanzaro (D.T.) | G87: =SUM('[1]determ. costi visite'!AB410:AB422) -> 13 | H87: =SUM('[1]determ. costi visite'!V869) -> 1 | I87: =SUM(G87+H87) -> 14 | J87: 1 | K87: NO | M87: =SUM('Elenco attività ACI'!$D$3) -> 250.22 | O87: =SUM('Elenco attività ACI'!$D$7) -> 8.47 | P87: =SUM(N87*O87) -> 0 | R87: =SUM('Elenco attività ACI'!$D$12) -> 9.88 | S87: =SUM(Q87*R87) -> 0 | U87: =SUM('Elenco attività ACI'!$D$14) -> 6.92 | V87: =SUM(T87)*U87 -> 0 | W87: =SUM(M87+P87+S87+V87) -> 250.22 | X87: =SUM('Elenco attività ACI'!$D$18) -> 125.11 | Y87: =SUM('Elenco attività ACI'!$D$22) -> 5.11 | Z87: =SUM(N87*Y87) -> 0 | AA87: =SUM('Elenco attività ACI'!$D$27) -> 5.11 | AB87: =SUM(Q87*AA87) -> 0 | AC87: =SUM('Elenco attività ACI'!$D$29) -> 3.8 | AD87: =SUM(T87)*AC87 -> 0 | AE87: =SUM(X87+Z87+AB87+AD86) -> 125.11 | AF87: =SUM(W87+AE87) -> 375.33 | AG87: =SUM(AF87)*$AM$1 -> 750.66 | AH87: =SUM('[1]Costi misura'!Q165:Q166) -> 14 | AI87: =SUM(AH87)*$AN$1 -> 734.58 | AJ87: =SUM(AH87)*$AO$1 -> 245.7 | AK87: =SUM(AI87+AJ87) -> 980.28 | AL87: =SUM(AG87+AK87) -> 1730.94
A88: =SUM(A87)+1 -> 87 | B88: 1 | C88: Sud | D88: Catanzaro Uff. Pra Dir. T. | E88: Calabria | F88: Cosenza | G88: =SUM('[1]determ. costi visite'!AB367:AB383) -> 17 | I88: =SUM(G88+H88) -> 17 | J88: 1 | K88: NO | M88: =SUM('Elenco attività ACI'!$D$3) -> 250.22 | O88: =SUM('Elenco attività ACI'!$D$7) -> 8.47 | P88: =SUM(N88*O88) -> 0 | R88: =SUM('Elenco attività ACI'!$D$12) -> 9.88 | S88: =SUM(Q88*R88) -> 0 | U88: =SUM('Elenco attività ACI'!$D$14) -> 6.92 | V88: =SUM(T88)*U88 -> 0 | W88: =SUM(M88+P88+S88+V88) -> 250.22 | X88: =SUM('Elenco attività ACI'!$D$18) -> 125.11 | Y88: =SUM('Elenco attività ACI'!$D$22) -> 5.11 | Z88: =SUM(N88*Y88) -> 0 | AA88: =SUM('Elenco attività ACI'!$D$27) -> 5.11 | AB88: =SUM(Q88*AA88) -> 0 | AC88: =SUM('Elenco attività ACI'!$D$29) -> 3.8 | AD88: =SUM(T88)*AC88 -> 0 | AE88: =SUM(X88+Z88+AB88+AD87) -> 125.11 | AF88: =SUM(W88+AE88) -> 375.33 | AG88: =SUM(AF88)*$AM$1 -> 750.66 | AH88: =SUM('[1]Costi misura'!Q167:Q168) -> 17 | AI88: =SUM(AH88)*$AN$1 -> 891.99 | AJ88: =SUM(AH88)*$AO$1 -> 298.35 | AK88: =SUM(AI88+AJ88) -> 1190.34 | AL88: =SUM(AG88+AK88) -> 1941
A89: =SUM(A88)+1 -> 88 | B89: 1 | C89: Sud | D89: Catanzaro Uff. Pra Dir. T. | E89: Calabria | F89: Crotone | G89: =SUM('[1]determ. costi visite'!AB560:AB568) -> 9 | I89: =SUM(G89+H89) -> 9 | J89: 1 | K89: NO | M89: =SUM('Elenco attività ACI'!$D$3) -> 250.22 | O89: =SUM('Elenco attività ACI'!$D$7) -> 8.47 | P89: =SUM(N89*O89) -> 0 | R89: =SUM('Elenco attività ACI'!$D$12) -> 9.88 | S89: =SUM(Q89*R89) -> 0 | U89: =SUM('Elenco attività ACI'!$D$14) -> 6.92 | V89: =SUM(T89)*U89 -> 0 | W89: =SUM(M89+P89+S89+V89) -> 250.22 | X89: =SUM('Elenco attività ACI'!$D$18) -> 125.11 | Y89: =SUM('Elenco attività ACI'!$D$22) -> 5.11 | Z89: =SUM(N89*Y89) -> 0 | AA89: =SUM('Elenco attività ACI'!$D$27) -> 5.11 | AB89: =SUM(Q89*AA89) -> 0 | AC89: =SUM('Elenco attività ACI'!$D$29) -> 3.8 | AD89: =SUM(T89)*AC89 -> 0 | AE89: =SUM(X89+Z89+AB89+AD88) -> 125.11 | AF89: =SUM(W89+AE89) -> 375.33 | AG89: =SUM(AF89)*$AM$1 -> 750.66 | AH89: =SUM('[1]Costi misura'!Q169) -> 9 | AI89: =SUM(AH89)*$AN$1 -> 472.23 | AJ89: =SUM(AH89)*$AO$1 -> 157.95 | AK89: =SUM(AI89+AJ89) -> 630.18 | AL89: =SUM(AG89+AK89) -> 1380.84
A90: =SUM(A89)+1 -> 89 | B90: 1 | C90: Sud | D90: Catanzaro Uff. Pra Dir. T. | E90: Calabria | F90: Reggio Calabria | G90: =SUM('[1]determ. costi visite'!AB1187:AB1204) -> 18 | I90: =SUM(G90+H90) -> 18 | J90: 1 | K90: NO | M90: =SUM('Elenco attività ACI'!$D$3) -> 250.22 | O90: =SUM('Elenco attività ACI'!$D$7) -> 8.47 | P90: =SUM(N90*O90) -> 0 | R90: =SUM('Elenco attività ACI'!$D$12) -> 9.88 | S90: =SUM(Q90*R90) -> 0 | U90: =SUM('Elenco attività ACI'!$D$14) -> 6.92 | V90: =SUM(T90)*U90 -> 0 | W90: =SUM(M90+P90+S90+V90) -> 250.22 | X90: =SUM('Elenco attività ACI'!$D$18) -> 125.11 | Y90: =SUM('Elenco attività ACI'!$D$22) -> 5.11 | Z90: =SUM(N90*Y90) -> 0 | AA90: =SUM('Elenco attività ACI'!$D$27) -> 5.11 | AB90: =SUM(Q90*AA90) -> 0 | AC90: =SUM('Elenco attività ACI'!$D$29) -> 3.8 | AD90: =SUM(T90)*AC90 -> 0 | AE90: =SUM(X90+Z90+AB90+AD89) -> 125.11 | AF90: =SUM(W90+AE90) -> 375.33 | AG90: =SUM(AF90)*$AM$1 -> 750.66 | AH90: =SUM('[1]Costi misura'!Q170:Q171) -> 17 | AI90: =SUM(AH90)*$AN$1 -> 891.99 | AJ90: =SUM(AH90)*$AO$1 -> 298.35 | AK90: =SUM(AI90+AJ90) -> 1190.34 | AL90: =SUM(AG90+AK90) -> 1941
A91: =SUM(A90)+1 -> 90 | B91: 1 | C91: Sud | D91: Catanzaro Uff. Pra Dir. T. | E91: Calabria | F91: Vibo Valentia | G91: =SUM('[1]determ. costi visite'!AB2239:AB2248) -> 10 | H91: =SUM('[1]determ. costi visite'!T938) -> 1 | I91: =SUM(G91+H91) -> 11 | J91: 1 | K91: NO | M91: =SUM('Elenco attività ACI'!$D$3) -> 250.22 | O91: =SUM('Elenco attività ACI'!$D$7) -> 8.47 | P91: =SUM(N91*O91) -> 0 | R91: =SUM('Elenco attività ACI'!$D$12) -> 9.88 | S91: =SUM(Q91*R91) -> 0 | U91: =SUM('Elenco attività ACI'!$D$14) -> 6.92 | V91: =SUM(T91)*U91 -> 0 | W91: =SUM(M91+P91+S91+V91) -> 250.22 | X91: =SUM('Elenco attività ACI'!$D$18) -> 125.11 | Y91: =SUM('Elenco attività ACI'!$D$22) -> 5.11 | Z91: =SUM(N91*Y91) -> 0 | AA91: =SUM('Elenco attività ACI'!$D$27) -> 5.11 | AB91: =SUM(Q91*AA91) -> 0 | AC91: =SUM('Elenco attività ACI'!$D$29) -> 3.8 | AD91: =SUM(T91)*AC91 -> 0 | AE91: =SUM(X91+Z91+AB91+AD90) -> 125.11 | AF91: =SUM(W91+AE91) -> 375.33 | AG91: =SUM(AF91)*$AM$1 -> 750.66 | AH91: =SUM('[1]Costi misura'!Q172:Q173) -> 11 | AI91: =SUM(AH91)*$AN$1 -> 577.17 | AJ91: =SUM(AH91)*$AO$1 -> 193.05 | AK91: =SUM(AI91+AJ91) -> 770.22 | AL91: =SUM(AG91+AK91) -> 1520.88
A92: =SUM(A91)+1 -> 91 | B92: 1 | C92: Sud | D92: Napoli Uff. PRA Area M. | E92: Campania | F92: Benevento | G92: =SUM('[1]determ. costi visite'!AB160:AB175) -> 16 | I92: =SUM(G92+H92) -> 16 | J92: 1 | K92: NO | M92: =SUM('Elenco attività ACI'!$D$3) -> 250.22 | O92: =SUM('Elenco attività ACI'!$D$7) -> 8.47 | P92: =SUM(N92*O92) -> 0 | R92: =SUM('Elenco attività ACI'!$D$12) -> 9.88 | S92: =SUM(Q92*R92) -> 0 | U92: =SUM('Elenco attività ACI'!$D$14) -> 6.92 | V92: =SUM(T92)*U92 -> 0 | W92: =SUM(M92+P92+S92+V92) -> 250.22 | X92: =SUM('Elenco attività ACI'!$D$18) -> 125.11 | Y92: =SUM('Elenco attività ACI'!$D$22) -> 5.11 | Z92: =SUM(N92*Y92) -> 0 | AA92: =SUM('Elenco attività ACI'!$D$27) -> 5.11 | AB92: =SUM(Q92*AA92) -> 0 | AC92: =SUM('Elenco attività ACI'!$D$29) -> 3.8 | AD92: =SUM(T92)*AC92 -> 0 | AE92: =SUM(X92+Z92+AB92+AD91) -> 125.11 | AF92: =SUM(W92+AE92) -> 375.33 | AG92: =SUM(AF92)*$AM$1 -> 750.66 | AH92: =SUM('[1]Costi misura'!Q174:Q175) -> 16 | AI92: =SUM(AH92)*$AN$1 -> 839.52 | AJ92: =SUM(AH92)*$AO$1 -> 280.8 | AK92: =SUM(AI92+AJ92) -> 1120.32 | AL92: =SUM(AG92+AK92) -> 1870.98
A93: =SUM(A92)+1 -> 92 | B93: 1 | C93: Sud | D93: Napoli Uff. PRA Area M. | E93: Campania | F93: Caserta | G93: =SUM('[1]determ. costi visite'!AB283:AB308) -> 26 | H93: =SUM('[1]determ. costi visite'!T861) -> 1 | I93: =SUM(G93+H93) -> 27 | J93: NO | K93: 1 | M93: =SUM('Elenco attività ACI'!$D$3) -> 250.22 | N93: 7 | O93: =SUM('Elenco attività ACI'!$D$7) -> 8.47 | P93: =SUM(N93*O93) -> 59.29 | R93: =SUM('Elenco attività ACI'!$D$12) -> 9.88 | S93: =SUM(Q93*R93) -> 0 | U93: =SUM('Elenco attività ACI'!$D$14) -> 6.92 | V93: =SUM(T93)*U93 -> 0 | W93: =SUM(M93+P93+S93+V93) -> 309.51 | X93: =SUM('Elenco attività ACI'!$D$18) -> 125.11 | Y93: =SUM('Elenco attività ACI'!$D$22) -> 5.11 | Z93: =SUM(N93*Y93) -> 35.77 | AA93: =SUM('Elenco attività ACI'!$D$27) -> 5.11 | AB93: =SUM(Q93*AA93) -> 0 | AC93: =SUM('Elenco attività ACI'!$D$29) -> 3.8 | AD93: =SUM(T93)*AC93 -> 0 | AE93: =SUM(X93+Z93+AB93+AD92) -> 160.88 | AF93: =SUM(W93+AE93) -> 470.39 | AG93: =SUM(AF93)*$AM$1 -> 940.78 | AH93: =SUM('[1]Costi misura'!Q176:Q177) -> 27 | AI93: =SUM(AH93)*$AN$1 -> 1416.69 | AJ93: =SUM(AH93)*$AO$1 -> 473.85 | AK93: =SUM(AI93+AJ93) -> 1890.54 | AL93: =SUM(AG93+AK93) -> 2831.32
A94: =SUM(A93)+1 -> 93 | B94: 1 | C94: Sud | D94: Napoli Uff. PRA Area M. | E94: Campania | F94: Napoli (A.M) | G94: =SUM('[1]determ. costi visite'!AB785:AB840) -> 56 | I94: =SUM(G94+H94) -> 56 | J94: NO | K94: NO | L94: 1 | M94: =SUM('Elenco attività ACI'!D10) -> 291.76 | N94: 30 | O94: =SUM('Elenco attività ACI'!$D$7) -> 8.47 | P94: =SUM(N94*O94) -> 254.1 | Q94: 6 | R94: =SUM('Elenco attività ACI'!$D$12) -> 9.88 | S94: =SUM(Q94*R94) -> 59.28 | U94: =SUM('Elenco attività ACI'!$D$14) -> 6.92 | V94: =SUM(T94)*U94 -> 0 | W94: =SUM(M94+P94+S94+V94) -> 605.14 | X94: =SUM('Elenco attività ACI'!$D$18) -> 125.11 | Y94: =SUM('Elenco attività ACI'!$D$22) -> 5.11 | Z94: =SUM(N94*Y94) -> 153.3 | AA94: =SUM('Elenco attività ACI'!$D$27) -> 5.11 | AB94: =SUM(Q94*AA94) -> 30.66 | AC94: =SUM('Elenco attività ACI'!$D$29) -> 3.8 | AD94: =SUM(T94)*AC94 -> 0 | AE94: =SUM(X94+Z94+AB94+AD93) -> 309.07 | AF94: =SUM(W94+AE94) -> 914.21 | AG94: =SUM(AF94)*$AM$1 -> 1828.42 | AH94: =SUM('[1]Costi misura'!Q178:Q179) -> 55 | AI94: =SUM(AH94)*$AN$1 -> 2885.85 | AJ94: =SUM(AH94)*$AO$1 -> 965.25 | AK94: =SUM(AI94+AJ94) -> 3851.1 | AL94: =SUM(AG94+AK94) -> 5679.52
A95: =SUM(A94)+1 -> 94 | B95: 1 | C95: Sud | D95: Palermo Uff. PRA Dir. T. | E95: Sicilia | F95: Agrigento | G95: =SUM('[1]determ. costi visite'!AB5:AB11) -> 7 | H95: =SUM('[1]determ. costi visite'!T842) -> 1 | I95: =SUM(G95+H95) -> 8 | J95: 1 | K95: NO | M95: =SUM('Elenco attività ACI'!$D$3) -> 250.22 | O95: =SUM('Elenco attività ACI'!$D$7) -> 8.47 | P95: =SUM(N95*O95) -> 0 | R95: =SUM('Elenco attività ACI'!$D$12) -> 9.88 | S95: =SUM(Q95*R95) -> 0 | U95: =SUM('Elenco attività ACI'!$D$14) -> 6.92 | V95: =SUM(T95)*U95 -> 0 | W95: =SUM(M95+P95+S95+V95) -> 250.22 | X95: =SUM('Elenco attività ACI'!$D$18) -> 125.11 | Y95: =SUM('Elenco attività ACI'!$D$22) -> 5.11 | Z95: =SUM(N95*Y95) -> 0 | AA95: =SUM('Elenco attività ACI'!$D$27) -> 5.11 | AB95: =SUM(Q95*AA95) -> 0 | AC95: =SUM('Elenco attività ACI'!$D$29) -> 3.8 | AD95: =SUM(T95)*AC95 -> 0 | AE95: =SUM(X95+Z95+AB95+AD94) -> 125.11 | AF95: =SUM(W95+AE95) -> 375.33 | AG95: =SUM(AF95)*$AM$1 -> 750.66 | AH95: =SUM('[1]Costi misura'!Q180:Q181) -> 8 | AI95: =SUM(AH95)*$AN$1 -> 419.76 | AJ95: =SUM(AH95)*$AO$1 -> 140.4 | AK95: =SUM(AI95+AJ95) -> 560.16 | AL95: =SUM(AG95+AK95) -> 1310.82
A96: =SUM(A95)+1 -> 95 | B96: 1 | C96: Sud | D96: Palermo Uff. PRA Dir. T. | E96: Sicilia | F96: Caltanissetta | G96: =SUM('[1]determ. costi visite'!AB322:AB329) -> 8 | H96: =SUM('[1]determ. costi visite'!T863) -> 1 | I96: =SUM(G96+H96) -> 9 | J96: 1 | K96: NO | M96: =SUM('Elenco attività ACI'!$D$3) -> 250.22 | O96: =SUM('Elenco attività ACI'!$D$7) -> 8.47 | P96: =SUM(N96*O96) -> 0 | R96: =SUM('Elenco attività ACI'!$D$12) -> 9.88 | S96: =SUM(Q96*R96) -> 0 | U96: =SUM('Elenco attività ACI'!$D$14) -> 6.92 | V96: =SUM(T96)*U96 -> 0 | W96: =SUM(M96+P96+S96+V96) -> 250.22 | X96: =SUM('Elenco attività ACI'!$D$18) -> 125.11 | Y96: =SUM('Elenco attività ACI'!$D$22) -> 5.11 | Z96: =SUM(N96*Y96) -> 0 | AA96: =SUM('Elenco attività ACI'!$D$27) -> 5.11 | AB96: =SUM(Q96*AA96) -> 0 | AC96: =SUM('Elenco attività ACI'!$D$29) -> 3.8 | AD96: =SUM(T96)*AC96 -> 0 | AE96: =SUM(X96+Z96+AB96+AD95) -> 125.11 | AF96: =SUM(W96+AE96) -> 375.33 | AG96: =SUM(AF96)*$AM$1 -> 750.66 | AH96: =SUM('[1]Costi misura'!Q182:Q183) -> 8 | AI96: =SUM(AH96)*$AN$1 -> 419.76 | AJ96: =SUM(AH96)*$AO$1 -> 140.4 | AK96: =SUM(AI96+AJ96) -> 560.16 | AL96: =SUM(AG96+AK96) -> 1310.82
A97: =SUM(A96)+1 -> 96 | B97: 1 | C97: Sud | D97: Palermo Uff. PRA Dir. T. | E97: Sicilia | F97: Catania | G97: =SUM('[1]determ. costi visite'!AB384:AB409) -> 26 | H97: =SUM('[1]determ. costi visite'!T841)+'[1]determ. costi visite'!T868 -> 2 | I97: =SUM(G97+H97) -> 28 | J97: NO | K97: 1 | M97: =SUM('Elenco attività ACI'!$D$3) -> 250.22 | N97: 8 | O97: =SUM('Elenco attività ACI'!$D$7) -> 8.47 | P97: =SUM(N97*O97) -> 67.76 | R97: =SUM('Elenco attività ACI'!$D$12) -> 9.88 | S97: =SUM(Q97*R97) -> 0 | U97: =SUM('Elenco attività ACI'!$D$14) -> 6.92 | V97: =SUM(T97)*U97 -> 0 | W97: =SUM(M97+P97+S97+V97) -> 317.98 | X97: =SUM('Elenco attività ACI'!$D$18) -> 125.11 | Y97: =SUM('Elenco attività ACI'!$D$22) -> 5.11 | Z97: =SUM(N97*Y97) -> 40.88 | AA97: =SUM('Elenco attività ACI'!$D$27) -> 5.11 | AB97: =SUM(Q97*AA97) -> 0 | AC97: =SUM('Elenco attività ACI'!$D$29) -> 3.8 | AD97: =SUM(T97)*AC97 -> 0 | AE97: =SUM(X97+Z97+AB97+AD96) -> 165.99 | AF97: =SUM(W97+AE97) -> 483.97 | AG97: =SUM(AF97)*$AM$1 -> 967.94 | AH97: =SUM('[1]Costi misura'!Q184:Q186) -> 28 | AI97: =SUM(AH97)*$AN$1 -> 1469.16 | AJ97: =SUM(AH97)*$AO$1 -> 491.4 | AK97: =SUM(AI97+AJ97) -> 1960.56 | AL97: =SUM(AG97+AK97) -> 2928.5
A98: =SUM(A97)+1 -> 97 | B98: 1 | C98: Sud | D98: Palermo Uff. PRA Dir. T. | E98: Sicilia | F98: Enna | G98: =SUM('[1]determ. costi visite'!AB423:AB430) -> 8 | I98: =SUM(G98+H98) -> 8 | J98: 1 | K98: NO | M98: =SUM('Elenco attività ACI'!$D$3) -> 250.22 | O98: =SUM('Elenco attività ACI'!$D$7) -> 8.47 | P98: =SUM(N98*O98) -> 0 | R98: =SUM('Elenco attività ACI'!$D$12) -> 9.88 | S98: =SUM(Q98*R98) -> 0 | U98: =SUM('Elenco attività ACI'!$D$14) -> 6.92 | V98: =SUM(T98)*U98 -> 0 | W98: =SUM(M98+P98+S98+V98) -> 250.22 | X98: =SUM('Elenco attività ACI'!$D$18) -> 125.11 | Y98: =SUM('Elenco attività ACI'!$D$22) -> 5.11 | Z98: =SUM(N98*Y98) -> 0 | AA98: =SUM('Elenco attività ACI'!$D$27) -> 5.11 | AB98: =SUM(Q98*AA98) -> 0 | AC98: =SUM('Elenco attività ACI'!$D$29) -> 3.8 | AD98: =SUM(T98)*AC98 -> 0 | AE98: =SUM(X98+Z98+AB98+AD97) -> 125.11 | AF98: =SUM(W98+AE98) -> 375.33 | AG98: =SUM(AF98)*$AM$1 -> 750.66 | AH98: =SUM('[1]Costi misura'!Q187:Q188) -> 8 | AI98: =SUM(AH98)*$AN$1 -> 419.76 | AJ98: =SUM(AH98)*$AO$1 -> 140.4 | AK98: =SUM(AI98+AJ98) -> 560.16 | AL98: =SUM(AG98+AK98) -> 1310.82
A99: =SUM(A98)+1 -> 98 | B99: 1 | C99: Sud | D99: Palermo Uff. PRA Dir. T. | E99: Sicilia | F99: Messina | G99: =SUM('[1]determ. costi visite'!AB733:AB746) -> 14 | H99: =SUM('[1]determ. costi visite'!T885) -> 1 | I99: =SUM(G99+H99) -> 15 | J99: 1 | K99: NO | M99: =SUM('Elenco attività ACI'!$D$3) -> 250.22 | O99: =SUM('Elenco attività ACI'!$D$7) -> 8.47 | P99: =SUM(N99*O99) -> 0 | R99: =SUM('Elenco attività ACI'!$D$12) -> 9.88 | S99: =SUM(Q99*R99) -> 0 | U99: =SUM('Elenco attività ACI'!$D$14) -> 6.92 | V99: =SUM(T99)*U99 -> 0 | W99: =SUM(M99+P99+S99+V99) -> 250.22 | X99: =SUM('Elenco attività ACI'!$D$18) -> 125.11 | Y99: =SUM('Elenco attività ACI'!$D$22) -> 5.11 | Z99: =SUM(N99*Y99) -> 0 | AA99: =SUM('Elenco attività ACI'!$D$27) -> 5.11 | AB99: =SUM(Q99*AA99) -> 0 | AC99: =SUM('Elenco attività ACI'!$D$29) -> 3.8 | AD99: =SUM(T99)*AC99 -> 0 | AE99: =SUM(X99+Z99+AB99+AD98) -> 125.11 | AF99: =SUM(W99+AE99) -> 375.33 | AG99: =SUM(AF99)*$AM$1 -> 750.66 | AH99: =SUM('[1]Costi misura'!Q189:Q190) -> 15 | AI99: =SUM(AH99)*$AN$1 -> 787.05 | AJ99: =SUM(AH99)*$AO$1 -> 263.25 | AK99: =SUM(AI99+AJ99) -> 1050.3 | AL99: =SUM(AG99+AK99) -> 1800.96
A100: =SUM(A99)+1 -> 99 | B100: 1 | C100: Sud | D100: Palermo Uff. PRA Dir. T. | E100: Sicilia | F100: Palermo (D.T.) | G100: =SUM('[1]determ. costi visite'!AB982:AB1009) -> 28 | I100: =SUM(G100+H100) -> 28 | J100: NO | K100: 1 | M100: =SUM('Elenco attività ACI'!$D$3) -> 250.22 | N100: 8 | O100: =SUM('Elenco attività ACI'!$D$7) -> 8.47 | P100: =SUM(N100*O100) -> 67.76 | R100: =SUM('Elenco attività ACI'!$D$12) -> 9.88 | S100: =SUM(Q100*R100) -> 0 | U100: =SUM('Elenco attività ACI'!$D$14) -> 6.92 | V100: =SUM(T100)*U100 -> 0 | W100: =SUM(M100+P100+S100+V100) -> 317.98 | X100: =SUM('Elenco attività ACI'!$D$18) -> 125.11 | Y100: =SUM('Elenco attività ACI'!$D$22) -> 5.11 | Z100: =SUM(N100*Y100) -> 40.88 | AA100: =SUM('Elenco attività ACI'!$D$27) -> 5.11 | AB100: =SUM(Q100*AA100) -> 0 | AC100: =SUM('Elenco attività ACI'!$D$29) -> 3.8 | AD100: =SUM(T100)*AC100 -> 0 | AE100: =SUM(X100+Z100+AB100+AD99) -> 165.99 | AF100: =SUM(W100+AE100) -> 483.97 | AG100: =SUM(AF100)*$AM$1 -> 967.94 | AH100: =SUM('[1]Costi misura'!Q191:Q192) -> 28 | AI100: =SUM(AH100)*$AN$1 -> 1469.16 | AJ100: =SUM(AH100)*$AO$1 -> 491.4 | AK100: =SUM(AI100+AJ100) -> 1960.56 | AL100: =SUM(AG100+AK100) -> 2928.5
...

Sheet Elenco attività AC
A1: PSS | B1: SEDI ACI - PIANO DI SORVEGLIANZA SANITARIA (PSS) | F1: OFFERTA
A2: Codice | B2: Attività M.C. e M.C.C. | D2: Valore | E2: Unità di misura | F2: Valore | G2: Unità di misura
A3: PSSUF | B3: Gestione del PSS (fino a 20 lav.) | C3: Forfait base (fino a 20 lavoratori) addetti ad attività d'ufficio | D3: 250.22 | E3: Euro/sede/anno | F3: 0 | G3: Euro/sede/anno
C4: n. sedi: 17 | D4: =SUM(D3)*17 -> 4253.74 | E4: Euro/totale/anno | F4: =SUM(F3)*79 -> 0 | G4: Euro/totale/anno
A5: PSSU1 | B5: Gestione del PSS (da 21 a 50 lav.) | C5: Forfait base (da 21 fino a 50 lavoratori) addetti ad attività d'ufficio | E5: Euro/sede/anno | F5: =SUM($F$3) -> 0 | G5: Euro/sede/anno
D6: =SUM(D5)*13 -> 0 | E6: Euro/totale/anno | F6: =SUM($F$5)*24 -> 0 | G6: Euro/totale/anno
C7: Maggiorazione per ogni unità da 21 a 50 lavoratori addetti ad attività d'ufficio | E7: Euro/sede/anno | F7: 0 | G7: Euro/sede/anno
D8: =SUM(D7)*C8 -> 0 | E8: Euro/totale/anno | F8: =SUM($F$7*1)*2 -> 0 | G8: Euro/totale/semestre
C9: Sub totale | D9: =SUM(D8+D6) -> 0 | E9: Euro/totale/anno | F9: =SUM(F8:F8)+F6 -> 0 | G9: Euro/totale/anno
A10: PSSU2 | B10: Gestione del PSS (da 51 fino a 700 lav.) | C10: Forfait base (da 51 a 200 lavoratori) addetti ad attività d'ufficio | E10: Euro/sede/anno | F10: 0 | G10: Euro/sede/anno
D11: =SUM(D10)*5 -> 0 | E11: Euro/totale/anno | F11: =SUM(F10)*5 -> 0 | G11: Euro/totale/anno
C12: Maggiorazione per ogni unità da 51 a 200 lavoratori addetti ad attività d'ufficio | E12: Euro/lavoratore/anno | F12: 0 | G12: Euro/lavoratore/anno
D13: =SUM(D12)*C13 -> 0 | E13: Euro/totale/anno | F13: =SUM($F$12*30)*2 -> 0 | G13: Euro/totale/anno
C14: Maggiorazione per ogni unità da 201 a 700 lavoratori addetti ad attività d'ufficio | E14: Euro/lavoratore/anno | F14: 0 | G14: Euro/lavoratore/anno
D15: =SUM(C15)*D14 -> 0 | E15: Euro/totale/anno | F15: =SUM($F$14*20)*2 -> 0 | G15: Euro/totale/anno
C16: TotalePSSU2 | D16: =SUM(D11+D13+D15) -> 0 | E16: Euro/totale/anno | F16: =SUM(F11+F13+F15) -> 0 | G16: Euro/totale/anno
A17: TOTALE PSS | D17: =SUM(D4+D9+D16) -> 4253.74 | E17: Euro/totale/anno | F17: =SUM(F4+F9+F16) -> 0 | G17: Euro/totale/anno
A18: FCUF | B18: Funzione di coordinamento | C18: Forfait base (fino a 20 lavoratori) addetti ad attività d'ufficio | D18: 125.11 | E18: Euro/anno | F18: 0 | G18: Euro/anno
C19: n. sedi: 17 | D19: =SUM(D18)*17 -> 2126.87 | E19: Euro/totale/annuo | F19: =SUM(F18)*77 -> 0 | G19: Euro/totale/annuo
A20: FCU1 | B20: Funzione di coordinamento (da 21 a 50 lav.) | C20: Forfait base (da 21 fino a 50 lavoratori) addetti ad attività d'ufficio | E20: Euro/anno | F20: 0 | G20: Euro/anno
D21: =SUM(D20)*13 -> 0 | E21: Euro/totale/anno | F21: =SUM(F20)*24 -> 0 | G21: Euro/totale/anno
C22: Maggiorazione per ogni unità da 21 a 50 lavoratori addetti ad attività d'ufficio | E22: Euro/lavoratore/anno | F22: 0 | G22: Euro/lavoratore/anno
D23: =SUM(C23)*D22 -> 0 | E23: Euro/totale/anno | F23: =SUM($F$22*1)*2 -> 0 | G23: Euro/totale/anno
C24: Sub totale | D24: =SUM(D23:D23)+D21 -> 0 | E24: Euro/totale/anno | F24: =SUM(F23:F23)+F19 -> 0 | G24: Euro/totale/anno
A25: FCU2 | B25: Funzione di coordinamento (da 51 a 700 lav.) | C25: Forfait base (da 51 a 200 lavoratori) addetti ad attività d'ufficio | E25: Euro/anno | F25: =SUM(F18) -> 0 | G25: Euro/anno
D26: =SUM(D25)*5 -> 0 | E26: Euro/totale/anno | F26: =SUM(F25)*5 -> 0 | G26: Euro/totale/anno
C27: Maggiorazione per ogni unità da 51 a 200 lavoratori addetti ad attività d'ufficio | D27: =SUM(D22) -> 0 | E27: Euro/lavoratore/anno | F27: 0 | G27: Euro/lavoratore/anno
D28: =SUM(C28)*D27 -> 0 | E28: Euro/totale/anno | F28: =SUM($F$27*30) -> 0 | G28: Euro/totale/anno
C29: Maggiorazione per ogni unità da 201 a 700 lavoratori addetti ad attività d'ufficio | E29: Euro/lavoratore/anno | F29: 0 | G29: Euro/lavoratore/anno
D30: =SUM(C30)*D29 -> 0 | E30: Euro/totale/anno | F30: =SUM($F$29*20)*2 -> 0 | G30: Euro/totale/anno
C31: Totale FCU2 | D31: =SUM(D26+D28+D30) -> 0 | E31: Euro/totale/anno | F31: =SUM(F26+F28+F30) -> 0 | G31: Euro/totale/anno
A32: TOTALE FC | D32: =SUM(D19+D24+D31) -> 2126.87 | E32: Euro/totale/anno | F32: =SUM(F19+F24+F31) -> 0 | G32: Euro/totale/anno
A33: TOTALE GENERALE PSS + FC | D33: =SUM(D17+D32) -> 6380.61 | E33: Euro/totale/anno | F33: =SUM(F17+F32) -> 0 | G33: Euro/totale/anno
H35: OFFERTA
A36: Codice | B36: Visite ed esami | D36: Valore | E36: Unità di misura | F36: Numero medio presunto di prestazioni richieste nell'anno | G36: Importo complessivo | H36: Valore | I36: Unità di misura | J36: Importo complessivo
A37: VM01 | B37: Visite mediche con giudizio di idoneità e cartella sanitaria | C37: Visita medica (periodica, su richiesta del lavoratore, in occasione di cambio di mansione, in occasione di cessazione del rapporto di lavoro, preventiva in fase preassuntiva, precedente alla ripresa del lavoro) | D37: 52.47 | E37: Euro/visita | F37: 109 | G37: =SUM(F37)*D37 -> 5719.23 | H37: 0 | I37: Euro/visita | J37: =SUM($F$37)*H37 -> 0
A38: ES01 | B38: Esami specialistici | C38: Visita ergoftalmologica (ergovision) | D38: 17.55 | E38: Euro/visita | F38: 109 | G38: =SUM(F38)*D38 -> 1912.95 | H38: 0 | I38: Euro/visita | J38: =SUM($F$38)*H38 -> 0
A39: Sub totale | G39: =SUM(G37:G38) -> 7632.18 | J39: =SUM(J37:J38) -> 0
A40: Oneri della sicurezza non previsti trattandosi di prestazione assimilabile all'intellettuale | G40: 0 | J40: =SUM($K$40) -> 0
A41: TOTALE VISITE | G41: =SUM(G39+G40) -> 7632.18 | J41: =SUM(J39+J40) -> 0 | K41: =SUM(D33)+G41 -> 14012.79 | L41: totale annuo presunto

Sheet Costo servizio A.C.
A1: N. | B1: Area geograf. | C1: Sede | D1: Regione | E1: Città | F1: N. lav. | G1: A.C. fino a 20 lav. | H1: da 21 a 50 lav. | I1: da 51 a 700 lav. | J1: Costo base PSSUF fino a 20 lav. | K1: Delta da 21 a 50 | L1: Magg.ne costo un. base PSSU1 da 21 a 50 lav. | M1: Totale Magg.ne da 21 a 50 | N1: Delta da 51 a 200 lav. | O1: Magg.ne costo un. base PSSU2 da 51 a 200 lav. | P1: Totale Magg.ne da 51 a 200 | Q1: Delta da 200 a 700 lav. | R1: Magg.ne costo un. base PSSU2 da 201 a 700 lav. | S1: Totale Magg.ne da 201 a 700 lav. | T1: Totale PSS annuo | U1: Costo base FCUF fino a 20 lav. | V1: Magg.ne costo un. base FCU1 da 21 a 50 lav. | W1: Totale Magg.ne da 21 a 50 | X1: Magg.ne costo un. base FCU2 da 51 a 200 lav. | Y1: Totale Magg.ne da 51 a 200 | Z1: Magg.ne costo un. base FCU2 da 201 a 700 lav. | AA1: Totale Magg.ne da 201 a 700 lav. | AB1: Totale FC annuo | AC1: Totale PSS + FC annuo | AD1: Totale PSS + FC biennio | AE1: N. visite prev. Annue | AF1: Totale VMG e VMS biennio | AG1: Totale VE biennio | AH1: Totale VMG+VMS+VE biennio | AI1: Totale biennio | AJ1: 2 | AK1: =SUM('Elenco attività AC'!D37) -> 52.47 | AL1: =SUM('Elenco attività AC'!D38) -> 17.55 | AM1: =SUM(AK1:AL1) -> 70.02
A2: 1 | B2: Nord | C2: A.C. Bergamo | D2: Lombardia | E2: Bergamo | F2: 4 | G2: 1 | J2: =SUM('Elenco attività AC'!D3) -> 250.22 | L2: =SUM('Elenco attività AC'!D6) -> 0 | M2: =SUM(K2*L2) -> 0 | O2: =SUM('Elenco attività AC'!D12) -> 0 | P2: =SUM(N2*O2) -> 0 | R2: =SUM('Elenco attività AC'!D14) -> 0 | S2: =SUM(Q2)*R2 -> 0 | T2: =SUM(J2+M2+P2+S2) -> 250.22 | U2: =SUM('Elenco attività AC'!D18) -> 125.11 | AB2: =SUM(U2+W2+Y2+AA2) -> 125.11 | AC2: =SUM(T2+AB2) -> 375.33 | AD2: =SUM(AC2)*$AJ$1 -> 750.66 | AE2: =SUM(F2) -> 4 | AF2: =SUM(AE2)*$AK$1 -> 209.88 | AG2: =SUM(AE2)*$AL$1 -> 70.2 | AH2: =SUM(AF2+AG2) -> 280.08 | AI2: =SUM(AD2+AH2) -> 1030.74
A3: 2 | B3: Nord | C3: Servizi Autoclubbergamo S.r.l. | D3: Lombardia | E3: Bergamo | F3: 11 | G3: 1 | J3: =SUM(J2) -> 250.22 | L3: =SUM(L2) -> 0 | M3: =SUM(K3*L3) -> 0 | O3: =SUM(O2) -> 0 | P3: =SUM(N3*O3) -> 0 | R3: =SUM(R2) -> 0 | S3: =SUM(Q3)*R3 -> 0 | T3: =SUM(J3+M3+P3+S3) -> 250.22 | U3: =SUM(U2) -> 125.11 | AB3: =SUM(U3+W3+Y3+AA2) -> 125.11 | AC3: =SUM(T3+AB3) -> 375.33 | AD3: =SUM(AC3)*$AJ$1 -> 750.66 | AE3: =SUM(F3) -> 11 | AF3: =SUM(AE3)*$AK$1 -> 577.17 | AG3: =SUM(AE3)*$AL$1 -> 193.05 | AH3: =SUM(AF3+AG3) -> 770.22 | AI3: =SUM(AD3+AH3) -> 1520.88
A4: 3 | B4: Nord | C4: A.C. Brescia | D4: Lombardia | E4: Brescia | F4: 6 | G4: 1 | J4: =SUM(J3) -> 250.22 | L4: =SUM(L3) -> 0 | M4: =SUM(K4*L4) -> 0 | O4: =SUM(O3) -> 0 | P4: =SUM(N4*O4) -> 0 | R4: =SUM(R3) -> 0 | S4: =SUM(Q4)*R4 -> 0 | T4: =SUM(J4+M4+P4+S4) -> 250.22 | U4: =SUM(U3) -> 125.11 | AB4: =SUM(U4+W4+Y4+AA3) -> 125.11 | AC4: =SUM(T4+AB4) -> 375.33 | AD4: =SUM(AC4)*$AJ$1 -> 750.66 | AE4: =SUM(F4) -> 6 | AF4: =SUM(AE4)*$AK$1 -> 314.82 | AG4: =SUM(AE4)*$AL$1 -> 105.3 | AH4: =SUM(AF4+AG4) -> 420.12 | AI4: =SUM(AD4+AH4) -> 1170.78
A5: 4 | B5: Nord | C5: ACI Brescia Service S.r.l. | D5: Lombardia | E5: Brescia | F5: 9 | G5: 1 | J5: =SUM(J4) -> 250.22 | L5: =SUM(L4) -> 0 | M5: =SUM(K5*L5) -> 0 | O5: =SUM(O4) -> 0 | P5: =SUM(N5*O5) -> 0 | R5: =SUM(R4) -> 0 | S5: =SUM(Q5)*R5 -> 0 | T5: =SUM(J5+M5+P5+S5) -> 250.22 | U5: =SUM(U4) -> 125.11 | AB5: =SUM(U5+W5+Y5+AA4) -> 125.11 | AC5: =SUM(T5+AB5) -> 375.33 | AD5: =SUM(AC5)*$AJ$1 -> 750.66 | AE5: =SUM(F5) -> 9 | AF5: =SUM(AE5)*$AK$1 -> 472.23 | AG5: =SUM(AE5)*$AL$1 -> 157.95 | AH5: =SUM(AF5+AG5) -> 630.18 | AI5: =SUM(AD5+AH5) -> 1380.84
A6: 5 | B6: Nord | C6: S.A.CRE. S.r.l. | D6: Lombardia | E6: Cremona | F6: 8 | G6: 1 | J6: =SUM(J5) -> 250.22 | L6: =SUM(L5) -> 0 | M6: =SUM(K6*L6) -> 0 | O6: =SUM(O5) -> 0 | P6: =SUM(N6*O6) -> 0 | R6: =SUM(R5) -> 0 | S6: =SUM(Q6)*R6 -> 0 | T6: =SUM(J6+M6+P6+S6) -> 250.22 | U6: =SUM(U5) -> 125.11 | AB6: =SUM(U6+W6+Y6+AA5) -> 125.11 | AC6: =SUM(T6+AB6) -> 375.33 | AD6: =SUM(AC6)*$AJ$1 -> 750.66 | AE6: =SUM(F6) -> 8 | AF6: =SUM(AE6)*$AK$1 -> 419.76 | AG6: =SUM(AE6)*$AL$1 -> 140.4 | AH6: =SUM(AF6+AG6) -> 560.16 | AI6: =SUM(AD6+AH6) -> 1310.82
A7: 6 | B7: Nord | C7: A.C. Pavia | D7: Lombardia | E7: Pavia | F7: 11 | G7: 1 | J7: =SUM(J6) -> 250.22 | L7: =SUM(L6) -> 0 | M7: =SUM(K7*L7) -> 0 | O7: =SUM(O6) -> 0 | P7: =SUM(N7*O7) -> 0 | R7: =SUM(R6) -> 0 | S7: =SUM(Q7)*R7 -> 0 | T7: =SUM(J7+M7+P7+S7) -> 250.22 | U7: =SUM(U6) -> 125.11 | AB7: =SUM(U7+W7+Y7+AA6) -> 125.11 | AC7: =SUM(T7+AB7) -> 375.33 | AD7: =SUM(AC7)*$AJ$1 -> 750.66 | AE7: =SUM(F7) -> 11 | AF7: =SUM(AE7)*$AK$1 -> 577.17 | AG7: =SUM(AE7)*$AL$1 -> 193.05 | AH7: =SUM(AF7+AG7) -> 770.22 | AI7: =SUM(AD7+AH7) -> 1520.88
A8: 7 | B8: Nord | C8: AC Torino | D8: Piemonte | E8: Torino | F8: 9 | G8: 1 | J8: =SUM(J7) -> 250.22 | L8: =SUM(L7) -> 0 | M8: =SUM(K8*L8) -> 0 | O8: =SUM(O7) -> 0 | P8: =SUM(N8*O8) -> 0 | R8: =SUM(R7) -> 0 | S8: =SUM(Q8)*R8 -> 0 | T8: =SUM(J8+M8+P8+S8) -> 250.22 | U8: =SUM(U7) -> 125.11 | AB8: =SUM(U8+W8+Y8+AA7) -> 125.11 | AC8: =SUM(T8+AB8) -> 375.33 | AD8: =SUM(AC8)*$AJ$1 -> 750.66 | AE8: =SUM(F8) -> 9 | AF8: =SUM(AE8)*$AK$1 -> 472.23 | AG8: =SUM(AE8)*$AL$1 -> 157.95 | AH8: =SUM(AF8+AG8) -> 630.18 | AI8: =SUM(AD8+AH8) -> 1380.84
A9: 8 | B9: Centro | C9: A.C. Frosinone | D9: Lazio | E9: Frosinone | F9: 4 | G9: 1 | J9: =SUM(J8) -> 250.22 | L9: =SUM(L8) -> 0 | M9: =SUM(K9*L9) -> 0 | O9: =SUM(O8) -> 0 | P9: =SUM(N9*O9) -> 0 | R9: =SUM(R8) -> 0 | S9: =SUM(Q9)*R9 -> 0 | T9: =SUM(J9+M9+P9+S9) -> 250.22 | U9: =SUM(U8) -> 125.11 | AB9: =SUM(U9+W9+Y9+AA8) -> 125.11 | AC9: =SUM(T9+AB9) -> 375.33 | AD9: =SUM(AC9)*$AJ$1 -> 750.66 | AE9: =SUM(F9) -> 4 | AF9: =SUM(AE9)*$AK$1 -> 209.88 | AG9: =SUM(AE9)*$AL$1 -> 70.2 | AH9: =SUM(AF9+AG9) -> 280.08 | AI9: =SUM(AD9+AH9) -> 1030.74
A10: 9 | B10: Centro | C10: A.C. Pisa | D10: Toscana | E10: Pisa | F10: 5 | G10: 1 | J10: =SUM(J9) -> 250.22 | L10: =SUM(L9) -> 0 | M10: =SUM(K10*L10) -> 0 | O10: =SUM(O9) -> 0 | P10: =SUM(N10*O10) -> 0 | R10: =SUM(R9) -> 0 | S10: =SUM(Q10)*R10 -> 0 | T10: =SUM(J10+M10+P10+S10) -> 250.22 | U10: =SUM(U9) -> 125.11 | AB10: =SUM(U10+W10+Y10+AA9) -> 125.11 | AC10: =SUM(T10+AB10) -> 375.33 | AD10: =SUM(AC10)*$AJ$1 -> 750.66 | AE10: =SUM(F10) -> 5 | AF10: =SUM(AE10)*$AK$1 -> 262.35 | AG10: =SUM(AE10)*$AL$1 -> 87.75 | AH10: =SUM(AF10+AG10) -> 350.1 | AI10: =SUM(AD10+AH10) -> 1100.76
A11: 10 | B11: Centro | C11: ACIACTION S.r.l. | D11: Toscana | E11: Pisa | F11: 10 | G11: 1 | J11: =SUM(J10) -> 250.22 | L11: =SUM(L10) -> 0 | M11: =SUM(K11*L11) -> 0 | O11: =SUM(O10) -> 0 | P11: =SUM(N11*O11) -> 0 | R11: =SUM(R10) -> 0 | S11: =SUM(Q11)*R11 -> 0 | T11: =SUM(J11+M11+P11+S11) -> 250.22 | U11: =SUM(U10) -> 125.11 | AB11: =SUM(U11+W11+Y11+AA10) -> 125.11 | AC11: =SUM(T11+AB11) -> 375.33 | AD11: =SUM(AC11)*$AJ$1 -> 750.66 | AE11: =SUM(F11) -> 10 | AF11: =SUM(AE11)*$AK$1 -> 524.7 | AG11: =SUM(AE11)*$AL$1 -> 175.5 | AH11: =SUM(AF11+AG11) -> 700.2 | AI11: =SUM(AD11+AH11) -> 1450.86
A12: 11 | B12: Centro | C12: Fondazione Caracciolo | D12: Lazio | E12: Roma | F12: 8 | G12: 1 | J12: =SUM(J11) -> 250.22 | L12: =SUM(L11) -> 0 | M12: =SUM(K12*L12) -> 0 | O12: =SUM(O11) -> 0 | P12: =SUM(N12*O12) -> 0 | R12: =SUM(R11) -> 0 | S12: =SUM(Q12)*R12 -> 0 | T12: =SUM(J12+M12+P12+S12) -> 250.22 | U12: =SUM(U11) -> 125.11 | AB12: =SUM(U12+W12+Y12+AA11) -> 125.11 | AC12: =SUM(T12+AB12) -> 375.33 | AD12: =SUM(AC12)*$AJ$1 -> 750.66 | AE12: =SUM(F12) -> 8 | AF12: =SUM(AE12)*$AK$1 -> 419.76 | AG12: =SUM(AE12)*$AL$1 -> 140.4 | AH12: =SUM(AF12+AG12) -> 560.16 | AI12: =SUM(AD12+AH12) -> 1310.82
A13: 12 | B13: Centro | C13: A.C. Roma | D13: Lazio | E13: Roma | F13: 3 | G13: 1 | J13: =SUM(J12) -> 250.22 | L13: =SUM(L12) -> 0 | M13: =SUM(K13*L13) -> 0 | O13: =SUM(O12) -> 0 | P13: =SUM(N13*O13) -> 0 | R13: =SUM(R12) -> 0 | S13: =SUM(Q13)*R13 -> 0 | T13: =SUM(J13+M13+P13+S13) -> 250.22 | U13: =SUM(U12) -> 125.11 | AB13: =SUM(U13+W13+Y13+AA12) -> 125.11 | AC13: =SUM(T13+AB13) -> 375.33 | AD13: =SUM(AC13)*$AJ$1 -> 750.66 | AE13: =SUM(F13) -> 3 | AF13: =SUM(AE13)*$AK$1 -> 157.41 | AG13: =SUM(AE13)*$AL$1 -> 52.65 | AH13: =SUM(AF13+AG13) -> 210.06 | AI13: =SUM(AD13+AH13) -> 960.72
A14: 13 | B14: Centro | C14: ACINSERVICE S.r.l. | D14: Lazio | E14: Roma | F14: 11 | G14: 1 | J14: =SUM(J13) -> 250.22 | L14: =SUM(L13) -> 0 | M14: =SUM(K14*L14) -> 0 | O14: =SUM(O13) -> 0 | P14: =SUM(N14*O14) -> 0 | R14: =SUM(R13) -> 0 | S14: =SUM(Q14)*R14 -> 0 | T14: =SUM(J14+M14+P14+S14) -> 250.22 | U14: =SUM(U13) -> 125.11 | AB14: =SUM(U14+W14+Y14+AA13) -> 125.11 | AC14: =SUM(T14+AB14) -> 375.33 | AD14: =SUM(AC14)*$AJ$1 -> 750.66 | AE14: =SUM(F14) -> 11 | AF14: =SUM(AE14)*$AK$1 -> 577.17 | AG14: =SUM(AE14)*$AL$1 -> 193.05 | AH14: =SUM(AF14+AG14) -> 770.22 | AI14: =SUM(AD14+AH14) -> 1520.88
... A18: 17 | B18: Sud | C18: A.C. Salerno | D18: Campania | E18: Salerno | F18: 3 | G18: 1 | J18: =SUM(J17) -> 250.22 | L18: =SUM(L17) -> 0 | M18: =SUM(K18*L18) -> 0 | O18: =SUM(O17) -> 0 | P18: =SUM(N18*O18) -> 0 | R18: =SUM(R17) -> 0 | S18: =SUM(Q18)*R18 -> 0 | T18: =SUM(J18+M18+P18+S18) -> 250.22 | U18: =SUM(U17) -> 125.11 | AB18: =SUM(U18+W18+Y18+AA17) -> 125.11 | AC18: =SUM(T18+AB18) -> 375.33 | AD18: =SUM(AC18)*$AJ$1 -> 750.66 | AE18: =SUM(F18) -> 3 | AF18: =SUM(AE18)*$AK$1 -> 157.41 | AG18: =SUM(AE18)*$AL$1 -> 52.65 | AH18: =SUM(AF18+AG18) -> 210.06 | AI18: =SUM(AD18+AH18) -> 960.72
E19: TOTALE | F19: 109 | G19: =SUBTOTAL(9,G2:G19) -> 17 | I19: =SUBTOTAL(9,I2:I19) -> 2 | J19: =SUM(J2:J18) -> 4253.74 | T19: =SUM(T2:T18) -> 4253.74 | U19: =SUM(U2:U18) -> 2126.87 | AB19: =SUM(AB2:AB18) -> 2126.87 | AC19: =SUM(AC2:AC18) -> 6380.61 | AD19: =SUM(AD2:AD18) -> 12761.22 | AE19: =SUM(AE2:AE18) -> 109 | AF19: =SUM(AF2:AF18) -> 5719.23 | AG19: =SUM(AG2:AG18) -> 1912.95 | AH19: =SUM(AH2:AH18) -> 7632.18 | AI19: =SUM(AI2:AI18) -> 20393.4
A22: TOTALE SEDI | D22: =SUM(D23:D25) -> 17
A23: 1 - NORD | D23: =SUM(A8) -> 7
A24: 2 - CENTRO | D24: =SUM(A18-D23-D25) -> 9
A25: 3 - SUD | D25: 1
A27: TOTALE SEDI | D27: =SUM(D22) -> 17
A28: Totale lavoratori | D28: =SUM(F19) -> 109
A29: Tot. Servizi a canone biennio | D29: =SUM(AD19) -> 12761.22
A30: Servizi a misura (extra canone)
A31: Tot. visite mediche biennio | D31: =SUM(AH19) -> 7632.18
A32: Esami | D32: 500
A33: Sopralluogo straordinario Sede di lavoro | D33: 5
A34: €/cd. | C34: 200 | D34: =SUM(C34)*D33 -> 1000
A35: Sopralluogo domiciliare per Telelavoro, n° | D35: 0
A36: €/cd. | C36: 110 | D36: =SUM(C36)*D35 -> 0
A37: Totale soprall. Biennio | D37: =SUM(D34+D36) -> 1000
A38: Totale servizi a misura (biennio) | D38: =SUM(D31+D37) -> 8632.18
A39: TOTALE GEN. biennio | D39: =SUM(D29+D38) -> 21393.4
A40: Base asta | D40: =SUM(D39:D39) -> 21393.4
A41: Proroga tecnica max 3 mesi | D41: =SUM(D29/24)*3 -> 1595.1525
A42: Totale generale | D42: =SUM(D40:D41) -> 22988.553
A43: Quinto d'obbligo | D43: =SUM(D42)*1/5 -> 4597.7105
A44: Totale servizi | D44: =SUM(D42:D43) -> 27586.263

Sheet Costi visite
H2: OFFERTA
A3: Codice | B3: Visite ed esami | D3: Valore | E3: Unità di misura | F3: Numero presunto di prestazioni richieste nell'anno | G3: Importo complessivo | H3: Valore | I3: Unità di misura | J3: Importo complessivo
A4: VM01 | B4: Visite mediche con giudizio di idoneità e cartella sanitaria | C4: Visita medica (periodica, su richiesta del lavoratore, in occasione di cambio di mansione, in occasione di cessazione del rapporto di lavoro, preventiva in fase preassuntiva, precedente alla ripresa del lavoro) | E4: Euro/visita | G4: =SUM(F4)*D4 -> 0 | H4: 0 | I4: Euro/visita | J4: =SUM($F$4)*H4 -> 0
A5: ES01 | B5: Esami specialistici | C5: Visita ergoftalmologica (ergovision) | E5: Euro/visita | G5: =SUM(F5)*D5 -> 0 | H5: 0 | I5: Euro/visita | J5: =SUM($F$5)*H5 -> 0
A6: Sub totale | G6: =SUM(G4:G5) -> 0 | J6: =SUM(J4:J5) -> 0
A7: Costo oneri della sicurezza non soggetti al ribasso € | G7: 0 | J7: 0
A8: TOTALE VISITE | G8: =SUM(G6) -> 0 | J8: =SUM(J6) -> 0
C10: Firma digitale del legale rappresentante
A16: EL54
A17: EL55
A18: EL56
A19: EL57
A20: EL58
A21: EL59
A22: EL60
A23: EL61
A24: EL61
A25: extra
